BEGIN:VCALENDAR
VERSION:2.0
PRODID:-//Heartwood Church - ECPv6.15.10//NONSGML v1.0//EN
CALSCALE:GREGORIAN
METHOD:PUBLISH
X-WR-CALNAME:Heartwood Church
X-ORIGINAL-URL:https://heartwood.church
X-WR-CALDESC:Events for Heartwood Church
REFRESH-INTERVAL;VALUE=DURATION:PT1H
X-Robots-Tag:noindex
X-PUBLISHED-TTL:PT1H
BEGIN:VTIMEZONE
TZID:America/Chicago
BEGIN:DAYLIGHT
TZOFFSETFROM:-0600
TZOFFSETTO:-0500
TZNAME:CDT
DTSTART:20230312T080000
END:DAYLIGHT
BEGIN:STANDARD
TZOFFSETFROM:-0500
TZOFFSETTO:-0600
TZNAME:CST
DTSTART:20231105T070000
END:STANDARD
BEGIN:DAYLIGHT
TZOFFSETFROM:-0600
TZOFFSETTO:-0500
TZNAME:CDT
DTSTART:20240310T080000
END:DAYLIGHT
BEGIN:STANDARD
TZOFFSETFROM:-0500
TZOFFSETTO:-0600
TZNAME:CST
DTSTART:20241103T070000
END:STANDARD
BEGIN:DAYLIGHT
TZOFFSETFROM:-0600
TZOFFSETTO:-0500
TZNAME:CDT
DTSTART:20250309T080000
END:DAYLIGHT
BEGIN:STANDARD
TZOFFSETFROM:-0500
TZOFFSETTO:-0600
TZNAME:CST
DTSTART:20251102T070000
END:STANDARD
END:VTIMEZONE
BEGIN:VEVENT
DTSTART;TZID=America/Chicago:20241124T103000
DTEND;TZID=America/Chicago:20241124T140000
DTSTAMP:20260425T060439
CREATED:20240906T143656Z
LAST-MODIFIED:20240906T143656Z
UID:3382-1732444200-1732456800@heartwood.church
SUMMARY:2024 Thanksgiving Worship Service and International Potluck
DESCRIPTION:Heartwood Church\, Shekinah God’s Glory Church\, and Everlasting City Church will worship together\, give thanks\, unified in Christ and sharing our diversity through food!
URL:https://heartwood.church/events/2024-thanksgiving-worship-service-and-international-potluck/
LOCATION:Heartwood Church\, 6477 10th St. N.\, Oakdale\, MN\, 55128\, United States
CATEGORIES:Relationship Building,Worship
ATTACH;FMTTYPE=image/jpeg:https://heartwood.church/wp-content/uploads/2024/09/Combined-Service.jpg
END:VEVENT
END:VCALENDAR