BEGIN:VCALENDAR
VERSION:2.0
PRODID:-//Heartwood Church - ECPv6.15.10//NONSGML v1.0//EN
CALSCALE:GREGORIAN
METHOD:PUBLISH
X-WR-CALNAME:Heartwood Church
X-ORIGINAL-URL:https://heartwood.church
X-WR-CALDESC:Events for Heartwood Church
REFRESH-INTERVAL;VALUE=DURATION:PT1H
X-Robots-Tag:noindex
X-PUBLISHED-TTL:PT1H
BEGIN:VTIMEZONE
TZID:America/Chicago
BEGIN:DAYLIGHT
TZOFFSETFROM:-0600
TZOFFSETTO:-0500
TZNAME:CDT
DTSTART:20250309T080000
END:DAYLIGHT
BEGIN:STANDARD
TZOFFSETFROM:-0500
TZOFFSETTO:-0600
TZNAME:CST
DTSTART:20251102T070000
END:STANDARD
BEGIN:DAYLIGHT
TZOFFSETFROM:-0600
TZOFFSETTO:-0500
TZNAME:CDT
DTSTART:20260308T080000
END:DAYLIGHT
BEGIN:STANDARD
TZOFFSETFROM:-0500
TZOFFSETTO:-0600
TZNAME:CST
DTSTART:20261101T070000
END:STANDARD
BEGIN:DAYLIGHT
TZOFFSETFROM:-0600
TZOFFSETTO:-0500
TZNAME:CDT
DTSTART:20270314T080000
END:DAYLIGHT
BEGIN:STANDARD
TZOFFSETFROM:-0500
TZOFFSETTO:-0600
TZNAME:CST
DTSTART:20271107T070000
END:STANDARD
END:VTIMEZONE
BEGIN:VEVENT
DTSTART;TZID=America/Chicago:20260119T173000
DTEND;TZID=America/Chicago:20260119T193000
DTSTAMP:20260423T191714
CREATED:20260106T172703Z
LAST-MODIFIED:20260313T001541Z
UID:4681-1768843800-1768851000@heartwood.church
SUMMARY:Settled Community Dinner January 2026
DESCRIPTION:Heartwood Church invites you to dream . . . The Next Dream \n\n\n\nJoin the inaugural community potluck dinner as we begin Sacred Settlement Heartwood on Martin Luther King Jr. Day. Find out more about Settled here. \n\n\n\nSign up to contribute something to the meal at Signup Genius.
URL:https://heartwood.church/events/settled-community-dinner/
LOCATION:Heartwood Church\, 6477 10th St. N.\, Oakdale\, MN\, 55128\, United States
CATEGORIES:Relationship Building,Settled Community Event
ATTACH;FMTTYPE=image/png:https://heartwood.church/wp-content/uploads/2026/01/Screenshot-2026-01-06-112331.png
END:VEVENT
END:VCALENDAR