BEGIN:VCALENDAR
VERSION:2.0
PRODID:-//Heartwood Church - ECPv6.15.10//NONSGML v1.0//EN
CALSCALE:GREGORIAN
METHOD:PUBLISH
X-WR-CALNAME:Heartwood Church
X-ORIGINAL-URL:https://heartwood.church
X-WR-CALDESC:Events for Heartwood Church
REFRESH-INTERVAL;VALUE=DURATION:PT1H
X-Robots-Tag:noindex
X-PUBLISHED-TTL:PT1H
BEGIN:VTIMEZONE
TZID:America/Chicago
BEGIN:DAYLIGHT
TZOFFSETFROM:-0600
TZOFFSETTO:-0500
TZNAME:CDT
DTSTART:20230312T080000
END:DAYLIGHT
BEGIN:STANDARD
TZOFFSETFROM:-0500
TZOFFSETTO:-0600
TZNAME:CST
DTSTART:20231105T070000
END:STANDARD
BEGIN:DAYLIGHT
TZOFFSETFROM:-0600
TZOFFSETTO:-0500
TZNAME:CDT
DTSTART:20240310T080000
END:DAYLIGHT
BEGIN:STANDARD
TZOFFSETFROM:-0500
TZOFFSETTO:-0600
TZNAME:CST
DTSTART:20241103T070000
END:STANDARD
BEGIN:DAYLIGHT
TZOFFSETFROM:-0600
TZOFFSETTO:-0500
TZNAME:CDT
DTSTART:20250309T080000
END:DAYLIGHT
BEGIN:STANDARD
TZOFFSETFROM:-0500
TZOFFSETTO:-0600
TZNAME:CST
DTSTART:20251102T070000
END:STANDARD
BEGIN:DAYLIGHT
TZOFFSETFROM:-0600
TZOFFSETTO:-0500
TZNAME:CDT
DTSTART:20260308T080000
END:DAYLIGHT
BEGIN:STANDARD
TZOFFSETFROM:-0500
TZOFFSETTO:-0600
TZNAME:CST
DTSTART:20261101T070000
END:STANDARD
BEGIN:DAYLIGHT
TZOFFSETFROM:-0600
TZOFFSETTO:-0500
TZNAME:CDT
DTSTART:20270314T080000
END:DAYLIGHT
BEGIN:STANDARD
TZOFFSETFROM:-0500
TZOFFSETTO:-0600
TZNAME:CST
DTSTART:20271107T070000
END:STANDARD
END:VTIMEZONE
BEGIN:VEVENT
DTSTART;TZID=America/Chicago:20260403T110000
DTEND;TZID=America/Chicago:20260403T170000
DTSTAMP:20260424T182130
CREATED:20260217T161355Z
LAST-MODIFIED:20260217T161400Z
UID:4726-1775214000-1775235600@heartwood.church
SUMMARY:Good Friday 2026 Red Cross Blood Drive
DESCRIPTION:You are invited to give life to your community on Good Friday at Heartwood Church. Please join us at this annual community blood drive. Donors receive an exclusive American Red Cross x Life is Good T-shirt\, while supplies last.
URL:https://heartwood.church/events/good-friday-2026-red-cross-blood-drive/
LOCATION:Heartwood Church\, 6477 10th St. N.\, Oakdale\, MN\, 55128\, United States
CATEGORIES:Blood Drive,Community
ATTACH;FMTTYPE=image/png:https://heartwood.church/wp-content/uploads/2026/02/Screenshot-2026-02-17-094855.png
END:VEVENT
BEGIN:VEVENT
DTSTART;TZID=America/Chicago:20250703T100000
DTEND;TZID=America/Chicago:20250703T160000
DTSTAMP:20260424T182130
CREATED:20250527T184644Z
LAST-MODIFIED:20250527T184644Z
UID:3625-1751536800-1751558400@heartwood.church
SUMMARY:Independence Weekend 2025 Red Cross Blood Drive
DESCRIPTION:Join Us. Save Lives. Be Proud \nJoin us in saving lives on Thursday\, July 3\, 2025 by donating blood.  Sign up to donate at the ticket link or go to redcrossblood.org and enter sponsor code “heartwood”
URL:https://heartwood.church/events/independence-weekend-2025-red-cross-blood-drive/
LOCATION:Heartwood Church\, 6477 10th St. N.\, Oakdale\, MN\, 55128\, United States
CATEGORIES:Blood Drive,Community
ATTACH;FMTTYPE=image/jpeg:https://heartwood.church/wp-content/uploads/2025/05/Version10-1.jpg
END:VEVENT
BEGIN:VEVENT
DTSTART;TZID=America/Chicago:20250418T100000
DTEND;TZID=America/Chicago:20250418T160000
DTSTAMP:20260424T182130
CREATED:20250301T171045Z
LAST-MODIFIED:20250301T171045Z
UID:3580-1744970400-1744992000@heartwood.church
SUMMARY:Spring 2025 Red Cross Blood Drive
DESCRIPTION:Give Hope This Spring. Give Blood.\nJoin us in saving lives this Good Friday by donating blood. Donors who give between 4/14 to 4/30 receive a Red Cross T-shirt (quantity limited) and a chance to win a $5\,000 prize. Go to https://www.redcrossblood.org/local-homepage/events/gift-card-or-t-shirt-for-giving-blood.html for more details. Sign up to donate at the link below or go to redcrossblood.org and enter sponsor code “heartwood”
URL:https://heartwood.church/events/spring-2025-red-cross-blood-drive/
LOCATION:Heartwood Church\, 6477 10th St. N.\, Oakdale\, MN\, 55128\, United States
CATEGORIES:Blood Drive,Community
ATTACH;FMTTYPE=image/jpeg:https://heartwood.church/wp-content/uploads/2025/03/Spring-banner.jpg
END:VEVENT
BEGIN:VEVENT
DTSTART;TZID=America/Chicago:20241004T110000
DTEND;TZID=America/Chicago:20241004T170000
DTSTAMP:20260424T182130
CREATED:20240906T133741Z
LAST-MODIFIED:20240906T133741Z
UID:3370-1728039600-1728061200@heartwood.church
SUMMARY:2024 Fall Red Cross Blood Drive
DESCRIPTION:Heartwood Church is committed to strengthening our community and helping meet hospital and patient needs through blood donations. This blood drive is our way of giving staff\, colleagues and neighbors an opportunity to help save lives. \nOctober donors receive a $10 Amazon gift card and are entered to win a $5\,000 gift card.
URL:https://heartwood.church/events/2024-fall-red-cross-blood-drive/
LOCATION:Heartwood Church\, 6477 10th St. N.\, Oakdale\, MN\, 55128\, United States
CATEGORIES:Blood Drive
ATTACH;FMTTYPE=image/png:https://heartwood.church/wp-content/uploads/2024/09/Screenshot-2024-08-29-165330.png
END:VEVENT
BEGIN:VEVENT
DTSTART;TZID=America/Chicago:20240705T093000
DTEND;TZID=America/Chicago:20240705T153000
DTSTAMP:20260424T182130
CREATED:20240507T195139Z
LAST-MODIFIED:20240521T174326Z
UID:3349-1720171800-1720193400@heartwood.church
SUMMARY:2024 Independence Weekend Blood Drive
DESCRIPTION:Each pint of blood we collect can help save up to three lives and will touch the lives of so many more. What a great way to pay it forward and make an impact on people in our community and across the country. We are very excited about the drive and I hope you are too. \n\n\n\n\n\n\n\nThe Red Cross umbrella is our gift to donors while supplies last. \n\n\n\nRegister at https://www.redcrossblood.org/give.html/drive-results?zipSponsor=heartwood or use the Blood Donor App.
URL:https://heartwood.church/events/2024-independence-weekend-blood-drive/
LOCATION:Heartwood Church\, 6477 10th St. N.\, Oakdale\, MN\, 55128\, United States
CATEGORIES:Blood Drive
ATTACH;FMTTYPE=image/png:https://heartwood.church/wp-content/uploads/2024/05/campdogood.png
END:VEVENT
END:VCALENDAR