BEGIN:VCALENDAR
VERSION:2.0
PRODID:-//Heartwood Church - ECPv6.15.10//NONSGML v1.0//EN
CALSCALE:GREGORIAN
METHOD:PUBLISH
X-WR-CALNAME:Heartwood Church
X-ORIGINAL-URL:https://heartwood.church
X-WR-CALDESC:Events for Heartwood Church
REFRESH-INTERVAL;VALUE=DURATION:PT1H
X-Robots-Tag:noindex
X-PUBLISHED-TTL:PT1H
BEGIN:VTIMEZONE
TZID:America/Chicago
BEGIN:DAYLIGHT
TZOFFSETFROM:-0600
TZOFFSETTO:-0500
TZNAME:CDT
DTSTART:20250309T080000
END:DAYLIGHT
BEGIN:STANDARD
TZOFFSETFROM:-0500
TZOFFSETTO:-0600
TZNAME:CST
DTSTART:20251102T070000
END:STANDARD
BEGIN:DAYLIGHT
TZOFFSETFROM:-0600
TZOFFSETTO:-0500
TZNAME:CDT
DTSTART:20260308T080000
END:DAYLIGHT
BEGIN:STANDARD
TZOFFSETFROM:-0500
TZOFFSETTO:-0600
TZNAME:CST
DTSTART:20261101T070000
END:STANDARD
BEGIN:DAYLIGHT
TZOFFSETFROM:-0600
TZOFFSETTO:-0500
TZNAME:CDT
DTSTART:20270314T080000
END:DAYLIGHT
BEGIN:STANDARD
TZOFFSETFROM:-0500
TZOFFSETTO:-0600
TZNAME:CST
DTSTART:20271107T070000
END:STANDARD
END:VTIMEZONE
BEGIN:VEVENT
DTSTART;TZID=America/Chicago:20260316T180000
DTEND;TZID=America/Chicago:20260316T193000
DTSTAMP:20260425T113616
CREATED:20260311T200447Z
LAST-MODIFIED:20260313T000842Z
UID:5813-1773684000-1773689400@heartwood.church
SUMMARY:Settled Community Dinner March 2026
DESCRIPTION:We spend the third Monday each month together\, at the table\, to share a meal\, to laugh\, to swap stories\, to encourage one another\, and to hear about opportunities to be involved with Settled. We’ll start at 6 p.m. and wrap up around 7:30 p.m. We hope you will join us! \n\n\n\nIt’s almost St. Patrick’s Day so bring an Irish dish to celebrate! (This theme is optional.) You can sign up to help with setup/cleanup or to bring a dish to share here.  \n\n\n\nLearn more about Settled here.
URL:https://heartwood.church/events/settled-community-dinner-2/
LOCATION:Heartwood Church\, 6477 10th St. N.\, Oakdale\, MN\, 55128\, United States
CATEGORIES:Relationship Building,Settled Community Event
ORGANIZER;CN="Pastor Ashlyn Luttrell":MAILTO:AshlynL@heartwood.church
END:VEVENT
BEGIN:VEVENT
DTSTART;TZID=America/Chicago:20260403T110000
DTEND;TZID=America/Chicago:20260403T170000
DTSTAMP:20260425T113616
CREATED:20260217T161355Z
LAST-MODIFIED:20260217T161400Z
UID:4726-1775214000-1775235600@heartwood.church
SUMMARY:Good Friday 2026 Red Cross Blood Drive
DESCRIPTION:You are invited to give life to your community on Good Friday at Heartwood Church. Please join us at this annual community blood drive. Donors receive an exclusive American Red Cross x Life is Good T-shirt\, while supplies last.
URL:https://heartwood.church/events/good-friday-2026-red-cross-blood-drive/
LOCATION:Heartwood Church\, 6477 10th St. N.\, Oakdale\, MN\, 55128\, United States
CATEGORIES:Blood Drive,Community
ATTACH;FMTTYPE=image/png:https://heartwood.church/wp-content/uploads/2026/02/Screenshot-2026-02-17-094855.png
END:VEVENT
BEGIN:VEVENT
DTSTART;TZID=America/Chicago:20260420T180000
DTEND;TZID=America/Chicago:20260420T193000
DTSTAMP:20260425T113616
CREATED:20260313T000151Z
LAST-MODIFIED:20260313T000949Z
UID:5850-1776708000-1776713400@heartwood.church
SUMMARY:Settled Community Dinner April 2026
DESCRIPTION:We spend the third Monday each month together\, at the table\, to share a meal\, to laugh\, to swap stories\, to encourage one another\, and to hear about opportunities to be involved with Settled. We’ll start at 6 p.m. and wrap up around 7:30 p.m. We hope you will join us! \n\n\n\nYou can sign up to help with setup/cleanup or to bring a dish to share here.  \n\n\n\nLearn more about Settled here.
URL:https://heartwood.church/events/settled-community-dinner-3/
LOCATION:Heartwood Church\, 6477 10th St. N.\, Oakdale\, MN\, 55128\, United States
CATEGORIES:Relationship Building,Settled Community Event
ORGANIZER;CN="Pastor Ashlyn Luttrell":MAILTO:ashlynl@hearwood.church
END:VEVENT
BEGIN:VEVENT
DTSTART;TZID=America/Chicago:20260510T000000
DTEND;TZID=America/Chicago:20260510T235959
DTSTAMP:20260425T113616
CREATED:20260418T171011Z
LAST-MODIFIED:20260421T200024Z
UID:5902-1778371200-1778457599@heartwood.church
SUMMARY:Baby Wipe Drive Kick Off
DESCRIPTION:On Mother’s Day we kick off our annual Baby Wipe Drive to supply First Care Pregnancy Center. We will be collecting wipes and monetary donations through Father’s Day. Gift cards to stores like Target are also appreciated.
URL:https://heartwood.church/events/mothers-day-baby-wipe-drive-kick-off/
LOCATION:MN
CATEGORIES:Community
ATTACH;FMTTYPE=image/jpeg:https://heartwood.church/wp-content/uploads/2026/04/Baby_wipes.jpg
END:VEVENT
BEGIN:VEVENT
DTSTART;TZID=America/Chicago:20260518T180000
DTEND;TZID=America/Chicago:20260518T193000
DTSTAMP:20260425T113616
CREATED:20260313T001238Z
LAST-MODIFIED:20260313T001441Z
UID:5858-1779127200-1779132600@heartwood.church
SUMMARY:Settled Community Dinner May 2026
DESCRIPTION:We spend the third Monday each month together\, at the table\, to share a meal\, to laugh\, to swap stories\, to encourage one another\, and to hear about opportunities to be involved with Settled. We’ll start at 6 p.m. and wrap up around 7:30 p.m. We hope you will join us! \n\n\n\nYou can sign up to help with setup/cleanup or to bring a dish to share here.  \n\n\n\nLearn more about Settled here.
URL:https://heartwood.church/events/settled-community-dinner-may-2026/
LOCATION:Heartwood Church\, 6477 10th St. N.\, Oakdale\, MN\, 55128\, United States
CATEGORIES:Relationship Building,Settled Community Event
ORGANIZER;CN="Pastor Ashlyn Luttrell":MAILTO:ashlynl@hearwood.church
END:VEVENT
BEGIN:VEVENT
DTSTART;TZID=America/Chicago:20260615T180000
DTEND;TZID=America/Chicago:20260615T193000
DTSTAMP:20260425T113616
CREATED:20260313T002132Z
LAST-MODIFIED:20260313T002132Z
UID:5864-1781546400-1781551800@heartwood.church
SUMMARY:Settled Community Dinner June 2026
DESCRIPTION:We spend the third Monday each month together\, at the table\, to share a meal\, to laugh\, to swap stories\, to encourage one another\, and to hear about opportunities to be involved with Settled. We’ll start at 6 p.m. and wrap up around 7:30 p.m. We hope you will join us! \n\n\n\nYou can sign up to help with setup/cleanup or to bring a dish to share here.  \n\n\n\nLearn more about Settled here.
URL:https://heartwood.church/events/settled-community-dinner-june-2026/
LOCATION:Heartwood Church\, 6477 10th St. N.\, Oakdale\, MN\, 55128\, United States
CATEGORIES:Relationship Building,Settled Community Event
ORGANIZER;CN="Pastor Ashlyn Luttrell":MAILTO:ashlynl@hearwood.church
END:VEVENT
END:VCALENDAR