BEGIN:VCALENDAR
VERSION:2.0
PRODID:-//Heartwood Church - ECPv6.15.10//NONSGML v1.0//EN
CALSCALE:GREGORIAN
METHOD:PUBLISH
X-WR-CALNAME:Heartwood Church
X-ORIGINAL-URL:https://heartwood.church
X-WR-CALDESC:Events for Heartwood Church
REFRESH-INTERVAL;VALUE=DURATION:PT1H
X-Robots-Tag:noindex
X-PUBLISHED-TTL:PT1H
BEGIN:VTIMEZONE
TZID:America/Chicago
BEGIN:DAYLIGHT
TZOFFSETFROM:-0600
TZOFFSETTO:-0500
TZNAME:CDT
DTSTART:20180311T080000
END:DAYLIGHT
BEGIN:STANDARD
TZOFFSETFROM:-0500
TZOFFSETTO:-0600
TZNAME:CST
DTSTART:20181104T070000
END:STANDARD
BEGIN:DAYLIGHT
TZOFFSETFROM:-0600
TZOFFSETTO:-0500
TZNAME:CDT
DTSTART:20190310T080000
END:DAYLIGHT
BEGIN:STANDARD
TZOFFSETFROM:-0500
TZOFFSETTO:-0600
TZNAME:CST
DTSTART:20191103T070000
END:STANDARD
BEGIN:DAYLIGHT
TZOFFSETFROM:-0600
TZOFFSETTO:-0500
TZNAME:CDT
DTSTART:20200308T080000
END:DAYLIGHT
BEGIN:STANDARD
TZOFFSETFROM:-0500
TZOFFSETTO:-0600
TZNAME:CST
DTSTART:20201101T070000
END:STANDARD
BEGIN:DAYLIGHT
TZOFFSETFROM:-0600
TZOFFSETTO:-0500
TZNAME:CDT
DTSTART:20210314T080000
END:DAYLIGHT
BEGIN:STANDARD
TZOFFSETFROM:-0500
TZOFFSETTO:-0600
TZNAME:CST
DTSTART:20211107T070000
END:STANDARD
END:VTIMEZONE
BEGIN:VEVENT
DTSTART;TZID=America/Chicago:20201016T120000
DTEND;TZID=America/Chicago:20201016T180000
DTSTAMP:20260424T204906
CREATED:20200923T165820Z
LAST-MODIFIED:20200923T165820Z
UID:1202-1602849600-1602871200@heartwood.church
SUMMARY:Fall 2020 Red Cross Blood Drive
DESCRIPTION:The community is invited to take part in this special event and donate blood for hospital patients in our neighborhoods and across the nation. The need for blood is constant. By rolling up a sleeve\, donors can play a critical role in the treatment of accident and burn victims\, heart surgery and organ transplant patients\, and those receiving treatment for leukemia\, cancer or sickle cell disease. \nBlood donors will each receive a pumpkin gourd donated Hy-Vee. \nRegister to donate at https://www.redcrossblood.org/give.html/drive-results?zipSponsor=heartwood
URL:https://heartwood.church/events/fall-2020-red-cross-blood-drive/
LOCATION:Heartwood Church\, 6477 10th St. N.\, Oakdale\, MN\, 55128\, United States
CATEGORIES:Community
ATTACH;FMTTYPE=image/png:https://heartwood.church/wp-content/uploads/2020/09/Friday-October-16-2020-2.png
END:VEVENT
BEGIN:VEVENT
DTSTART;TZID=America/Chicago:20200702T120000
DTEND;TZID=America/Chicago:20200702T180000
DTSTAMP:20260424T204906
CREATED:20200508T211011Z
LAST-MODIFIED:20200508T211535Z
UID:959-1593691200-1593712800@heartwood.church
SUMMARY:Independence Day Blood Drive
DESCRIPTION:Independence Day Blood Drive – Freed by Blood\nPresenting Donors Receive a Free – T-Shirt!
URL:https://heartwood.church/events/independence-day-blood-drive/
LOCATION:Heartwood Church\, 6477 10th St. N.\, Oakdale\, MN\, 55128\, United States
CATEGORIES:Community
ATTACH;FMTTYPE=image/png:https://heartwood.church/wp-content/uploads/2020/04/161501-05_communityofgiving_fb_1200x630p-rw-final1.png
END:VEVENT
BEGIN:VEVENT
DTSTART;TZID=America/Chicago:20200502T190000
DTEND;TZID=America/Chicago:20200502T200000
DTSTAMP:20260424T204906
CREATED:20200428T135659Z
LAST-MODIFIED:20200428T135659Z
UID:966-1588446000-1588449600@heartwood.church
SUMMARY:Sofa Soiree
DESCRIPTION:The Starlight Soiree is still on . . . only this year\, it will be a Sofa Soiree. On the evening of May 2 at 7 pm\, join us virtually from your home (no cocktail attire needed!)\, bid on Tubman’s online auction\, and hear inspiring stories about why – especially in this time of community-wide crisis – Tubman’s services are needed now more than ever. \nTo participate in this special online event\, please register. There is no cost\, so sign up and save the date.
URL:https://heartwood.church/events/sofa-soiree/
LOCATION:MN
CATEGORIES:Community,Special Event
ATTACH;FMTTYPE=image/jpeg:https://heartwood.church/wp-content/uploads/2020/04/sofa.jpg
END:VEVENT
BEGIN:VEVENT
DTSTART;TZID=America/Chicago:20200410T120000
DTEND;TZID=America/Chicago:20200410T180000
DTSTAMP:20260424T204906
CREATED:20200116T210212Z
LAST-MODIFIED:20200117T030204Z
UID:655-1586520000-1586541600@heartwood.church
SUMMARY:Blood Drive
DESCRIPTION:Blood Given is Life Given \nWe are excited to partner with the American Red Cross to launch the first of what we hope will be many blood drives. On Good Friday\, we’ll be working together to give back to the community in a truly life changing way since each donation we collect can save up to three lives. \nEveryone who donates will receive a “First Aid to Go!” First Aid Travel Kit. \n \nSchedule your appointment today! \nhttps://www.redcrossblood.org/give.html/drive-results?zipSponsor=heartwood
URL:https://heartwood.church/events/blood-drive/
LOCATION:Heartwood Church\, 6477 10th St. N.\, Oakdale\, MN\, 55128\, United States
CATEGORIES:Community
ATTACH;FMTTYPE=image/png:https://heartwood.church/wp-content/uploads/2020/01/square_blood.png
END:VEVENT
BEGIN:VEVENT
DTSTART;TZID=America/Chicago:20200308T130000
DTEND;TZID=America/Chicago:20200308T150000
DTSTAMP:20260424T204906
CREATED:20200204T163859Z
LAST-MODIFIED:20200212T202249Z
UID:733-1583672400-1583679600@heartwood.church
SUMMARY:Sundae Bingo
DESCRIPTION:What could be better than ice cream sundaes and 2 hours of bingo? Join us for this exciting Sunday afternoon event! Make your own sundae while shouting out BINGO! \nPrizes will be awarded each game for this all-ages event. Limit of two prizes per participant. All will be eligible for the grand prize raffle drawing at the end of the event (must be present to win raffle)! All ages welcome! \nStandard registration opens: Jan 9\, 2020\nLast day for standard registration: Mar 2\, 2020
URL:https://heartwood.church/events/sundae-bingo-at-oakdale-rec/
LOCATION:MN
CATEGORIES:Community
ATTACH;FMTTYPE=image/png:https://heartwood.church/wp-content/uploads/2019/04/25152222_10155921675829035_1528559206089723516_n-e1555631405669.png
END:VEVENT
BEGIN:VEVENT
DTSTART;TZID=America/Chicago:20200210T190000
DTEND;TZID=America/Chicago:20200210T210000
DTSTAMP:20260424T204906
CREATED:20200130T165257Z
LAST-MODIFIED:20200204T192117Z
UID:726-1581361200-1581368400@heartwood.church
SUMMARY:Vegetable Gardening 101
DESCRIPTION:If you’re looking to beat the winter blues\, eat healthier and save money\, this class is for you! The course will cover the basics of home vegetable gardens and how to be successful in your efforts. Topics include custom designing your garden\, starting seedlings\, preparing for planting\, ongoing maintenance\, and when to harvest. \nInstructor: Chris White is a Master Gardener from Washington County. She’s been passionate about growing a home vegetable garden for over 30 years. Chris has taught gardening classes many times over the years and received her Master Gardener training from the University of Minnesota in 2018.
URL:https://heartwood.church/events/vegetable-gardening-101/
LOCATION:MN
CATEGORIES:Community
ATTACH;FMTTYPE=image/png:https://heartwood.church/wp-content/uploads/2019/04/25152222_10155921675829035_1528559206089723516_n-e1555631405669.png
END:VEVENT
BEGIN:VEVENT
DTSTART;TZID=America/Chicago:20191124T100000
DTEND;TZID=America/Chicago:20191124T123000
DTSTAMP:20260424T204906
CREATED:20190719T191002Z
LAST-MODIFIED:20191117T203007Z
UID:428-1574589600-1574598600@heartwood.church
SUMMARY:Thanksgiving Potluck and Sunday Worship
DESCRIPTION:Giving thanks together around good food. \nFreedom and Privilege a look at releasing our rights to become free through the story of a master and slave. A study through the book of Philemon. \nThanksgiving Potluck following Service! \nOur worship is Ancient-Future and Multi-Generational\, so you will experience elements from the past and modern innovations. We’ll hear the joyous noise of children along with mature reverence. We encourage you to participate in whatever way you feel moved.
URL:https://heartwood.church/events/sunday-worship-26/
LOCATION:Heartwood Church\, 6477 10th St. N.\, Oakdale\, MN\, 55128\, United States
CATEGORIES:Community,Special Event,Worship
ATTACH;FMTTYPE=image/jpeg:https://heartwood.church/wp-content/uploads/2019/10/peanuts_1510090930887_28729164_ver1.0.jpg
END:VEVENT
BEGIN:VEVENT
DTSTART;TZID=America/Chicago:20191109T090000
DTEND;TZID=America/Chicago:20191109T233000
DTSTAMP:20260424T204906
CREATED:20191016T190912Z
LAST-MODIFIED:20191016T190912Z
UID:558-1573290000-1573342200@heartwood.church
SUMMARY:"Harriet" Movie Screening
DESCRIPTION:Screening of the movie “Harriet” with our partners at Tubman.\n\nLimited seating. Contact Pastor Paul to get on the waiting list.
URL:https://heartwood.church/events/harriet-movie-screening/
LOCATION:Marcus Theater Oakdale\, 5677 Hadley Ave N\, Oakdale\, MN\, 55128\, United States
CATEGORIES:Community,Special Event
ATTACH;FMTTYPE=image/jpeg:https://heartwood.church/wp-content/uploads/2019/10/harriet.jpg
END:VEVENT
BEGIN:VEVENT
DTSTART;TZID=America/Chicago:20191025T170000
DTEND;TZID=America/Chicago:20191025T203000
DTSTAMP:20260424T204906
CREATED:20191002T221621Z
LAST-MODIFIED:20191002T221621Z
UID:549-1572022800-1572035400@heartwood.church
SUMMARY:New Life Family Services’ 46th Annual Fundraising Gala
DESCRIPTION:Our Annual Gala includes a three course meal\, client stories\, and an inspiring ministry update. We invite you to be a part of a special evening and life-saving mission. \nKeynote Speaker \nSteventhen Holland: Author\, Speaker\, Worship Leader \n“Steventhen spent most of his life with many questions and no answers\, but at 27 years old he was reunited with his birth mother. \nIt is amazing to see the power of God at work. He is not only an all-powerful God but the God of the broken and forgotten. He is the God that brings hope to the darkest of situations and bridges the gap between brokenness and wholeness. \nSteventhen has spoken at many events around the country over the last 15+ years of ministry. Some of these events include Church services\, men & women’s retreats\, student camps/retreats\, school assemblies\, juvenile detention centers\, mentoring programs\, abstinence education\, children’s homes\, drug & rehabilitation centers\, nursing homes\, mental health facilities\, pregnancy care center banquets and more… \nHis story will encourage mothers to deliver their babies\, and other families to adopt. Everyone searches for peace. Experience THE JOURNEY God has taken Steventhen Holland on\, and you too will find the peace of God that passes all understanding!” (www.ambassadorspeakers.com) \nJoin us and invite your friends!  You won’t want to miss this remarkable evening! The message will move you\, the testimonies will inspire you\, and the mission will engage you.
URL:https://heartwood.church/events/new-life-family-services-46th-annual-fundraising-gala/
LOCATION:DoubleTree\, Bloomington\, 7800 Normandale Blvd\, Minneapolis\, MN\, 55439\, United States
CATEGORIES:Community,Special Event
ATTACH;FMTTYPE=image/png:https://heartwood.church/wp-content/uploads/2019/10/Sliders-1.png
END:VEVENT
BEGIN:VEVENT
DTSTART;TZID=America/Chicago:20190928T110000
DTEND;TZID=America/Chicago:20190928T160000
DTSTAMP:20260424T204906
CREATED:20190816T141104Z
LAST-MODIFIED:20190816T141104Z
UID:470-1569668400-1569686400@heartwood.church
SUMMARY:Family Fun Flatables
DESCRIPTION:Join us at Walton Park for a full day of jumping\, bouncing\, diving\, and exploring a sea of inflatables! Over a dozen unique inflatables will be on hand for this day of nonstop for all ages. Bounce castles\, obstacle courses\, and giant slides are just a few of the inflatables you will find. Plus\, a kid’s band and great food!
URL:https://heartwood.church/events/family-fun-flatables/
LOCATION:Richard Walton Park\, 15th Street N and Hadley Avenue N\, Oakdale\, MN\, 55128\, United States
CATEGORIES:Community,Special Event
ATTACH;FMTTYPE=image/jpeg:https://heartwood.church/wp-content/uploads/2019/08/inflatable.jpg
END:VEVENT
BEGIN:VEVENT
DTSTART;TZID=America/Chicago:20190509T183000
DTEND;TZID=America/Chicago:20190509T200000
DTSTAMP:20260424T204906
CREATED:20190410T191355Z
LAST-MODIFIED:20190410T191355Z
UID:190-1557426600-1557432000@heartwood.church
SUMMARY:Mother Daughter Date Night - KidCreate Art Class
DESCRIPTION:Mother’s Day is just around the corner. What better way to celebrate than creating masterpieces with your child? Prepare for an evening filled with fun! You and your child will follow easy step-by-step instructions as you create matching floral paintings. Each mother and daughter will create their own masterpiece on a real canvas board. \nKidcreate launches children into the incredible world of art. These energized classes offer an exciting format for art exploration. We focus on art creation and art education. Lesson plans\, designed by an art education professional\, are age appropriate and devised to inspire the individual child. Our teachers provide a positive\, fun\, self-esteem building atmostphere where children learn to express themselves through the visual arts. Parents can be assured their child is being educated in a supportive environment where giggles and grins are encouraged. \nDeadline is one week prior to program date. \nphoto credit: donnierayjones My Girls via photopin (license)
URL:https://heartwood.church/events/mother-daughter-date-night-kidcreate-art-class/
LOCATION:Oakdale Discovery Center\, 4444 Hadley Avenue North\, Oakdale\, MN\, 55128\, United States
CATEGORIES:Community,Special Event
ATTACH;FMTTYPE=image/jpeg:https://heartwood.church/wp-content/uploads/2019/04/25058786232_4e1b57936b_o.jpg
END:VEVENT
BEGIN:VEVENT
DTSTART;TZID=America/Chicago:20190427T180000
DTEND;TZID=America/Chicago:20190427T210000
DTSTAMP:20260424T204906
CREATED:20190410T192521Z
LAST-MODIFIED:20190410T192521Z
UID:195-1556388000-1556398800@heartwood.church
SUMMARY:Tubman 10th annual Starlight Soiree
DESCRIPTION:Please join us for the 10th annual Starlight Soiree \nSaturday\, April 27\, 2019 \nInterContinental Saint Paul Riverfront \nWe hope to see you at our annual gala\, the Starlight Soiree\, as we honor the journeys of people we serve at Tubman and celebrate the supporters who make this work possible. With emcee Alexis Thompson of myTalk107.1’s “Jason & Alexis” show\, musical guests International Reggae All-Stars\, and DJ Sound of Fujun\, it will be a fun and memorable event. \nDoors open at 6 p.m. with a champagne reception and silent auction\, and the dinner and program begin at 7:30 p.m. Please join us for this special evening of celebration!
URL:https://heartwood.church/events/tubman-10th-annual-starlight-soiree/
LOCATION:InterContinental Saint Paul Riverfront\, 11 Kellogg Blv. East\, St Paul\, 55101\, United States
CATEGORIES:Community,Special Event
ATTACH;FMTTYPE=image/png:https://heartwood.church/wp-content/uploads/2019/04/Soiree-2019-From-Fear-to-Freedom.png
END:VEVENT
BEGIN:VEVENT
DTSTART;TZID=America/Chicago:20190425T180000
DTEND;TZID=America/Chicago:20190425T203000
DTSTAMP:20260424T204906
CREATED:20190410T193644Z
LAST-MODIFIED:20190410T193644Z
UID:200-1556215200-1556224200@heartwood.church
SUMMARY:Spring Fling 2019
DESCRIPTION:Great food\, wine\, beer and spirits tastings!\nPlay games for chances to win fabulous prizes! \nPut on by the Oakdale Area Chamber of Commerce as a fundraiser for Holiday Helping Hands\, student scholarship programs\, and Christian Cupboard Emergency Food Shelf.
URL:https://heartwood.church/events/spring-fling-2019/
LOCATION:Guardian Angels Church\, 8260 4th St N\, Oakdale\, MN\, 55128\, United States
CATEGORIES:Community
ATTACH;FMTTYPE=image/png:https://heartwood.church/wp-content/uploads/2019/04/unnamed.png
ORGANIZER;CN="Tony Schwartz":MAILTO:tonys@bproperties.com
END:VEVENT
END:VCALENDAR