BEGIN:VCALENDAR
VERSION:2.0
PRODID:-//Heartwood Church - ECPv6.15.10//NONSGML v1.0//EN
CALSCALE:GREGORIAN
METHOD:PUBLISH
X-WR-CALNAME:Heartwood Church
X-ORIGINAL-URL:https://heartwood.church
X-WR-CALDESC:Events for Heartwood Church
REFRESH-INTERVAL;VALUE=DURATION:PT1H
X-Robots-Tag:noindex
X-PUBLISHED-TTL:PT1H
BEGIN:VTIMEZONE
TZID:America/Chicago
BEGIN:DAYLIGHT
TZOFFSETFROM:-0600
TZOFFSETTO:-0500
TZNAME:CDT
DTSTART:20220313T080000
END:DAYLIGHT
BEGIN:STANDARD
TZOFFSETFROM:-0500
TZOFFSETTO:-0600
TZNAME:CST
DTSTART:20221106T070000
END:STANDARD
BEGIN:DAYLIGHT
TZOFFSETFROM:-0600
TZOFFSETTO:-0500
TZNAME:CDT
DTSTART:20230312T080000
END:DAYLIGHT
BEGIN:STANDARD
TZOFFSETFROM:-0500
TZOFFSETTO:-0600
TZNAME:CST
DTSTART:20231105T070000
END:STANDARD
BEGIN:DAYLIGHT
TZOFFSETFROM:-0600
TZOFFSETTO:-0500
TZNAME:CDT
DTSTART:20240310T080000
END:DAYLIGHT
BEGIN:STANDARD
TZOFFSETFROM:-0500
TZOFFSETTO:-0600
TZNAME:CST
DTSTART:20241103T070000
END:STANDARD
END:VTIMEZONE
BEGIN:VEVENT
DTSTART;TZID=America/Chicago:20231001T100000
DTEND;TZID=America/Chicago:20231001T120000
DTSTAMP:20260425T130619
CREATED:20230816T154934Z
LAST-MODIFIED:20230919T002745Z
UID:3134-1696154400-1696161600@heartwood.church
SUMMARY:Sunday Worship - The Feast of Tabernacles
DESCRIPTION:Join us as Trevor Rubenstein with Chosen People Ministries talks about Sukkot (The Feast of Tabernacles) and how Jesus dwells among us.\nLearn more here! Sunday School Lessons – Chosen People Ministries \nOur worship is Ancient-Future and Multi-Generational\, so you will experience elements from the past and modern innovations. We’ll hear the joyous noise of children along with mature reverence.\nWe encourage you to participate in whatever way you feel moved.
URL:https://heartwood.church/events/sunday-worship-the-feast-of-tabernacles/
LOCATION:Heartwood Church\, 6477 10th St. N.\, Oakdale\, MN\, 55128\, United States
CATEGORIES:Community,Formation,Relationship Building,Special Event,Worship
ATTACH;FMTTYPE=image/png:https://heartwood.church/wp-content/uploads/2021/07/messiah_fall.png
END:VEVENT
BEGIN:VEVENT
DTSTART;TZID=America/Chicago:20230924T100000
DTEND;TZID=America/Chicago:20230924T120000
DTSTAMP:20260425T130619
CREATED:20230816T152542Z
LAST-MODIFIED:20230816T152542Z
UID:3125-1695549600-1695556800@heartwood.church
SUMMARY:Sunday Worship - Psalm 23 (All-Church Formation)
DESCRIPTION:Our worship is Ancient-Future and Multi-Generational\, so you will experience elements from the past and modern innovations. We’ll hear the joyous noise of children along with mature reverence.\nWe encourage you to participate in whatever way you feel moved.
URL:https://heartwood.church/events/sunday-worship-psalm-23-all-church-formation-4/
LOCATION:Heartwood Church\, 6477 10th St. N.\, Oakdale\, MN\, 55128\, United States
CATEGORIES:Formation,Worship
ATTACH;FMTTYPE=image/jpeg:https://heartwood.church/wp-content/uploads/2023/08/Psalm-23-1.jpg
END:VEVENT
BEGIN:VEVENT
DTSTART;TZID=America/Chicago:20230917T100000
DTEND;TZID=America/Chicago:20230917T120000
DTSTAMP:20260425T130619
CREATED:20230816T152232Z
LAST-MODIFIED:20230816T152717Z
UID:3123-1694944800-1694952000@heartwood.church
SUMMARY:Sunday Worship - Psalm 23 (All-Church Formation)
DESCRIPTION:Our worship is Ancient-Future and Multi-Generational\, so you will experience elements from the past and modern innovations. We’ll hear the joyous noise of children along with mature reverence.\nWe encourage you to participate in whatever way you feel moved.
URL:https://heartwood.church/events/sunday-worship-psalm-23-all-church-formation-3/
LOCATION:Heartwood Church\, 6477 10th St. N.\, Oakdale\, MN\, 55128\, United States
CATEGORIES:Formation,Worship
ATTACH;FMTTYPE=image/jpeg:https://heartwood.church/wp-content/uploads/2023/08/Psalm-23-1.jpg
END:VEVENT
BEGIN:VEVENT
DTSTART;TZID=America/Chicago:20230910T100000
DTEND;TZID=America/Chicago:20230910T120000
DTSTAMP:20260425T130619
CREATED:20230816T152048Z
LAST-MODIFIED:20230816T152742Z
UID:3121-1694340000-1694347200@heartwood.church
SUMMARY:Sunday Worship - Psalm 23 (All-Church Formation)
DESCRIPTION:Our worship is Ancient-Future and Multi-Generational\, so you will experience elements from the past and modern innovations. We’ll hear the joyous noise of children along with mature reverence.\nWe encourage you to participate in whatever way you feel moved.
URL:https://heartwood.church/events/sunday-worship-psalm-23-all-church-formation-2/
LOCATION:Heartwood Church\, 6477 10th St. N.\, Oakdale\, MN\, 55128\, United States
CATEGORIES:Formation,Worship
ATTACH;FMTTYPE=image/jpeg:https://heartwood.church/wp-content/uploads/2023/08/Psalm-23-1.jpg
END:VEVENT
BEGIN:VEVENT
DTSTART;TZID=America/Chicago:20230903T100000
DTEND;TZID=America/Chicago:20230903T120000
DTSTAMP:20260425T130619
CREATED:20230816T151938Z
LAST-MODIFIED:20230816T153207Z
UID:3118-1693735200-1693742400@heartwood.church
SUMMARY:Sunday Worship - Psalm 23 (All-Church Formation)
DESCRIPTION:Our worship is Ancient-Future and Multi-Generational\, so you will experience elements from the past and modern innovations. We’ll hear the joyous noise of children along with mature reverence.\nWe encourage you to participate in whatever way you feel moved.
URL:https://heartwood.church/events/sunday-worship-psalm-23-all-church-formation/
LOCATION:Heartwood Church\, 6477 10th St. N.\, Oakdale\, MN\, 55128\, United States
CATEGORIES:Formation,Worship
ATTACH;FMTTYPE=image/jpeg:https://heartwood.church/wp-content/uploads/2023/08/Psalm-23-1.jpg
END:VEVENT
BEGIN:VEVENT
DTSTART;TZID=America/Chicago:20230827T100000
DTEND;TZID=America/Chicago:20230827T120000
DTSTAMP:20260425T130619
CREATED:20230530T151347Z
LAST-MODIFIED:20230801T154555Z
UID:3084-1693130400-1693137600@heartwood.church
SUMMARY:Sunday Worship - Walking in the Truth
DESCRIPTION:In this series\, 2 and 3 John looks at how to make sure we and our children walk in the Truth. \nOur worship is Ancient-Future and Multi-Generational\, so you will experience elements from the past and modern innovations. We’ll hear the joyous noise of children along with mature reverence.\nWe encourage you to participate in whatever way you feel moved.
URL:https://heartwood.church/events/sunday-worship-86/
LOCATION:Heartwood Church\, 6477 10th St. N.\, Oakdale\, MN\, 55128\, United States
CATEGORIES:Formation,Worship
ATTACH;FMTTYPE=image/jpeg:https://heartwood.church/wp-content/uploads/2023/05/Series-Image-2-3-John.jpg
END:VEVENT
BEGIN:VEVENT
DTSTART;TZID=America/Chicago:20230820T100000
DTEND;TZID=America/Chicago:20230820T120000
DTSTAMP:20260425T130619
CREATED:20230530T151252Z
LAST-MODIFIED:20230801T154425Z
UID:3082-1692525600-1692532800@heartwood.church
SUMMARY:Sunday Worship - Walking in the Truth
DESCRIPTION:In this series\, 2 and 3 John looks at how to make sure we and our children walk in the Truth. \nOur worship is Ancient-Future and Multi-Generational\, so you will experience elements from the past and modern innovations. We’ll hear the joyous noise of children along with mature reverence.\nWe encourage you to participate in whatever way you feel moved.
URL:https://heartwood.church/events/sunday-worship-85/
LOCATION:Heartwood Church\, 6477 10th St. N.\, Oakdale\, MN\, 55128\, United States
CATEGORIES:Formation,Worship
ATTACH;FMTTYPE=image/jpeg:https://heartwood.church/wp-content/uploads/2023/05/Series-Image-2-3-John.jpg
END:VEVENT
BEGIN:VEVENT
DTSTART;TZID=America/Chicago:20230813T100000
DTEND;TZID=America/Chicago:20230813T120000
DTSTAMP:20260425T130619
CREATED:20230530T151155Z
LAST-MODIFIED:20230801T154105Z
UID:3081-1691920800-1691928000@heartwood.church
SUMMARY:Sunday Worship - Walking in the Truth
DESCRIPTION:In this series\, 2 and 3 John looks at how to make sure we and our children walk in the Truth. \nOur worship is Ancient-Future and Multi-Generational\, so you will experience elements from the past and modern innovations. We’ll hear the joyous noise of children along with mature reverence.\nWe encourage you to participate in whatever way you feel moved.
URL:https://heartwood.church/events/sunday-worship-84/
LOCATION:Heartwood Church\, 6477 10th St. N.\, Oakdale\, MN\, 55128\, United States
CATEGORIES:Formation,Worship
ATTACH;FMTTYPE=image/jpeg:https://heartwood.church/wp-content/uploads/2023/05/Series-Image-2-3-John.jpg
END:VEVENT
BEGIN:VEVENT
DTSTART;TZID=America/Chicago:20230806T100000
DTEND;TZID=America/Chicago:20230806T120000
DTSTAMP:20260425T130619
CREATED:20230530T150824Z
LAST-MODIFIED:20230801T153940Z
UID:3076-1691316000-1691323200@heartwood.church
SUMMARY:Sunday Worship - Walking in the Truth
DESCRIPTION:In this series\, 2 and 3 John looks at how to make sure we and our children walk in the Truth. \nOur worship is Ancient-Future and Multi-Generational\, so you will experience elements from the past and modern innovations. We’ll hear the joyous noise of children along with mature reverence.\nWe encourage you to participate in whatever way you feel moved.
URL:https://heartwood.church/events/sunday-worship-83/
LOCATION:Heartwood Church\, 6477 10th St. N.\, Oakdale\, MN\, 55128\, United States
CATEGORIES:Formation,Worship
ATTACH;FMTTYPE=image/jpeg:https://heartwood.church/wp-content/uploads/2023/05/Series-Image-2-3-John.jpg
END:VEVENT
BEGIN:VEVENT
DTSTART;TZID=America/Chicago:20230730T110000
DTEND;TZID=America/Chicago:20230730T130000
DTSTAMP:20260425T130619
CREATED:20230530T151012Z
LAST-MODIFIED:20230722T053308Z
UID:3078-1690714800-1690722000@heartwood.church
SUMMARY:5th Sunday Fellowship - Ice Cream Social
DESCRIPTION:LET’S HAVE SOME FUN! \nFollowing the 10 AM service\, we will serve up ice cream and root beer floats!\nCome over and join us. \n \n  \n  \n 
URL:https://heartwood.church/events/5th-sunday-fellowship-5/
LOCATION:Heartwood Church\, 6477 10th St. N.\, Oakdale\, MN\, 55128\, United States
CATEGORIES:Formation,Relationship Building,Special Event
ATTACH;FMTTYPE=image/jpeg:https://heartwood.church/wp-content/uploads/2022/04/FSF.jpg
END:VEVENT
BEGIN:VEVENT
DTSTART;TZID=America/Chicago:20230730T100000
DTEND;TZID=America/Chicago:20230730T120000
DTSTAMP:20260425T130619
CREATED:20230530T150634Z
LAST-MODIFIED:20230722T050856Z
UID:3073-1690711200-1690718400@heartwood.church
SUMMARY:Sunday Worship - Walking in the Truth
DESCRIPTION:In this series\, 2 and 3 John looks at how to make sure we and our children walk in the Truth. \nOur worship is Ancient-Future and Multi-Generational\, so you will experience elements from the past and modern innovations. We’ll hear the joyous noise of children along with mature reverence.\nWe encourage you to participate in whatever way you feel moved.
URL:https://heartwood.church/events/sunday-worship-82/
LOCATION:Heartwood Church\, 6477 10th St. N.\, Oakdale\, MN\, 55128\, United States
CATEGORIES:Formation,Worship
ATTACH;FMTTYPE=image/jpeg:https://heartwood.church/wp-content/uploads/2023/05/Series-Image-2-3-John.jpg
END:VEVENT
BEGIN:VEVENT
DTSTART;TZID=America/Chicago:20230723T100000
DTEND;TZID=America/Chicago:20230723T120000
DTSTAMP:20260425T130619
CREATED:20230530T150531Z
LAST-MODIFIED:20230722T050619Z
UID:3072-1690106400-1690113600@heartwood.church
SUMMARY:Sunday Worship - Walking in the Truth
DESCRIPTION:In this series\, 2 and 3 John looks at how to make sure we and our children walk in the Truth. \nOur worship is Ancient-Future and Multi-Generational\, so you will experience elements from the past and modern innovations. We’ll hear the joyous noise of children along with mature reverence.\nWe encourage you to participate in whatever way you feel moved.
URL:https://heartwood.church/events/sunday-worship-81/
LOCATION:Heartwood Church\, 6477 10th St. N.\, Oakdale\, MN\, 55128\, United States
CATEGORIES:Formation,Worship
ATTACH;FMTTYPE=image/jpeg:https://heartwood.church/wp-content/uploads/2023/05/Series-Image-2-3-John.jpg
END:VEVENT
BEGIN:VEVENT
DTSTART;TZID=America/Chicago:20230716T100000
DTEND;TZID=America/Chicago:20230716T120000
DTSTAMP:20260425T130619
CREATED:20230530T150431Z
LAST-MODIFIED:20230711T140303Z
UID:3069-1689501600-1689508800@heartwood.church
SUMMARY:Sunday Worship - The Great Commission
DESCRIPTION:In Pentecost season we engage the power of the Holy Spirit to fulfill the Great Commission. \nOur worship is Ancient-Future and Multi-Generational\, so you will experience elements from the past and modern innovations. We’ll hear the joyous noise of children along with mature reverence.\nWe encourage you to participate in whatever way you feel moved.
URL:https://heartwood.church/events/sunday-worship-80/
LOCATION:Heartwood Church\, 6477 10th St. N.\, Oakdale\, MN\, 55128\, United States
CATEGORIES:Formation,Worship
ATTACH;FMTTYPE=image/jpeg:https://heartwood.church/wp-content/uploads/2023/05/Great-Commission.jpg
END:VEVENT
BEGIN:VEVENT
DTSTART;TZID=America/Chicago:20230709T100000
DTEND;TZID=America/Chicago:20230709T120000
DTSTAMP:20260425T130619
CREATED:20230530T150146Z
LAST-MODIFIED:20230530T150146Z
UID:3066-1688896800-1688904000@heartwood.church
SUMMARY:Sunday Worship - The Great Commission
DESCRIPTION:In Pentecost season we engage the power of the Holy Spirit to fulfill the Great Commission. \nOur worship is Ancient-Future and Multi-Generational\, so you will experience elements from the past and modern innovations. We’ll hear the joyous noise of children along with mature reverence.\nWe encourage you to participate in whatever way you feel moved.
URL:https://heartwood.church/events/sunday-worship-the-great-commission-6/
LOCATION:Heartwood Church\, 6477 10th St. N.\, Oakdale\, MN\, 55128\, United States
CATEGORIES:Formation,Worship
ATTACH;FMTTYPE=image/jpeg:https://heartwood.church/wp-content/uploads/2023/05/Great-Commission.jpg
END:VEVENT
BEGIN:VEVENT
DTSTART;TZID=America/Chicago:20230702T100000
DTEND;TZID=America/Chicago:20230702T120000
DTSTAMP:20260425T130619
CREATED:20230530T150013Z
LAST-MODIFIED:20230530T150013Z
UID:3067-1688292000-1688299200@heartwood.church
SUMMARY:Sunday Worship - The Great Commission
DESCRIPTION:In Pentecost season we engage the power of the Holy Spirit to fulfill the Great Commission. \nOur worship is Ancient-Future and Multi-Generational\, so you will experience elements from the past and modern innovations. We’ll hear the joyous noise of children along with mature reverence.\nWe encourage you to participate in whatever way you feel moved.
URL:https://heartwood.church/events/sunday-worship-the-great-commission-5/
LOCATION:Heartwood Church\, 6477 10th St. N.\, Oakdale\, MN\, 55128\, United States
CATEGORIES:Formation,Worship
ATTACH;FMTTYPE=image/jpeg:https://heartwood.church/wp-content/uploads/2023/05/Great-Commission.jpg
END:VEVENT
BEGIN:VEVENT
DTSTART;TZID=America/Chicago:20230625T100000
DTEND;TZID=America/Chicago:20230625T120000
DTSTAMP:20260425T130619
CREATED:20230530T145732Z
LAST-MODIFIED:20230530T145732Z
UID:3064-1687687200-1687694400@heartwood.church
SUMMARY:Sunday Worship - The Great Commission
DESCRIPTION:In Pentecost season we engage the power of the Holy Spirit to fulfill the Great Commission. \nOur worship is Ancient-Future and Multi-Generational\, so you will experience elements from the past and modern innovations. We’ll hear the joyous noise of children along with mature reverence.\nWe encourage you to participate in whatever way you feel moved.
URL:https://heartwood.church/events/sunday-worship-the-great-commission-4/
LOCATION:Heartwood Church\, 6477 10th St. N.\, Oakdale\, MN\, 55128\, United States
CATEGORIES:Formation,Worship
ATTACH;FMTTYPE=image/jpeg:https://heartwood.church/wp-content/uploads/2023/05/Great-Commission.jpg
END:VEVENT
BEGIN:VEVENT
DTSTART;TZID=America/Chicago:20230618T100000
DTEND;TZID=America/Chicago:20230618T120000
DTSTAMP:20260425T130619
CREATED:20230530T145553Z
LAST-MODIFIED:20230530T152016Z
UID:3061-1687082400-1687089600@heartwood.church
SUMMARY:Sunday Worship - The Great Commission
DESCRIPTION:In Pentecost season\, we engage the power of the Holy Spirit to fulfill the Great Commission. \nOur worship is Ancient-Future and Multi-Generational\, so you will experience elements from the past and modern innovations. We’ll hear the joyous noise of children along with mature reverence.\nWe encourage you to participate in whatever way you feel moved.
URL:https://heartwood.church/events/sunday-worship-the-great-commission-3/
LOCATION:Heartwood Church\, 6477 10th St. N.\, Oakdale\, MN\, 55128\, United States
CATEGORIES:Formation,Worship
ATTACH;FMTTYPE=image/jpeg:https://heartwood.church/wp-content/uploads/2023/05/Great-Commission.jpg
END:VEVENT
BEGIN:VEVENT
DTSTART;TZID=America/Chicago:20230611T100000
DTEND;TZID=America/Chicago:20230611T120000
DTSTAMP:20260425T130619
CREATED:20230530T145455Z
LAST-MODIFIED:20230530T145455Z
UID:3056-1686477600-1686484800@heartwood.church
SUMMARY:Sunday Worship - The Great Commission
DESCRIPTION:In Pentecost season we engage the power of the Holy Spirit to fulfill the Great Commission. \nOur worship is Ancient-Future and Multi-Generational\, so you will experience elements from the past and modern innovations. We’ll hear the joyous noise of children along with mature reverence.\nWe encourage you to participate in whatever way you feel moved.
URL:https://heartwood.church/events/sunday-worship-the-great-commission-2/
LOCATION:Heartwood Church\, 6477 10th St. N.\, Oakdale\, MN\, 55128\, United States
CATEGORIES:Formation,Worship
ATTACH;FMTTYPE=image/jpeg:https://heartwood.church/wp-content/uploads/2023/05/Great-Commission.jpg
END:VEVENT
BEGIN:VEVENT
DTSTART;TZID=America/Chicago:20230604T100000
DTEND;TZID=America/Chicago:20230604T120000
DTSTAMP:20260425T130619
CREATED:20230530T145309Z
LAST-MODIFIED:20230530T145309Z
UID:3057-1685872800-1685880000@heartwood.church
SUMMARY:Sunday Worship - The Great Commission
DESCRIPTION:In Pentecost season we engage the power of the Holy Spirit to fulfill the Great Commission. \nOur worship is Ancient-Future and Multi-Generational\, so you will experience elements from the past and modern innovations. We’ll hear the joyous noise of children along with mature reverence.\nWe encourage you to participate in whatever way you feel moved.
URL:https://heartwood.church/events/sunday-worship-the-great-commission/
LOCATION:Heartwood Church\, 6477 10th St. N.\, Oakdale\, MN\, 55128\, United States
CATEGORIES:Formation,Relationship Building,Worship
ATTACH;FMTTYPE=image/jpeg:https://heartwood.church/wp-content/uploads/2023/05/Great-Commission.jpg
END:VEVENT
BEGIN:VEVENT
DTSTART;TZID=America/Chicago:20230528T100000
DTEND;TZID=America/Chicago:20230528T120000
DTSTAMP:20260425T130619
CREATED:20230412T040214Z
LAST-MODIFIED:20230413T003627Z
UID:3003-1685268000-1685275200@heartwood.church
SUMMARY:Sunday Worship - Holy and Human
DESCRIPTION:In Easter season we live into our new life (the resurrection) and await the Holy Spirit\, God’s presence to make individuals like Christ\, the church to be God’s people\, and the earth to become a new creation. \nOur worship is Ancient-Future and Multi-Generational\, so you will experience elements from the past and modern innovations. We’ll hear the joyous noise of children along with mature reverence.\nWe encourage you to participate in whatever way you feel moved.
URL:https://heartwood.church/events/sunday-worship-holy-and-human/
LOCATION:Heartwood Church\, 6477 10th St. N.\, Oakdale\, MN\, 55128\, United States
CATEGORIES:Formation,Relationship Building,Worship
ATTACH;FMTTYPE=image/jpeg:https://heartwood.church/wp-content/uploads/2023/04/Holy-and-Human.jpg
END:VEVENT
BEGIN:VEVENT
DTSTART;TZID=America/Chicago:20230521T100000
DTEND;TZID=America/Chicago:20230521T120000
DTSTAMP:20260425T130619
CREATED:20230228T172445Z
LAST-MODIFIED:20230412T040044Z
UID:2943-1684663200-1684670400@heartwood.church
SUMMARY:Sunday Worship - Holy and Human
DESCRIPTION:In Easter season we live into our new life (the resurrection) and await the Holy Spirit\, God’s presence to make individuals like Christ\, the church to be God’s people\, and the earth to become a new creation. \nOur worship is Ancient-Future and Multi-Generational\, so you will experience elements from the past and modern innovations. We’ll hear the joyous noise of children along with mature reverence.\nWe encourage you to participate in whatever way you feel moved.
URL:https://heartwood.church/events/sunday-worship-79/
LOCATION:Heartwood Church\, 6477 10th St. N.\, Oakdale\, MN\, 55128\, United States
CATEGORIES:Formation,Worship
ATTACH;FMTTYPE=image/jpeg:https://heartwood.church/wp-content/uploads/2023/04/Holy-and-Human.jpg
END:VEVENT
BEGIN:VEVENT
DTSTART;TZID=America/Chicago:20230514T100000
DTEND;TZID=America/Chicago:20230514T120000
DTSTAMP:20260425T130619
CREATED:20230228T172027Z
LAST-MODIFIED:20230412T035957Z
UID:2938-1684058400-1684065600@heartwood.church
SUMMARY:Sunday Worship - Holy and Human
DESCRIPTION:In Easter season we live into our new life (the resurrection) and await the Holy Spirit\, God’s presence to make individuals like Christ\, the church to be God’s people\, and the earth to become a new creation. \nOur worship is Ancient-Future and Multi-Generational\, so you will experience elements from the past and modern innovations. We’ll hear the joyous noise of children along with mature reverence.\nWe encourage you to participate in whatever way you feel moved.
URL:https://heartwood.church/events/sunday-worship-78/
LOCATION:Heartwood Church\, 6477 10th St. N.\, Oakdale\, MN\, 55128\, United States
CATEGORIES:Formation,Worship
ATTACH;FMTTYPE=image/jpeg:https://heartwood.church/wp-content/uploads/2023/04/Holy-and-Human.jpg
END:VEVENT
BEGIN:VEVENT
DTSTART;TZID=America/Chicago:20230507T100000
DTEND;TZID=America/Chicago:20230507T120000
DTSTAMP:20260425T130619
CREATED:20230228T165913Z
LAST-MODIFIED:20230412T035759Z
UID:2925-1683453600-1683460800@heartwood.church
SUMMARY:Sunday Worship - Holy and Human
DESCRIPTION:In Easter season we live into our new life (the resurrection) and await the Holy Spirit\, God’s presence to make individuals like Christ\, the church to be God’s people\, and the earth to become a new creation. \nOur worship is Ancient-Future and Multi-Generational\, so you will experience elements from the past and modern innovations. We’ll hear the joyous noise of children along with mature reverence.\nWe encourage you to participate in whatever way you feel moved.
URL:https://heartwood.church/events/sunday-worship-76/
LOCATION:Heartwood Church\, 6477 10th St. N.\, Oakdale\, MN\, 55128\, United States
CATEGORIES:Formation,Worship
ATTACH;FMTTYPE=image/jpeg:https://heartwood.church/wp-content/uploads/2023/04/Holy-and-Human.jpg
END:VEVENT
BEGIN:VEVENT
DTSTART;TZID=America/Chicago:20230430T100000
DTEND;TZID=America/Chicago:20230430T120000
DTSTAMP:20260425T130619
CREATED:20230228T170031Z
LAST-MODIFIED:20230412T035707Z
UID:2928-1682848800-1682856000@heartwood.church
SUMMARY:Sunday Worship - Holy and Human
DESCRIPTION:In Easter season we live into our new life (the resurrection) and await the Holy Spirit\, God’s presence to make individuals like Christ\, the church to be God’s people\, and the earth to become a new creation. \nOur worship is Ancient-Future and Multi-Generational\, so you will experience elements from the past and modern innovations. We’ll hear the joyous noise of children along with mature reverence.\nWe encourage you to participate in whatever way you feel moved.
URL:https://heartwood.church/events/sunday-worship-77/
LOCATION:Heartwood Church\, 6477 10th St. N.\, Oakdale\, MN\, 55128\, United States
CATEGORIES:Formation,Worship
ATTACH;FMTTYPE=image/jpeg:https://heartwood.church/wp-content/uploads/2023/04/Holy-and-Human.jpg
END:VEVENT
BEGIN:VEVENT
DTSTART;TZID=America/Chicago:20230425T093000
DTEND;TZID=America/Chicago:20230425T100000
DTSTAMP:20260425T130619
CREATED:20230412T042415Z
LAST-MODIFIED:20230412T042415Z
UID:3020-1682415000-1682416800@heartwood.church
SUMMARY:Tuesday Morning Prayer
DESCRIPTION:“The LORD is near to all who call on Him\, to all who call on Him in truth.” (Psalm 145:18) \n“The spirit of prayer makes us so intimate with God that we scarcely pass through an experience before we speak to Him about it.” (O. Hallesby)
URL:https://heartwood.church/events/tuesday-morning-prayer-90/
LOCATION:Heartwood Church\, 6477 10th St. N.\, Oakdale\, MN\, 55128\, United States
CATEGORIES:Formation,Prayer,Relationship Building
ATTACH;FMTTYPE=image/jpeg:https://heartwood.church/wp-content/uploads/2022/02/Prayer-2.jpeg
END:VEVENT
BEGIN:VEVENT
DTSTART;TZID=America/Chicago:20230423T100000
DTEND;TZID=America/Chicago:20230423T120000
DTSTAMP:20260425T130619
CREATED:20230228T165735Z
LAST-MODIFIED:20230412T035627Z
UID:2922-1682244000-1682251200@heartwood.church
SUMMARY:Sunday Worship - Holy and Human
DESCRIPTION:In Easter season we live into our new life (the resurrection) and await the Holy Spirit\, God’s presence to make individuals like Christ\, the church to be God’s people\, and the earth to become a new creation. \nOur worship is Ancient-Future and Multi-Generational\, so you will experience elements from the past and modern innovations. We’ll hear the joyous noise of children along with mature reverence.\nWe encourage you to participate in whatever way you feel moved.
URL:https://heartwood.church/events/sunday-worship-75/
LOCATION:Heartwood Church\, 6477 10th St. N.\, Oakdale\, MN\, 55128\, United States
CATEGORIES:Formation,Worship
ATTACH;FMTTYPE=image/jpeg:https://heartwood.church/wp-content/uploads/2023/04/Holy-and-Human.jpg
END:VEVENT
BEGIN:VEVENT
DTSTART;TZID=America/Chicago:20230418T093000
DTEND;TZID=America/Chicago:20230418T100000
DTSTAMP:20260425T130619
CREATED:20230412T042241Z
LAST-MODIFIED:20230412T042241Z
UID:3016-1681810200-1681812000@heartwood.church
SUMMARY:Tuesday Morning Prayer
DESCRIPTION:“The LORD is near to all who call on Him\, to all who call on Him in truth.” (Psalm 145:18) \n“The spirit of prayer makes us so intimate with God that we scarcely pass through an experience before we speak to Him about it.” (O. Hallesby)
URL:https://heartwood.church/events/tuesday-morning-prayer-89/
LOCATION:Heartwood Church\, 6477 10th St. N.\, Oakdale\, MN\, 55128\, United States
CATEGORIES:Formation,Prayer,Relationship Building
ATTACH;FMTTYPE=image/jpeg:https://heartwood.church/wp-content/uploads/2022/02/Prayer-2.jpeg
END:VEVENT
BEGIN:VEVENT
DTSTART;TZID=America/Chicago:20230416T100000
DTEND;TZID=America/Chicago:20230416T120000
DTSTAMP:20260425T130619
CREATED:20230228T165603Z
LAST-MODIFIED:20230412T035545Z
UID:2917-1681639200-1681646400@heartwood.church
SUMMARY:Sunday Worship - Holy and Human
DESCRIPTION: In Easter season we live into our new life (the resurrection) and await the Holy Spirit\, God’s presence to make individuals like Christ\, the church to be God’s people\, and the earth to become a new creation. \nOur worship is Ancient-Future and Multi-Generational\, so you will experience elements from the past and modern innovations. We’ll hear the joyous noise of children along with mature reverence.\nWe encourage you to participate in whatever way you feel moved.
URL:https://heartwood.church/events/sunday-worship-74/
LOCATION:Heartwood Church\, 6477 10th St. N.\, Oakdale\, MN\, 55128\, United States
CATEGORIES:Formation,Worship
ATTACH;FMTTYPE=image/jpeg:https://heartwood.church/wp-content/uploads/2023/04/Holy-and-Human.jpg
END:VEVENT
BEGIN:VEVENT
DTSTART;TZID=America/Chicago:20230411T093000
DTEND;TZID=America/Chicago:20230411T100000
DTSTAMP:20260425T130619
CREATED:20230412T042149Z
LAST-MODIFIED:20230412T042256Z
UID:3014-1681205400-1681207200@heartwood.church
SUMMARY:Tuesday Morning Prayer
DESCRIPTION:“The LORD is near to all who call on Him\, to all who call on Him in truth.” (Psalm 145:18) \n“The spirit of prayer makes us so intimate with God that we scarcely pass through an experience before we speak to Him about it.” (O. Hallesby)
URL:https://heartwood.church/events/3014/
LOCATION:Heartwood Church\, 6477 10th St. N.\, Oakdale\, MN\, 55128\, United States
CATEGORIES:Formation,Prayer,Relationship Building
ATTACH;FMTTYPE=image/jpeg:https://heartwood.church/wp-content/uploads/2022/02/Prayer-2.jpeg
END:VEVENT
BEGIN:VEVENT
DTSTART;TZID=America/Chicago:20230409T100000
DTEND;TZID=America/Chicago:20230409T120000
DTSTAMP:20260425T130619
CREATED:20230228T165521Z
LAST-MODIFIED:20230228T172514Z
UID:2918-1681034400-1681041600@heartwood.church
SUMMARY:Sunday Worship - Lord of the Sabbath
DESCRIPTION:Lent is a season when we sometimes deny the body with fasting or some other discipline. This year we will renew our bodies with the discipline of the Sabbath.\nThe Sabbath was given for rest\, for restoration. Jesus is the Lord of the Sabbath\, and we are spending Lent learning how Jesus restores us\, body and spirit.  \nOur worship is Ancient-Future and Multi-Generational\, so you will experience elements from the past and modern innovations. We’ll hear the joyous noise of children along with mature reverence.\nWe encourage you to participate in whatever way you feel moved.
URL:https://heartwood.church/events/sunday-worship-73/
LOCATION:Heartwood Church\, 6477 10th St. N.\, Oakdale\, MN\, 55128\, United States
CATEGORIES:Formation,Worship
ATTACH;FMTTYPE=image/jpeg:https://heartwood.church/wp-content/uploads/2023/02/Lord-of-the-Sabbath-DRAFT.jpg
END:VEVENT
END:VCALENDAR