BEGIN:VCALENDAR
VERSION:2.0
PRODID:-//Heartwood Church - ECPv6.15.10//NONSGML v1.0//EN
CALSCALE:GREGORIAN
METHOD:PUBLISH
X-WR-CALNAME:Heartwood Church
X-ORIGINAL-URL:https://heartwood.church
X-WR-CALDESC:Events for Heartwood Church
REFRESH-INTERVAL;VALUE=DURATION:PT1H
X-Robots-Tag:noindex
X-PUBLISHED-TTL:PT1H
BEGIN:VTIMEZONE
TZID:America/Chicago
BEGIN:DAYLIGHT
TZOFFSETFROM:-0600
TZOFFSETTO:-0500
TZNAME:CDT
DTSTART:20190310T080000
END:DAYLIGHT
BEGIN:STANDARD
TZOFFSETFROM:-0500
TZOFFSETTO:-0600
TZNAME:CST
DTSTART:20191103T070000
END:STANDARD
BEGIN:DAYLIGHT
TZOFFSETFROM:-0600
TZOFFSETTO:-0500
TZNAME:CDT
DTSTART:20200308T080000
END:DAYLIGHT
BEGIN:STANDARD
TZOFFSETFROM:-0500
TZOFFSETTO:-0600
TZNAME:CST
DTSTART:20201101T070000
END:STANDARD
BEGIN:DAYLIGHT
TZOFFSETFROM:-0600
TZOFFSETTO:-0500
TZNAME:CDT
DTSTART:20210314T080000
END:DAYLIGHT
BEGIN:STANDARD
TZOFFSETFROM:-0500
TZOFFSETTO:-0600
TZNAME:CST
DTSTART:20211107T070000
END:STANDARD
END:VTIMEZONE
BEGIN:VEVENT
DTSTART;TZID=America/Chicago:20201014T190000
DTEND;TZID=America/Chicago:20201014T200000
DTSTAMP:20260424T093821
CREATED:20200923T170237Z
LAST-MODIFIED:20201012T143708Z
UID:1226-1602702000-1602705600@heartwood.church
SUMMARY:Abundance Ministries Prayer Time
DESCRIPTION:
URL:https://heartwood.church/events/abundance-ministries-prayer-time-4/
LOCATION:Heartwood Church\, 6477 10th St. N.\, Oakdale\, MN\, 55128\, United States
CATEGORIES:Formation,Prayer,Worship
ATTACH;FMTTYPE=image/png:https://heartwood.church/wp-content/uploads/2020/09/praying-man.png
END:VEVENT
BEGIN:VEVENT
DTSTART;TZID=America/Chicago:20201013T093000
DTEND;TZID=America/Chicago:20201013T100000
DTSTAMP:20260424T093821
CREATED:20200923T165159Z
LAST-MODIFIED:20200930T155149Z
UID:1206-1602581400-1602583200@heartwood.church
SUMMARY:Tuesday Morning Prayer
DESCRIPTION:Need encouragement? Join us for prayer! \n“Don’t worry about anything; instead\, pray about EVERYTHING.\nTell God what you need and thank Him for all He has done.\nThen you will experience God’s peace…” (Philippians 4:6-7\, NLT)
URL:https://heartwood.church/events/tuesday-morning-prayer-2/
LOCATION:Heartwood Church\, 6477 10th St. N.\, Oakdale\, MN\, 55128\, United States
CATEGORIES:Formation,Prayer,Worship
ATTACH;FMTTYPE=image/png:https://heartwood.church/wp-content/uploads/2020/09/Praying-woman.png
END:VEVENT
BEGIN:VEVENT
DTSTART;TZID=America/Chicago:20201007T190000
DTEND;TZID=America/Chicago:20201007T200000
DTSTAMP:20260424T093821
CREATED:20200923T170004Z
LAST-MODIFIED:20201012T143359Z
UID:1223-1602097200-1602100800@heartwood.church
SUMMARY:Abundance Ministries Prayer Time
DESCRIPTION:
URL:https://heartwood.church/events/abundance-ministries-prayer-time-3/
LOCATION:Heartwood Church\, 6477 10th St. N.\, Oakdale\, MN\, 55128\, United States
CATEGORIES:Formation,Prayer,Worship
ATTACH;FMTTYPE=image/png:https://heartwood.church/wp-content/uploads/2020/09/praying-man.png
END:VEVENT
BEGIN:VEVENT
DTSTART;TZID=America/Chicago:20201006T093000
DTEND;TZID=America/Chicago:20201006T100000
DTSTAMP:20260424T093821
CREATED:20200923T165141Z
LAST-MODIFIED:20200930T154939Z
UID:1205-1601976600-1601978400@heartwood.church
SUMMARY:Tuesday Morning Prayer
DESCRIPTION:Need encouragement? Join us for prayer! \n“Don’t worry about anything; instead\, pray about EVERYTHING.\nTell God what you need and thank Him for all He has done.\nThen you will experience God’s peace…” (Philippians 4:6-7\, NLT)
URL:https://heartwood.church/events/tuesday-morning-prayer/
LOCATION:Heartwood Church\, 6477 10th St. N.\, Oakdale\, MN\, 55128\, United States
CATEGORIES:Formation,Prayer,Worship
ATTACH;FMTTYPE=image/png:https://heartwood.church/wp-content/uploads/2020/09/Praying-woman.png
END:VEVENT
BEGIN:VEVENT
DTSTART;TZID=America/Chicago:20201002T190000
DTEND;TZID=America/Chicago:20201002T200000
DTSTAMP:20260424T093821
CREATED:20200923T165901Z
LAST-MODIFIED:20200923T165901Z
UID:1219-1601665200-1601668800@heartwood.church
SUMMARY:Abundance Ministries Prayer Time
DESCRIPTION:
URL:https://heartwood.church/events/abundance-ministries-prayer-time-2/
LOCATION:Heartwood Church\, 6477 10th St. N.\, Oakdale\, MN\, 55128\, United States
CATEGORIES:Formation,Prayer,Worship
ATTACH;FMTTYPE=image/png:https://heartwood.church/wp-content/uploads/2020/09/praying-man.png
END:VEVENT
BEGIN:VEVENT
DTSTART;TZID=America/Chicago:20200929T093000
DTEND;TZID=America/Chicago:20200929T100000
DTSTAMP:20260424T093821
CREATED:20200923T165344Z
LAST-MODIFIED:20200923T165344Z
UID:1211-1601371800-1601373600@heartwood.church
SUMMARY:Tuesday Morning Prayer
DESCRIPTION:
URL:https://heartwood.church/events/tuesday-morning-prayer-3/
LOCATION:Heartwood Church\, 6477 10th St. N.\, Oakdale\, MN\, 55128\, United States
CATEGORIES:Formation,Prayer,Worship
ATTACH;FMTTYPE=image/png:https://heartwood.church/wp-content/uploads/2020/09/Praying-woman.png
END:VEVENT
BEGIN:VEVENT
DTSTART;TZID=America/Chicago:20200925T190000
DTEND;TZID=America/Chicago:20200925T200000
DTSTAMP:20260424T093821
CREATED:20200923T165803Z
LAST-MODIFIED:20200923T165803Z
UID:1217-1601060400-1601064000@heartwood.church
SUMMARY:Abundance Ministries Prayer Time
DESCRIPTION:
URL:https://heartwood.church/events/abundance-ministries-prayer-time/
LOCATION:Heartwood Church\, 6477 10th St. N.\, Oakdale\, MN\, 55128\, United States
CATEGORIES:Formation,Prayer,Worship
ATTACH;FMTTYPE=image/png:https://heartwood.church/wp-content/uploads/2020/09/praying-man.png
END:VEVENT
END:VCALENDAR