BEGIN:VCALENDAR
VERSION:2.0
PRODID:-//Heartwood Church - ECPv6.15.10//NONSGML v1.0//EN
CALSCALE:GREGORIAN
METHOD:PUBLISH
X-WR-CALNAME:Heartwood Church
X-ORIGINAL-URL:https://heartwood.church
X-WR-CALDESC:Events for Heartwood Church
REFRESH-INTERVAL;VALUE=DURATION:PT1H
X-Robots-Tag:noindex
X-PUBLISHED-TTL:PT1H
BEGIN:VTIMEZONE
TZID:America/Chicago
BEGIN:DAYLIGHT
TZOFFSETFROM:-0600
TZOFFSETTO:-0500
TZNAME:CDT
DTSTART:20200308T080000
END:DAYLIGHT
BEGIN:STANDARD
TZOFFSETFROM:-0500
TZOFFSETTO:-0600
TZNAME:CST
DTSTART:20201101T070000
END:STANDARD
BEGIN:DAYLIGHT
TZOFFSETFROM:-0600
TZOFFSETTO:-0500
TZNAME:CDT
DTSTART:20210314T080000
END:DAYLIGHT
BEGIN:STANDARD
TZOFFSETFROM:-0500
TZOFFSETTO:-0600
TZNAME:CST
DTSTART:20211107T070000
END:STANDARD
BEGIN:DAYLIGHT
TZOFFSETFROM:-0600
TZOFFSETTO:-0500
TZNAME:CDT
DTSTART:20220313T080000
END:DAYLIGHT
BEGIN:STANDARD
TZOFFSETFROM:-0500
TZOFFSETTO:-0600
TZNAME:CST
DTSTART:20221106T070000
END:STANDARD
BEGIN:DAYLIGHT
TZOFFSETFROM:-0600
TZOFFSETTO:-0500
TZNAME:CDT
DTSTART:20230312T080000
END:DAYLIGHT
BEGIN:STANDARD
TZOFFSETFROM:-0500
TZOFFSETTO:-0600
TZNAME:CST
DTSTART:20231105T070000
END:STANDARD
END:VTIMEZONE
BEGIN:VEVENT
DTSTART;TZID=America/Chicago:20220515T100000
DTEND;TZID=America/Chicago:20220515T120000
DTSTAMP:20260425T063821
CREATED:20220406T155817Z
LAST-MODIFIED:20220428T144955Z
UID:2555-1652608800-1652616000@heartwood.church
SUMMARY:Sunday Worship - Baptism
DESCRIPTION:What is baptism? Why the Church uses water for more than bathrooms\, landscaping\, and coffee. \nOur worship is Ancient-Future and Multi-Generational\, so you will experience elements from the past and modern innovations. We’ll hear the joyous noise of children along with mature reverence.\nWe encourage you to participate in whatever way you feel moved.
URL:https://heartwood.church/events/sunday-worship-51/
LOCATION:Heartwood Church\, 6477 10th St. N.\, Oakdale\, MN\, 55128\, United States
CATEGORIES:Formation,Relationship Building,Worship
ATTACH;FMTTYPE=image/jpeg:https://heartwood.church/wp-content/uploads/2022/04/BAPTISM.jpg
END:VEVENT
BEGIN:VEVENT
DTSTART;TZID=America/Chicago:20220510T093000
DTEND;TZID=America/Chicago:20220510T100000
DTSTAMP:20260425T063821
CREATED:20220406T160247Z
LAST-MODIFIED:20220428T152101Z
UID:2565-1652175000-1652176800@heartwood.church
SUMMARY:Tuesday Morning Prayer
DESCRIPTION:“The goal of prayer is to live all of my life and speak all of my words in the joyful awareness of the presence of God…” – John Ortberg \n  \n“What mighty praise\, O God\, belongs to You!\nWe will fulfill our vows to You\, for You answer our prayers.\nAll of us must come to You.\nThough we are overwhelmed by our sins\, You forgive them all.\nWhat joy for those You choose to bring near\, those who live in Your holy courts.\nWhat festivities await us inside Your holy Temple.\nYou faithfully answer our prayers with awesome deeds\, O God our Savior.\nYou are the hope of everyone on earth…” (Psalm 65:1-5)
URL:https://heartwood.church/events/tuesday-morning-prayer-62/
LOCATION:Heartwood Church\, 6477 10th St. N.\, Oakdale\, MN\, 55128\, United States
CATEGORIES:Formation,Prayer,Relationship Building
ATTACH;FMTTYPE=image/jpeg:https://heartwood.church/wp-content/uploads/2022/04/Tuesday-Prayer-768x432-1.jpg
END:VEVENT
BEGIN:VEVENT
DTSTART;TZID=America/Chicago:20220508T100000
DTEND;TZID=America/Chicago:20220508T120000
DTSTAMP:20260425T063821
CREATED:20220406T155727Z
LAST-MODIFIED:20220428T144439Z
UID:2553-1652004000-1652011200@heartwood.church
SUMMARY:Sunday Worship - Baptism
DESCRIPTION:  \nWhat is baptism? Why the Church uses water for more than bathrooms\, landscaping\, and coffee. \nOur worship is Ancient-Future and Multi-Generational\, so you will experience elements from the past and modern innovations. We’ll hear the joyous noise of children along with mature reverence.\nWe encourage you to participate in whatever way you feel moved.
URL:https://heartwood.church/events/sunday-worship-50/
LOCATION:Heartwood Church\, 6477 10th St. N.\, Oakdale\, MN\, 55128\, United States
CATEGORIES:Formation,Relationship Building,Worship
ATTACH;FMTTYPE=image/jpeg:https://heartwood.church/wp-content/uploads/2022/04/BAPTISM.jpg
END:VEVENT
BEGIN:VEVENT
DTSTART;VALUE=DATE:20220508
DTEND;VALUE=DATE:20220509
DTSTAMP:20260425T063821
CREATED:20220428T152938Z
LAST-MODIFIED:20220501T002802Z
UID:2597-1651968000-1652054399@heartwood.church
SUMMARY:Baby Supply Drive Begins
DESCRIPTION:From May 8 through June 19\, we will be collecting baby wipes and baby bottles to\ndistribute to our partner organizations\, First Care Pregnancy Center and Tubman.
URL:https://heartwood.church/events/baby-supply-drive-begins/
LOCATION:Heartwood Church\, 6477 10th St. N.\, Oakdale\, MN\, 55128\, United States
CATEGORIES:Community,Partner Fundraiser,Relationship Building,Special Event
ATTACH;FMTTYPE=image/jpeg:https://heartwood.church/wp-content/uploads/2019/04/baby_wipes.jpg
END:VEVENT
BEGIN:VEVENT
DTSTART;TZID=America/Chicago:20220503T093000
DTEND;TZID=America/Chicago:20220503T100000
DTSTAMP:20260425T063821
CREATED:20220406T160145Z
LAST-MODIFIED:20220428T152136Z
UID:2563-1651570200-1651572000@heartwood.church
SUMMARY:Tuesday Morning Prayer
DESCRIPTION:“The goal of prayer is to live all of my life and speak all of my words in the joyful awareness of the presence of God…” – John Ortberg \n  \n“What mighty praise\, O God\, belongs to You!\nWe will fulfill our vows to You\, for You answer our prayers.\nAll of us must come to You.\nThough we are overwhelmed by our sins\, You forgive them all.\nWhat joy for those You choose to bring near\, those who live in Your holy courts.\nWhat festivities await us inside Your holy Temple.\nYou faithfully answer our prayers with awesome deeds\, O God our Savior.\nYou are the hope of everyone on earth…” (Psalm 65:1-5)
URL:https://heartwood.church/events/tuesday-morning-prayer-61/
LOCATION:Heartwood Church\, 6477 10th St. N.\, Oakdale\, MN\, 55128\, United States
CATEGORIES:Formation,Prayer,Relationship Building
ATTACH;FMTTYPE=image/jpeg:https://heartwood.church/wp-content/uploads/2022/04/Tuesday-Prayer-768x432-1.jpg
END:VEVENT
BEGIN:VEVENT
DTSTART;TZID=America/Chicago:20220501T100000
DTEND;TZID=America/Chicago:20220501T120000
DTSTAMP:20260425T063821
CREATED:20220406T155627Z
LAST-MODIFIED:20220428T144331Z
UID:2551-1651399200-1651406400@heartwood.church
SUMMARY:Sunday Worship - Baptism
DESCRIPTION:What is baptism? Why the Church uses water for more than bathrooms\, landscaping\, and coffee. \nOur worship is Ancient-Future and Multi-Generational\, so you will experience elements from the past and modern innovations. We’ll hear the joyous noise of children along with mature reverence.\nWe encourage you to participate in whatever way you feel moved.
URL:https://heartwood.church/events/sunday-worship-49/
LOCATION:Heartwood Church\, 6477 10th St. N.\, Oakdale\, MN\, 55128\, United States
CATEGORIES:Formation,Relationship Building,Worship
ATTACH;FMTTYPE=image/jpeg:https://heartwood.church/wp-content/uploads/2022/04/BAPTISM.jpg
END:VEVENT
BEGIN:VEVENT
DTSTART;TZID=America/Chicago:20220426T093000
DTEND;TZID=America/Chicago:20220426T100000
DTSTAMP:20260425T063821
CREATED:20220406T155336Z
LAST-MODIFIED:20220406T155336Z
UID:2547-1650965400-1650967200@heartwood.church
SUMMARY:Tuesday Morning Prayer
DESCRIPTION:“Prayer delights God’s ear; it melts His heart.” – Thomas Watson \n\n“…If my people who are called by My Name will humble themselves and pray and seek My face and turn from their wicked ways\, I will hear from heaven and will forgive their sins and restore their land.”\n(2 Chronicles 7:14) 
URL:https://heartwood.church/events/tuesday-morning-prayer-60/
LOCATION:Heartwood Church\, 6477 10th St. N.\, Oakdale\, MN\, 55128\, United States
CATEGORIES:Formation,Prayer,Relationship Building
ATTACH;FMTTYPE=image/jpeg:https://heartwood.church/wp-content/uploads/2022/02/Prayer-2.jpeg
END:VEVENT
BEGIN:VEVENT
DTSTART;TZID=America/Chicago:20220419T093000
DTEND;TZID=America/Chicago:20220419T100000
DTSTAMP:20260425T063821
CREATED:20220406T155214Z
LAST-MODIFIED:20220406T155214Z
UID:2545-1650360600-1650362400@heartwood.church
SUMMARY:Tuesday Morning Prayer
DESCRIPTION:“Prayer delights God’s ear; it melts His heart.” – Thomas Watson \n\n“…If my people who are called by My Name will humble themselves and pray and seek My face and turn from their wicked ways\, I will hear from heaven and will forgive their sins and restore their land.”\n(2 Chronicles 7:14) 
URL:https://heartwood.church/events/tuesday-morning-prayer-59/
LOCATION:Heartwood Church\, 6477 10th St. N.\, Oakdale\, MN\, 55128\, United States
CATEGORIES:Formation,Prayer,Relationship Building
ATTACH;FMTTYPE=image/jpeg:https://heartwood.church/wp-content/uploads/2022/02/Prayer-2.jpeg
END:VEVENT
BEGIN:VEVENT
DTSTART;TZID=America/Chicago:20220329T093000
DTEND;TZID=America/Chicago:20220329T100000
DTSTAMP:20260425T063821
CREATED:20220224T170025Z
LAST-MODIFIED:20220224T170025Z
UID:2483-1648546200-1648548000@heartwood.church
SUMMARY:Tuesday Morning Prayer
DESCRIPTION:“Prayer is as natural an expression of faith as breathing is of life.” – Jonathan Edwards \n  \n“May my prayer be set before you like incense; may the lifting up of my hands be like the evening sacrifice.”\n(Psalm 141:2)
URL:https://heartwood.church/events/tuesday-morning-prayer-57/
LOCATION:Heartwood Church\, 6477 10th St. N.\, Oakdale\, MN\, 55128\, United States
CATEGORIES:Formation,Prayer,Relationship Building
ATTACH;FMTTYPE=image/jpeg:https://heartwood.church/wp-content/uploads/2022/02/Prayer-2.jpeg
END:VEVENT
BEGIN:VEVENT
DTSTART;TZID=America/Chicago:20220327T100000
DTEND;TZID=America/Chicago:20220327T120000
DTSTAMP:20260425T063821
CREATED:20220304T172902Z
LAST-MODIFIED:20220304T172902Z
UID:2512-1648375200-1648382400@heartwood.church
SUMMARY:Sunday Worship - Jesus and the Romans
DESCRIPTION:If Jesus could reach Roman society\, He can reach ours. \nOur worship is Ancient-Future and Multi-Generational\, so you will experience elements from the past and modern innovations. We’ll hear the joyous noise of children along with mature reverence.\nWe encourage you to participate in whatever way you feel moved.
URL:https://heartwood.church/events/sunday-worship-jesus-and-the-romans-3/
LOCATION:Heartwood Church\, 6477 10th St. N.\, Oakdale\, MN\, 55128\, United States
CATEGORIES:Formation,Relationship Building,Worship
ATTACH;FMTTYPE=image/jpeg:https://heartwood.church/wp-content/uploads/2022/01/Jesus-and-the-Romans-Lent-2022.jpg
END:VEVENT
BEGIN:VEVENT
DTSTART;TZID=America/Chicago:20220322T093000
DTEND;TZID=America/Chicago:20220322T100000
DTSTAMP:20260425T063821
CREATED:20220224T165924Z
LAST-MODIFIED:20220224T165924Z
UID:2482-1647941400-1647943200@heartwood.church
SUMMARY:Tuesday Morning Prayer
DESCRIPTION:“Prayer is as natural an expression of faith as breathing is of life.” – Jonathan Edwards \n  \n“May my prayer be set before you like incense; may the lifting up of my hands be like the evening sacrifice.”\n(Psalm 141:2)
URL:https://heartwood.church/events/tuesday-morning-prayer-56/
LOCATION:Heartwood Church\, 6477 10th St. N.\, Oakdale\, MN\, 55128\, United States
CATEGORIES:Formation,Prayer,Relationship Building
ATTACH;FMTTYPE=image/jpeg:https://heartwood.church/wp-content/uploads/2022/02/Prayer-2.jpeg
END:VEVENT
BEGIN:VEVENT
DTSTART;TZID=America/Chicago:20220320T100000
DTEND;TZID=America/Chicago:20220320T120000
DTSTAMP:20260425T063821
CREATED:20220304T172443Z
LAST-MODIFIED:20220304T172443Z
UID:2509-1647770400-1647777600@heartwood.church
SUMMARY:Sunday Worship - Jesus and the Romans
DESCRIPTION:If Jesus could reach Roman society\, He can reach ours. \nOur worship is Ancient-Future and Multi-Generational\, so you will experience elements from the past and modern innovations. We’ll hear the joyous noise of children along with mature reverence.\nWe encourage you to participate in whatever way you feel moved.
URL:https://heartwood.church/events/sunday-worship-jesus-and-the-romans-2/
LOCATION:Heartwood Church\, 6477 10th St. N.\, Oakdale\, MN\, 55128\, United States
CATEGORIES:Formation,Relationship Building,Worship
ATTACH;FMTTYPE=image/jpeg:https://heartwood.church/wp-content/uploads/2022/01/Jesus-and-the-Romans-Lent-2022.jpg
END:VEVENT
BEGIN:VEVENT
DTSTART;TZID=America/Chicago:20220315T093000
DTEND;TZID=America/Chicago:20220315T100000
DTSTAMP:20260425T063821
CREATED:20220224T165358Z
LAST-MODIFIED:20220224T165358Z
UID:2480-1647336600-1647338400@heartwood.church
SUMMARY:Tuesday Morning Prayer
DESCRIPTION:“Prayer is as natural an expression of faith as breathing is of life.” – Jonathan Edwards \n  \n“May my prayer be set before you like incense; may the lifting up of my hands be like the evening sacrifice.”\n(Psalm 141:2)
URL:https://heartwood.church/events/tuesday-morning-prayer-55/
LOCATION:Heartwood Church\, 6477 10th St. N.\, Oakdale\, MN\, 55128\, United States
CATEGORIES:Formation,Prayer,Relationship Building
ATTACH;FMTTYPE=image/jpeg:https://heartwood.church/wp-content/uploads/2022/02/Prayer-2.jpeg
END:VEVENT
BEGIN:VEVENT
DTSTART;TZID=America/Chicago:20220308T093000
DTEND;TZID=America/Chicago:20220308T100000
DTSTAMP:20260425T063821
CREATED:20220224T165143Z
LAST-MODIFIED:20220224T165407Z
UID:2477-1646731800-1646733600@heartwood.church
SUMMARY:Tuesday Morning Prayer
DESCRIPTION:“Prayer is as natural an expression of faith as breathing is of life.” – Jonathan Edwards \n  \n“May my prayer be set before you like incense; may the lifting up of my hands be like the evening sacrifice.”\n(Psalm 141:2)
URL:https://heartwood.church/events/tuesday-morning-prayer-53/
LOCATION:Heartwood Church\, 6477 10th St. N.\, Oakdale\, MN\, 55128\, United States
CATEGORIES:Formation,Prayer,Relationship Building
ATTACH;FMTTYPE=image/jpeg:https://heartwood.church/wp-content/uploads/2022/02/Prayer-2.jpeg
END:VEVENT
BEGIN:VEVENT
DTSTART;TZID=America/Chicago:20220302T190000
DTEND;TZID=America/Chicago:20220302T190000
DTSTAMP:20260425T063821
CREATED:20220224T170504Z
LAST-MODIFIED:20220224T170504Z
UID:2486-1646247600-1646247600@heartwood.church
SUMMARY:Ash Wednesday Service
DESCRIPTION:
URL:https://heartwood.church/events/ash-wednesday-service-2/
LOCATION:Heartwood Church\, 6477 10th St. N.\, Oakdale\, MN\, 55128\, United States
CATEGORIES:Formation,Prayer,Relationship Building,Special Event,Worship
ATTACH;FMTTYPE=image/png:https://heartwood.church/wp-content/uploads/2020/01/Heartwood_Ash_Wed.png
END:VEVENT
BEGIN:VEVENT
DTSTART;TZID=America/Chicago:20220301T093000
DTEND;TZID=America/Chicago:20220301T100000
DTSTAMP:20260425T063821
CREATED:20220224T165146Z
LAST-MODIFIED:20220224T165443Z
UID:2475-1646127000-1646128800@heartwood.church
SUMMARY:Tuesday Morning Prayer
DESCRIPTION:“Prayer is as natural an expression of faith as breathing is of life.” – Jonathan Edwards \n  \n“May my prayer be set before you like incense; may the lifting up of my hands be like the evening sacrifice.”\n(Psalm 141:2)
URL:https://heartwood.church/events/tuesday-morning-prayer-54/
LOCATION:Heartwood Church\, 6477 10th St. N.\, Oakdale\, MN\, 55128\, United States
CATEGORIES:Formation,Prayer,Relationship Building
ATTACH;FMTTYPE=image/jpeg:https://heartwood.church/wp-content/uploads/2022/02/Prayer-2.jpeg
END:VEVENT
BEGIN:VEVENT
DTSTART;TZID=America/Chicago:20220222T093000
DTEND;TZID=America/Chicago:20220222T100000
DTSTAMP:20260425T063822
CREATED:20220224T163429Z
LAST-MODIFIED:20220224T165758Z
UID:2467-1645522200-1645524000@heartwood.church
SUMMARY:Tuesday Morning Prayer
DESCRIPTION:“Prayer should be the key of the day and the lock of the night.” – George Herbert \n  \n“Hear the supplications of your servant and of your people Israel when they pray toward this place. Hear from heaven\, your dwelling place; and when you hear\, forgive.”\n(2 Chronicles 6:21)
URL:https://heartwood.church/events/tuesday-morning-prayer-49/
LOCATION:Heartwood Church\, 6477 10th St. N.\, Oakdale\, MN\, 55128\, United States
CATEGORIES:Formation,Prayer,Relationship Building
ATTACH;FMTTYPE=image/jpeg:https://heartwood.church/wp-content/uploads/2022/02/Prayer.jpg
END:VEVENT
BEGIN:VEVENT
DTSTART;TZID=America/Chicago:20220215T093000
DTEND;TZID=America/Chicago:20220215T100000
DTSTAMP:20260425T063822
CREATED:20220224T163615Z
LAST-MODIFIED:20220224T165604Z
UID:2466-1644917400-1644919200@heartwood.church
SUMMARY:Tuesday Morning Prayer
DESCRIPTION:“Prayer should be the key of the day and the lock of the night.” – George Herbert \n  \n“Hear the supplications of your servant and of your people Israel when they pray toward this place. Hear from heaven\, your dwelling place; and when you hear\, forgive.”\n(2 Chronicles 6:21)
URL:https://heartwood.church/events/tuesday-morning-prayer-50/
LOCATION:Heartwood Church\, 6477 10th St. N.\, Oakdale\, MN\, 55128\, United States
CATEGORIES:Formation,Prayer,Relationship Building
ATTACH;FMTTYPE=image/jpeg:https://heartwood.church/wp-content/uploads/2022/02/Prayer.jpg
END:VEVENT
BEGIN:VEVENT
DTSTART;TZID=America/Chicago:20220208T093000
DTEND;TZID=America/Chicago:20220208T100000
DTSTAMP:20260425T063822
CREATED:20220224T163820Z
LAST-MODIFIED:20220224T165638Z
UID:2471-1644312600-1644314400@heartwood.church
SUMMARY:Tuesday Morning Prayer
DESCRIPTION:“Prayer should be the key of the day and the lock of the night.” – George Herbert \n  \n“Hear the supplications of your servant and of your people Israel when they pray toward this place. Hear from heaven\, your dwelling place; and when you hear\, forgive.”\n(2 Chronicles 6:21)
URL:https://heartwood.church/events/tuesday-morning-prayer-51/
LOCATION:Heartwood Church\, 6477 10th St. N.\, Oakdale\, MN\, 55128\, United States
CATEGORIES:Formation,Prayer,Relationship Building
ATTACH;FMTTYPE=image/jpeg:https://heartwood.church/wp-content/uploads/2022/02/Prayer.jpg
END:VEVENT
BEGIN:VEVENT
DTSTART;TZID=America/Chicago:20220201T093000
DTEND;TZID=America/Chicago:20220201T100000
DTSTAMP:20260425T063822
CREATED:20220224T164107Z
LAST-MODIFIED:20220224T165703Z
UID:2473-1643707800-1643709600@heartwood.church
SUMMARY:Tuesday Morning Prayer
DESCRIPTION:“Prayer should be the key of the day and the lock of the night.” – George Herbert \n  \n“Hear the supplications of your servant and of your people Israel when they pray toward this place. Hear from heaven\, your dwelling place; and when you hear\, forgive.”\n(2 Chronicles 6:21)
URL:https://heartwood.church/events/tuesday-morning-prayer-52/
LOCATION:Heartwood Church\, 6477 10th St. N.\, Oakdale\, MN\, 55128\, United States
CATEGORIES:Formation,Prayer,Relationship Building
ATTACH;FMTTYPE=image/jpeg:https://heartwood.church/wp-content/uploads/2022/02/Prayer.jpg
END:VEVENT
BEGIN:VEVENT
DTSTART;TZID=America/Chicago:20220125T093000
DTEND;TZID=America/Chicago:20220125T100000
DTSTAMP:20260425T063822
CREATED:20220112T163433Z
LAST-MODIFIED:20220112T163433Z
UID:2423-1643103000-1643104800@heartwood.church
SUMMARY:Tuesday Morning Prayer
DESCRIPTION:“Prayer is putting oneself in the hands of God.”\n~ Mother Teresa \n\n“’…I am the LORD your God\, who upholds your right hand\, Who says to you\, ‘Do not fear\, I will help you.’”\n(Isaiah 41:13)
URL:https://heartwood.church/events/tuesday-morning-prayer-48/
LOCATION:Heartwood Church\, 6477 10th St. N.\, Oakdale\, MN\, 55128\, United States
CATEGORIES:Formation,Prayer,Relationship Building
ATTACH;FMTTYPE=image/jpeg:https://heartwood.church/wp-content/uploads/2022/01/prayer.jpg
END:VEVENT
BEGIN:VEVENT
DTSTART;TZID=America/Chicago:20220123T130000
DTEND;TZID=America/Chicago:20220123T150000
DTSTAMP:20260425T063822
CREATED:20220117T191309Z
LAST-MODIFIED:20220117T191309Z
UID:2447-1642942800-1642950000@heartwood.church
SUMMARY:Special Worship Service with Eternal Life Baptist Church
DESCRIPTION:Join Eternal Life Baptist Church at their new location in North St. Paul as they celebrate their 7th anniversary! \n 
URL:https://heartwood.church/events/special-worship-service-with-eternal-life-baptist-church/
LOCATION:North Haven Church\, 2240 15th Ave E\, North St. Paul\, MN\, 55109\, United States
CATEGORIES:Relationship Building,Special Event,Worship
ATTACH;FMTTYPE=image/png:https://heartwood.church/wp-content/uploads/2022/01/Eternal-Life-logo.png
END:VEVENT
BEGIN:VEVENT
DTSTART;TZID=America/Chicago:20220118T093000
DTEND;TZID=America/Chicago:20220118T100000
DTSTAMP:20260425T063822
CREATED:20220112T163248Z
LAST-MODIFIED:20220112T163248Z
UID:2421-1642498200-1642500000@heartwood.church
SUMMARY:Tuesday Morning Prayer
DESCRIPTION:“Prayer is putting oneself in the hands of God.”\n~ Mother Teresa \n\n“’…I am the LORD your God\, who upholds your right hand\, Who says to you\, ‘Do not fear\, I will help you.’”\n(Isaiah 41:13)
URL:https://heartwood.church/events/tuesday-morning-prayer-47/
LOCATION:Heartwood Church\, 6477 10th St. N.\, Oakdale\, MN\, 55128\, United States
CATEGORIES:Formation,Prayer,Relationship Building
ATTACH;FMTTYPE=image/jpeg:https://heartwood.church/wp-content/uploads/2022/01/prayer.jpg
END:VEVENT
BEGIN:VEVENT
DTSTART;TZID=America/Chicago:20220111T093000
DTEND;TZID=America/Chicago:20220111T100000
DTSTAMP:20260425T063822
CREATED:20220112T163148Z
LAST-MODIFIED:20220112T163148Z
UID:2419-1641893400-1641895200@heartwood.church
SUMMARY:Tuesday Morning Prayer
DESCRIPTION:“Prayer is putting oneself in the hands of God.”\n~ Mother Teresa \n\n“’…I am the LORD your God\, who upholds your right hand\, Who says to you\, ‘Do not fear\, I will help you.’”\n(Isaiah 41:13)
URL:https://heartwood.church/events/tuesday-morning-prayer-46/
LOCATION:Heartwood Church\, 6477 10th St. N.\, Oakdale\, MN\, 55128\, United States
CATEGORIES:Formation,Prayer,Relationship Building
ATTACH;FMTTYPE=image/jpeg:https://heartwood.church/wp-content/uploads/2022/01/prayer.jpg
END:VEVENT
BEGIN:VEVENT
DTSTART;TZID=America/Chicago:20220104T093000
DTEND;TZID=America/Chicago:20220104T100000
DTSTAMP:20260425T063822
CREATED:20220106T164036Z
LAST-MODIFIED:20220112T163338Z
UID:2415-1641288600-1641290400@heartwood.church
SUMMARY:Tuesday Morning Prayer
DESCRIPTION:“Prayer is putting oneself in the hands of God.”\n~ Mother Teresa \n\n“’…I am the LORD your God\, who upholds your right hand\, Who says to you\, ‘Do not fear\, I will help you.’”\n(Isaiah 41:13)
URL:https://heartwood.church/events/tuesday-morning-prayer-45/
LOCATION:Heartwood Church\, 6477 10th St. N.\, Oakdale\, MN\, 55128\, United States
CATEGORIES:Formation,Prayer,Relationship Building
ATTACH;FMTTYPE=image/jpeg:https://heartwood.church/wp-content/uploads/2022/01/prayer.jpg
END:VEVENT
BEGIN:VEVENT
DTSTART;TZID=America/Chicago:20211228T093000
DTEND;TZID=America/Chicago:20211228T100000
DTSTAMP:20260425T063822
CREATED:20211103T143926Z
LAST-MODIFIED:20211103T144727Z
UID:2321-1640683800-1640685600@heartwood.church
SUMMARY:Tuesday Morning Prayer
DESCRIPTION:“Advent\, like its cousin Lent\, is a season for prayer and reformation of our hearts. Since it comes at winter time\, fire is a fitting sign to help us celebrate Advent…If Christ is to come more fully into our lives this Christmas\, if God is to become really incarnate for us\, then fire will have to be present in our prayer. Our worship and devotion will have to stoke the kind of fire in our souls that can truly change our hearts. Ours is a great responsibility not to waste this Advent time.”\n~ Edward Hays \n  \n“…He will be filled with the Holy Spirit even before he is born. He will bring back many of the people of Israel to the Lord their God. And he will go on before the Lord\, in the spirit and power of Elijah\, to turn the hearts of the parents to their children and the disobedient to the wisdom of the righteous—to make ready a people prepared for the Lord.”\n(Luke 1:14-17)
URL:https://heartwood.church/events/tuesday-morning-prayer-41/
LOCATION:Heartwood Church\, 6477 10th St. N.\, Oakdale\, MN\, 55128\, United States
CATEGORIES:Formation,Prayer,Relationship Building
ATTACH;FMTTYPE=image/jpeg:https://heartwood.church/wp-content/uploads/2021/11/Advent_prayer.width-1200.jpg
END:VEVENT
BEGIN:VEVENT
DTSTART;TZID=America/Chicago:20211221T093000
DTEND;TZID=America/Chicago:20211221T100000
DTSTAMP:20260425T063822
CREATED:20211103T144026Z
LAST-MODIFIED:20211103T144751Z
UID:2318-1640079000-1640080800@heartwood.church
SUMMARY:Tuesday Morning Prayer
DESCRIPTION:“Advent\, like its cousin Lent\, is a season for prayer and reformation of our hearts. Since it comes at winter time\, fire is a fitting sign to help us celebrate Advent…If Christ is to come more fully into our lives this Christmas\, if God is to become really incarnate for us\, then fire will have to be present in our prayer. Our worship and devotion will have to stoke the kind of fire in our souls that can truly change our hearts. Ours is a great responsibility not to waste this Advent time.”\n~ Edward Hays \n  \n“…He will be filled with the Holy Spirit even before he is born. He will bring back many of the people of Israel to the Lord their God. And he will go on before the Lord\, in the spirit and power of Elijah\, to turn the hearts of the parents to their children and the disobedient to the wisdom of the righteous—to make ready a people prepared for the Lord.”\n(Luke 1:14-17)
URL:https://heartwood.church/events/tuesday-morning-prayer-42/
LOCATION:Heartwood Church\, 6477 10th St. N.\, Oakdale\, MN\, 55128\, United States
CATEGORIES:Formation,Prayer,Relationship Building
ATTACH;FMTTYPE=image/jpeg:https://heartwood.church/wp-content/uploads/2021/11/Advent_prayer.width-1200.jpg
END:VEVENT
BEGIN:VEVENT
DTSTART;TZID=America/Chicago:20211218T090000
DTEND;TZID=America/Chicago:20211218T130000
DTSTAMP:20260425T063822
CREATED:20211208T162708Z
LAST-MODIFIED:20211208T162708Z
UID:2380-1639818000-1639832400@heartwood.church
SUMMARY:Winter Wonderland
DESCRIPTION:The Oakdale Recreation Department\, Oakdale Area Chamber of Commerce and First Resource Bank\nare partnering to provide a variety of winter activities for the whole family! \nCost: FREE \nA donation of non-perishable food for the local food shelf will be accepted at this FREE family event.
URL:https://heartwood.church/events/winter-wonderland/
LOCATION:Oakdale Discovery Center\, 4444 Hadley Avenue North\, Oakdale\, MN\, 55128\, United States
CATEGORIES:Community,Relationship Building,Special Event
ATTACH;FMTTYPE=image/jpeg:https://heartwood.church/wp-content/uploads/2021/11/slegh.jpg
END:VEVENT
BEGIN:VEVENT
DTSTART;TZID=America/Chicago:20211214T093000
DTEND;TZID=America/Chicago:20211214T100000
DTSTAMP:20260425T063822
CREATED:20211103T144108Z
LAST-MODIFIED:20211103T144820Z
UID:2317-1639474200-1639476000@heartwood.church
SUMMARY:Tuesday Morning Prayer
DESCRIPTION:“Advent\, like its cousin Lent\, is a season for prayer and reformation of our hearts. Since it comes at winter time\, fire is a fitting sign to help us celebrate Advent…If Christ is to come more fully into our lives this Christmas\, if God is to become really incarnate for us\, then fire will have to be present in our prayer. Our worship and devotion will have to stoke the kind of fire in our souls that can truly change our hearts. Ours is a great responsibility not to waste this Advent time.”\n~ Edward Hays \n  \n“…He will be filled with the Holy Spirit even before he is born. He will bring back many of the people of Israel to the Lord their God. And he will go on before the Lord\, in the spirit and power of Elijah\, to turn the hearts of the parents to their children and the disobedient to the wisdom of the righteous—to make ready a people prepared for the Lord.”\n(Luke 1:14-17)
URL:https://heartwood.church/events/tuesday-morning-prayer-43/
LOCATION:Heartwood Church\, 6477 10th St. N.\, Oakdale\, MN\, 55128\, United States
CATEGORIES:Formation,Prayer,Relationship Building
ATTACH;FMTTYPE=image/jpeg:https://heartwood.church/wp-content/uploads/2021/11/Advent_prayer.width-1200.jpg
END:VEVENT
BEGIN:VEVENT
DTSTART;TZID=America/Chicago:20211207T093000
DTEND;TZID=America/Chicago:20211207T100000
DTSTAMP:20260425T063822
CREATED:20211103T144146Z
LAST-MODIFIED:20211103T144636Z
UID:2313-1638869400-1638871200@heartwood.church
SUMMARY:Tuesday Morning Prayer
DESCRIPTION:“Advent\, like its cousin Lent\, is a season for prayer and reformation of our hearts. Since it comes at winter time\, fire is a fitting sign to help us celebrate Advent…If Christ is to come more fully into our lives this Christmas\, if God is to become really incarnate for us\, then fire will have to be present in our prayer. Our worship and devotion will have to stoke the kind of fire in our souls that can truly change our hearts. Ours is a great responsibility not to waste this Advent time.”\n~ Edward Hays \n  \n“…He will be filled with the Holy Spirit even before he is born. He will bring back many of the people of Israel to the Lord their God. And he will go on before the Lord\, in the spirit and power of Elijah\, to turn the hearts of the parents to their children and the disobedient to the wisdom of the righteous—to make ready a people prepared for the Lord.”\n(Luke 1:14-17)
URL:https://heartwood.church/events/tuesday-morning-prayer-44/
LOCATION:Heartwood Church\, 6477 10th St. N.\, Oakdale\, MN\, 55128\, United States
CATEGORIES:Formation,Prayer,Relationship Building
ATTACH;FMTTYPE=image/jpeg:https://heartwood.church/wp-content/uploads/2021/11/Advent_prayer.width-1200.jpg
END:VEVENT
END:VCALENDAR