BEGIN:VCALENDAR
VERSION:2.0
PRODID:-//Heartwood Church - ECPv6.15.10//NONSGML v1.0//EN
CALSCALE:GREGORIAN
METHOD:PUBLISH
X-ORIGINAL-URL:https://heartwood.church
X-WR-CALDESC:Events for Heartwood Church
REFRESH-INTERVAL;VALUE=DURATION:PT1H
X-Robots-Tag:noindex
X-PUBLISHED-TTL:PT1H
BEGIN:VTIMEZONE
TZID:America/Chicago
BEGIN:DAYLIGHT
TZOFFSETFROM:-0600
TZOFFSETTO:-0500
TZNAME:CDT
DTSTART:20230312T080000
END:DAYLIGHT
BEGIN:STANDARD
TZOFFSETFROM:-0500
TZOFFSETTO:-0600
TZNAME:CST
DTSTART:20231105T070000
END:STANDARD
BEGIN:DAYLIGHT
TZOFFSETFROM:-0600
TZOFFSETTO:-0500
TZNAME:CDT
DTSTART:20240310T080000
END:DAYLIGHT
BEGIN:STANDARD
TZOFFSETFROM:-0500
TZOFFSETTO:-0600
TZNAME:CST
DTSTART:20241103T070000
END:STANDARD
BEGIN:DAYLIGHT
TZOFFSETFROM:-0600
TZOFFSETTO:-0500
TZNAME:CDT
DTSTART:20250309T080000
END:DAYLIGHT
BEGIN:STANDARD
TZOFFSETFROM:-0500
TZOFFSETTO:-0600
TZNAME:CST
DTSTART:20251102T070000
END:STANDARD
END:VTIMEZONE
BEGIN:VEVENT
DTSTART;VALUE=DATE:20240512
DTEND;VALUE=DATE:20240513
DTSTAMP:20260425T074229
CREATED:20240407T223813Z
LAST-MODIFIED:20240407T225742Z
UID:3296-1715472000-1715558399@heartwood.church
SUMMARY:MOTHERS DAY
DESCRIPTION: “Strength and dignity are her clothing\, and she laughs at the time to come.\nShe opens her mouth with wisdom\, and the teaching of kindness is on her tongue.”\n(Proverbs 31:25-26) \n 
URL:https://heartwood.church/events/mothers-day-3/
CATEGORIES:Relationship Building,Special Event
ATTACH;FMTTYPE=image/jpeg:https://heartwood.church/wp-content/uploads/2024/04/mothers-day.jpg
END:VEVENT
BEGIN:VEVENT
DTSTART;VALUE=DATE:20240527
DTEND;VALUE=DATE:20240528
DTSTAMP:20260425T074229
CREATED:20240407T224345Z
LAST-MODIFIED:20240407T230320Z
UID:3304-1716768000-1716854399@heartwood.church
SUMMARY:MEMORIAL DAY
DESCRIPTION:“Defend the weak and the fatherless; uphold the cause of the poor and the oppressed.\nRescue the weak and the needy; deliver them from the hand of the wicked.”\n(Psalm 82:3-4)\n  \nPRAYER (by Sarah Frazier)\nO God\, we give you praise for these people who have allowed us to serve and worship You in freedom. We do not take for granted that there are millions of Christians around the world afraid of prison or even death because of what they believe. Our veterans are a significant reason why we do not fear and we thank You for them. \nHeavenly Father who sees all of the hurt\, comfort the hearts of those who have lost loved ones in the military. It might seem to us “unfair\,” but You are the God who ordains our days. Let us remember those families are still grieving today. Remind them of Your love for them. Their loss provides for us a safe place to live and worship You. Keep those families close to Your heart today. Comfort them and let them know we do not forget their loved one’s sacrifice. Amen.
URL:https://heartwood.church/events/memorial-day-3/
CATEGORIES:Special Event
ATTACH;FMTTYPE=image/jpeg:https://heartwood.church/wp-content/uploads/2023/04/Memorial-Day.jpg
END:VEVENT
END:VCALENDAR