BEGIN:VCALENDAR
VERSION:2.0
PRODID:-//Heartwood Church - ECPv6.15.10//NONSGML v1.0//EN
CALSCALE:GREGORIAN
METHOD:PUBLISH
X-ORIGINAL-URL:https://heartwood.church
X-WR-CALDESC:Events for Heartwood Church
REFRESH-INTERVAL;VALUE=DURATION:PT1H
X-Robots-Tag:noindex
X-PUBLISHED-TTL:PT1H
BEGIN:VTIMEZONE
TZID:America/Chicago
BEGIN:DAYLIGHT
TZOFFSETFROM:-0600
TZOFFSETTO:-0500
TZNAME:CDT
DTSTART:20230312T080000
END:DAYLIGHT
BEGIN:STANDARD
TZOFFSETFROM:-0500
TZOFFSETTO:-0600
TZNAME:CST
DTSTART:20231105T070000
END:STANDARD
BEGIN:DAYLIGHT
TZOFFSETFROM:-0600
TZOFFSETTO:-0500
TZNAME:CDT
DTSTART:20240310T080000
END:DAYLIGHT
BEGIN:STANDARD
TZOFFSETFROM:-0500
TZOFFSETTO:-0600
TZNAME:CST
DTSTART:20241103T070000
END:STANDARD
BEGIN:DAYLIGHT
TZOFFSETFROM:-0600
TZOFFSETTO:-0500
TZNAME:CDT
DTSTART:20250309T080000
END:DAYLIGHT
BEGIN:STANDARD
TZOFFSETFROM:-0500
TZOFFSETTO:-0600
TZNAME:CST
DTSTART:20251102T070000
END:STANDARD
END:VTIMEZONE
BEGIN:VEVENT
DTSTART;TZID=America/Chicago:20240608T140000
DTEND;TZID=America/Chicago:20240608T150000
DTSTAMP:20260425T092023
CREATED:20240607T144150Z
LAST-MODIFIED:20240607T144150Z
UID:3355-1717855200-1717858800@heartwood.church
SUMMARY:Richard Stephens Celebration of Life
DESCRIPTION:Richard Duane Stephens\, age 77\, of Cottage Grove\, passed away peacefully at 7:21 a.m. on May 8\, 2024. Richard spent his final days at the VA Minneapolis Medical Center. Richard served in the U.S. Navy from 1965-1969 and in the Vietnam War. \nRichard loved to travel\, donate blood to the Red Cross\, loved the Lord\, the American Flag\, and spending time with his family\, especially with his grandchildren\, Sasha and Artem. They were the light of his life. \nPreceded in death by his mother\, Evelyn Stephens; father\, Gerald Stephens; brother\, Glen Stephens; sister\, Ethel Stephens; brother Mike Stephens; sister\, Judy Stephens; granddaughter\, Anya Nicole Koyama Stephens Ortiz; and dog\, Micky. \nLeft to cherish are his loving sister\, Della Barber; brother\, Dell (Debbie) Stephens; sister\, Barbara Gallup; his loving children son\, Dustin Stephens; Kristian (Donald) Koyama Piotrowski; son\, Ryan Stephens; grandchildren Sasha and Artem; remembered by many nieces\, nephews\, other relatives and friends. \nA funeral service will be held on June 8\, 2024\, at Heartwood Church in Oakdale\, MN at 2 p.m. Visitation from 12 p.m. until the time of service at Heartwood Church. Final resting place will be at Fort Snelling and that service will be private for close family members.
URL:https://heartwood.church/events/richard-stephens-celebration-of-life/
LOCATION:Heartwood Church\, 6477 10th St. N.\, Oakdale\, MN\, 55128\, United States
CATEGORIES:Memorial Service,Special Event
ATTACH;FMTTYPE=image/jpeg:https://heartwood.church/wp-content/uploads/2024/06/Richard.jpg
END:VEVENT
END:VCALENDAR