BEGIN:VCALENDAR
VERSION:2.0
PRODID:-//Heartwood Church - ECPv6.15.10//NONSGML v1.0//EN
CALSCALE:GREGORIAN
METHOD:PUBLISH
X-ORIGINAL-URL:https://heartwood.church
X-WR-CALDESC:Events for Heartwood Church
REFRESH-INTERVAL;VALUE=DURATION:PT1H
X-Robots-Tag:noindex
X-PUBLISHED-TTL:PT1H
BEGIN:VTIMEZONE
TZID:America/Chicago
BEGIN:DAYLIGHT
TZOFFSETFROM:-0600
TZOFFSETTO:-0500
TZNAME:CDT
DTSTART:20180311T080000
END:DAYLIGHT
BEGIN:STANDARD
TZOFFSETFROM:-0500
TZOFFSETTO:-0600
TZNAME:CST
DTSTART:20181104T070000
END:STANDARD
BEGIN:DAYLIGHT
TZOFFSETFROM:-0600
TZOFFSETTO:-0500
TZNAME:CDT
DTSTART:20190310T080000
END:DAYLIGHT
BEGIN:STANDARD
TZOFFSETFROM:-0500
TZOFFSETTO:-0600
TZNAME:CST
DTSTART:20191103T070000
END:STANDARD
BEGIN:DAYLIGHT
TZOFFSETFROM:-0600
TZOFFSETTO:-0500
TZNAME:CDT
DTSTART:20200308T080000
END:DAYLIGHT
BEGIN:STANDARD
TZOFFSETFROM:-0500
TZOFFSETTO:-0600
TZNAME:CST
DTSTART:20201101T070000
END:STANDARD
END:VTIMEZONE
BEGIN:VEVENT
DTSTART;TZID=America/Chicago:20191109T090000
DTEND;TZID=America/Chicago:20191109T233000
DTSTAMP:20260424T095802
CREATED:20191016T190912Z
LAST-MODIFIED:20191016T190912Z
UID:558-1573290000-1573342200@heartwood.church
SUMMARY:"Harriet" Movie Screening
DESCRIPTION:Screening of the movie “Harriet” with our partners at Tubman.\n\nLimited seating. Contact Pastor Paul to get on the waiting list.
URL:https://heartwood.church/events/harriet-movie-screening/
LOCATION:Marcus Theater Oakdale\, 5677 Hadley Ave N\, Oakdale\, MN\, 55128\, United States
CATEGORIES:Community,Special Event
ATTACH;FMTTYPE=image/jpeg:https://heartwood.church/wp-content/uploads/2019/10/harriet.jpg
END:VEVENT
BEGIN:VEVENT
DTSTART;TZID=America/Chicago:20191025T170000
DTEND;TZID=America/Chicago:20191025T203000
DTSTAMP:20260424T095802
CREATED:20191002T221621Z
LAST-MODIFIED:20191002T221621Z
UID:549-1572022800-1572035400@heartwood.church
SUMMARY:New Life Family Services’ 46th Annual Fundraising Gala
DESCRIPTION:Our Annual Gala includes a three course meal\, client stories\, and an inspiring ministry update. We invite you to be a part of a special evening and life-saving mission. \nKeynote Speaker \nSteventhen Holland: Author\, Speaker\, Worship Leader \n“Steventhen spent most of his life with many questions and no answers\, but at 27 years old he was reunited with his birth mother. \nIt is amazing to see the power of God at work. He is not only an all-powerful God but the God of the broken and forgotten. He is the God that brings hope to the darkest of situations and bridges the gap between brokenness and wholeness. \nSteventhen has spoken at many events around the country over the last 15+ years of ministry. Some of these events include Church services\, men & women’s retreats\, student camps/retreats\, school assemblies\, juvenile detention centers\, mentoring programs\, abstinence education\, children’s homes\, drug & rehabilitation centers\, nursing homes\, mental health facilities\, pregnancy care center banquets and more… \nHis story will encourage mothers to deliver their babies\, and other families to adopt. Everyone searches for peace. Experience THE JOURNEY God has taken Steventhen Holland on\, and you too will find the peace of God that passes all understanding!” (www.ambassadorspeakers.com) \nJoin us and invite your friends!  You won’t want to miss this remarkable evening! The message will move you\, the testimonies will inspire you\, and the mission will engage you.
URL:https://heartwood.church/events/new-life-family-services-46th-annual-fundraising-gala/
LOCATION:DoubleTree\, Bloomington\, 7800 Normandale Blvd\, Minneapolis\, MN\, 55439\, United States
CATEGORIES:Community,Special Event
ATTACH;FMTTYPE=image/png:https://heartwood.church/wp-content/uploads/2019/10/Sliders-1.png
END:VEVENT
BEGIN:VEVENT
DTSTART;TZID=America/Chicago:20190928T110000
DTEND;TZID=America/Chicago:20190928T160000
DTSTAMP:20260424T095802
CREATED:20190816T141104Z
LAST-MODIFIED:20190816T141104Z
UID:470-1569668400-1569686400@heartwood.church
SUMMARY:Family Fun Flatables
DESCRIPTION:Join us at Walton Park for a full day of jumping\, bouncing\, diving\, and exploring a sea of inflatables! Over a dozen unique inflatables will be on hand for this day of nonstop for all ages. Bounce castles\, obstacle courses\, and giant slides are just a few of the inflatables you will find. Plus\, a kid’s band and great food!
URL:https://heartwood.church/events/family-fun-flatables/
LOCATION:Richard Walton Park\, 15th Street N and Hadley Avenue N\, Oakdale\, MN\, 55128\, United States
CATEGORIES:Community,Special Event
ATTACH;FMTTYPE=image/jpeg:https://heartwood.church/wp-content/uploads/2019/08/inflatable.jpg
END:VEVENT
BEGIN:VEVENT
DTSTART;TZID=America/Chicago:20190509T183000
DTEND;TZID=America/Chicago:20190509T200000
DTSTAMP:20260424T095802
CREATED:20190410T191355Z
LAST-MODIFIED:20190410T191355Z
UID:190-1557426600-1557432000@heartwood.church
SUMMARY:Mother Daughter Date Night - KidCreate Art Class
DESCRIPTION:Mother’s Day is just around the corner. What better way to celebrate than creating masterpieces with your child? Prepare for an evening filled with fun! You and your child will follow easy step-by-step instructions as you create matching floral paintings. Each mother and daughter will create their own masterpiece on a real canvas board. \nKidcreate launches children into the incredible world of art. These energized classes offer an exciting format for art exploration. We focus on art creation and art education. Lesson plans\, designed by an art education professional\, are age appropriate and devised to inspire the individual child. Our teachers provide a positive\, fun\, self-esteem building atmostphere where children learn to express themselves through the visual arts. Parents can be assured their child is being educated in a supportive environment where giggles and grins are encouraged. \nDeadline is one week prior to program date. \nphoto credit: donnierayjones My Girls via photopin (license)
URL:https://heartwood.church/events/mother-daughter-date-night-kidcreate-art-class/
LOCATION:Oakdale Discovery Center\, 4444 Hadley Avenue North\, Oakdale\, MN\, 55128\, United States
CATEGORIES:Community,Special Event
ATTACH;FMTTYPE=image/jpeg:https://heartwood.church/wp-content/uploads/2019/04/25058786232_4e1b57936b_o.jpg
END:VEVENT
BEGIN:VEVENT
DTSTART;TZID=America/Chicago:20190428T100000
DTEND;TZID=America/Chicago:20190428T110000
DTSTAMP:20260424T095802
CREATED:20190410T155043Z
LAST-MODIFIED:20190410T155043Z
UID:185-1556445600-1556449200@heartwood.church
SUMMARY:Messiah in the Passover
DESCRIPTION:The Messiah in the Passover presentation is a powerful visual message not only of Israel’s freedom from slavery in Egypt\, but of the redemption of individuals from the bondage of sin through the atoning work of Jesus. The program is designed to give participants a deeper understanding both of Passover and the Communion table. \nTrevor Rubenstein from Chosen People Ministries will be presenting.
URL:https://heartwood.church/events/messiah-in-the-passover/
LOCATION:Heartwood Church\, 6477 10th St. N.\, Oakdale\, MN\, 55128\, United States
CATEGORIES:Special Event,Worship
ATTACH;FMTTYPE=image/jpeg:https://heartwood.church/wp-content/uploads/2019/04/pcog-08n.jpg
END:VEVENT
BEGIN:VEVENT
DTSTART;TZID=America/Chicago:20190427T180000
DTEND;TZID=America/Chicago:20190427T210000
DTSTAMP:20260424T095802
CREATED:20190410T192521Z
LAST-MODIFIED:20190410T192521Z
UID:195-1556388000-1556398800@heartwood.church
SUMMARY:Tubman 10th annual Starlight Soiree
DESCRIPTION:Please join us for the 10th annual Starlight Soiree \nSaturday\, April 27\, 2019 \nInterContinental Saint Paul Riverfront \nWe hope to see you at our annual gala\, the Starlight Soiree\, as we honor the journeys of people we serve at Tubman and celebrate the supporters who make this work possible. With emcee Alexis Thompson of myTalk107.1’s “Jason & Alexis” show\, musical guests International Reggae All-Stars\, and DJ Sound of Fujun\, it will be a fun and memorable event. \nDoors open at 6 p.m. with a champagne reception and silent auction\, and the dinner and program begin at 7:30 p.m. Please join us for this special evening of celebration!
URL:https://heartwood.church/events/tubman-10th-annual-starlight-soiree/
LOCATION:InterContinental Saint Paul Riverfront\, 11 Kellogg Blv. East\, St Paul\, 55101\, United States
CATEGORIES:Community,Special Event
ATTACH;FMTTYPE=image/png:https://heartwood.church/wp-content/uploads/2019/04/Soiree-2019-From-Fear-to-Freedom.png
END:VEVENT
END:VCALENDAR