BEGIN:VCALENDAR
VERSION:2.0
PRODID:-//Heartwood Church - ECPv6.15.10//NONSGML v1.0//EN
CALSCALE:GREGORIAN
METHOD:PUBLISH
X-ORIGINAL-URL:https://heartwood.church
X-WR-CALDESC:Events for Heartwood Church
REFRESH-INTERVAL;VALUE=DURATION:PT1H
X-Robots-Tag:noindex
X-PUBLISHED-TTL:PT1H
BEGIN:VTIMEZONE
TZID:America/Chicago
BEGIN:DAYLIGHT
TZOFFSETFROM:-0600
TZOFFSETTO:-0500
TZNAME:CDT
DTSTART:20240310T080000
END:DAYLIGHT
BEGIN:STANDARD
TZOFFSETFROM:-0500
TZOFFSETTO:-0600
TZNAME:CST
DTSTART:20241103T070000
END:STANDARD
BEGIN:DAYLIGHT
TZOFFSETFROM:-0600
TZOFFSETTO:-0500
TZNAME:CDT
DTSTART:20250309T080000
END:DAYLIGHT
BEGIN:STANDARD
TZOFFSETFROM:-0500
TZOFFSETTO:-0600
TZNAME:CST
DTSTART:20251102T070000
END:STANDARD
BEGIN:DAYLIGHT
TZOFFSETFROM:-0600
TZOFFSETTO:-0500
TZNAME:CDT
DTSTART:20260308T080000
END:DAYLIGHT
BEGIN:STANDARD
TZOFFSETFROM:-0500
TZOFFSETTO:-0600
TZNAME:CST
DTSTART:20261101T070000
END:STANDARD
BEGIN:DAYLIGHT
TZOFFSETFROM:-0600
TZOFFSETTO:-0500
TZNAME:CDT
DTSTART:20270314T080000
END:DAYLIGHT
BEGIN:STANDARD
TZOFFSETFROM:-0500
TZOFFSETTO:-0600
TZNAME:CST
DTSTART:20271107T070000
END:STANDARD
END:VTIMEZONE
BEGIN:VEVENT
DTSTART;TZID=America/Chicago:20250420T100000
DTEND;TZID=America/Chicago:20250420T120000
DTSTAMP:20260425T104927
CREATED:20250227T030900Z
LAST-MODIFIED:20250410T143930Z
UID:3564-1745143200-1745150400@heartwood.church
SUMMARY:Sunday Worship - "The Stones Cry Out"
DESCRIPTION:All of creation proclaims Jesus the Living Lord and King. \nOur worship is Ancient-Future and Multi-Generational\, so you will experience elements from the past and modern innovations. We’ll hear the joyous noise of children along with mature reverence.\nWe encourage you to participate in whatever way you feel moved.
URL:https://heartwood.church/events/sunday-worship-the-stones-cry-out-2/
LOCATION:Heartwood Church\, 6477 10th St. N.\, Oakdale\, MN\, 55128\, United States
CATEGORIES:Formation,Relationship Building,Special Event,Worship
ATTACH;FMTTYPE=image/jpeg:https://heartwood.church/wp-content/uploads/2025/02/The-stones-cry-out.jpg
END:VEVENT
BEGIN:VEVENT
DTSTART;TZID=America/Chicago:20250805T170000
DTEND;TZID=America/Chicago:20250805T200000
DTSTAMP:20260425T104927
CREATED:20250710T152818Z
LAST-MODIFIED:20250710T152923Z
UID:3692-1754413200-1754424000@heartwood.church
SUMMARY:National Night Out
DESCRIPTION:Night to Unite\nNight to Unite is held each year on the first Tuesday in August. The event builds neighborhood camaraderie and fosters partnerships between citizens and public safety organizations in an effort to make our neighborhoods safer. \nThe Police Department wants your neighborhood gathering to be a successful celebration with a common theme of safety and crime prevention. If you would like to request that Police\, Fire\, Ambulance\, McGruff\, gear demo\, career discussion\, crime prevention topics\, elected officials\, etc.\, be part of your event\, please fill out and submit the application at least 10 days prior to your event. Submit online Night to Unite Registration Form \nBlock Events\nNeighborhoods planning to have a block party and want to request a street closure are asked to submit a Block Event application: Submit online Block Event Permit Application \n  \nCheck out events in your community to participate in and get to know your neighbors!
URL:https://heartwood.church/events/national-night-out/
LOCATION:Heartwood Church\, 6477 10th St. N.\, Oakdale\, MN\, 55128\, United States
CATEGORIES:Community,Relationship Building,Special Event
ATTACH;FMTTYPE=image/jpeg:https://heartwood.church/wp-content/uploads/2025/07/Screenshot_10-7-2025_102222_www.bing_.com_.jpeg
END:VEVENT
BEGIN:VEVENT
DTSTART;TZID=America/Chicago:20260329T000000
DTEND;TZID=America/Chicago:20260329T235959
DTSTAMP:20260425T104927
CREATED:20260312T022934Z
LAST-MODIFIED:20260312T022939Z
UID:5842-1774742400-1774828799@heartwood.church
SUMMARY:PALM SUNDAY
DESCRIPTION:
URL:https://heartwood.church/events/palm-sunday-4/
LOCATION:MN
CATEGORIES:Special Event
ATTACH;FMTTYPE=image/jpeg:https://heartwood.church/wp-content/uploads/2019/04/30881-palmbranches-palms-palmsunday.1200w.tn_.jpg
END:VEVENT
BEGIN:VEVENT
DTSTART;TZID=America/Chicago:20260403T190000
DTEND;TZID=America/Chicago:20260403T200000
DTSTAMP:20260425T104927
CREATED:20260312T020731Z
LAST-MODIFIED:20260313T003359Z
UID:5830-1775242800-1775246400@heartwood.church
SUMMARY:Good Friday Service - "Redirect"
DESCRIPTION:
URL:https://heartwood.church/events/good-friday-service-redirect/
LOCATION:Heartwood Church\, 6477 10th St. N.\, Oakdale\, MN\, 55128\, United States
CATEGORIES:Formation,Relationship Building,Special Event
ATTACH;FMTTYPE=image/jpeg:https://heartwood.church/wp-content/uploads/2026/03/Redirect.jpg
END:VEVENT
BEGIN:VEVENT
DTSTART;TZID=America/Chicago:20260405T100000
DTEND;TZID=America/Chicago:20260405T120000
DTSTAMP:20260425T104927
CREATED:20260312T021149Z
LAST-MODIFIED:20260421T201621Z
UID:5833-1775383200-1775390400@heartwood.church
SUMMARY:Easter Sunday Worship - "Living the Resurrection"
DESCRIPTION:Join us to celebrate the Resurrection of our Lord and Savior\, Jesus Christ! \n\n\n\nOur worship is Ancient-Future and Multi-Generational\, so you will experience elements from the past and modern innovations. We’ll hear the joyous noise of children along with mature reverence.We encourage you to participate in whatever way you feel moved.
URL:https://heartwood.church/events/easter-sunday-worship/
LOCATION:Heartwood Church\, 6477 10th St. N.\, Oakdale\, MN\, 55128\, United States
CATEGORIES:Formation,Relationship Building,Special Event,Worship
ATTACH;FMTTYPE=image/jpeg:https://heartwood.church/wp-content/uploads/2026/03/Living-the-resurrection.jpg
END:VEVENT
BEGIN:VEVENT
DTSTART;TZID=America/Chicago:20260419T100000
DTEND;TZID=America/Chicago:20260419T120000
DTSTAMP:20260425T104927
CREATED:20260312T022813Z
LAST-MODIFIED:20260312T022816Z
UID:5836-1776592800-1776600000@heartwood.church
SUMMARY:Sunday Worship - "Shavuot: The Feast of Weeks"
DESCRIPTION: Just as Moses the Deliverer connected the first Passover and the first Shavuot\, Jesus the Messiah brings them together again – in a new and startling way. Trevor Rubenstein from Chosen People Ministries opens the Word for our edification. \n\n\n\nOur worship is Ancient-Future and Multi-Generational\, so you will experience elements from the past and modern innovations. We’ll hear the joyous noise of children along with mature reverence.We encourage you to participate in whatever way you feel moved.
URL:https://heartwood.church/events/sunday-worship-shavuot-the-feast-of-weeks/
LOCATION:Heartwood Church\, 6477 10th St. N.\, Oakdale\, MN\, 55128\, United States
CATEGORIES:Formation,Relationship Building,Special Event,Worship
ATTACH;FMTTYPE=image/jpeg:https://heartwood.church/wp-content/uploads/2026/03/Feast-of-Weeks.jpg
END:VEVENT
END:VCALENDAR