BEGIN:VCALENDAR
VERSION:2.0
PRODID:-//Heartwood Church - ECPv6.15.10//NONSGML v1.0//EN
CALSCALE:GREGORIAN
METHOD:PUBLISH
X-WR-CALNAME:Heartwood Church
X-ORIGINAL-URL:https://heartwood.church
X-WR-CALDESC:Events for Heartwood Church
REFRESH-INTERVAL;VALUE=DURATION:PT1H
X-Robots-Tag:noindex
X-PUBLISHED-TTL:PT1H
BEGIN:VTIMEZONE
TZID:America/Chicago
BEGIN:DAYLIGHT
TZOFFSETFROM:-0600
TZOFFSETTO:-0500
TZNAME:CDT
DTSTART:20200308T080000
END:DAYLIGHT
BEGIN:STANDARD
TZOFFSETFROM:-0500
TZOFFSETTO:-0600
TZNAME:CST
DTSTART:20201101T070000
END:STANDARD
BEGIN:DAYLIGHT
TZOFFSETFROM:-0600
TZOFFSETTO:-0500
TZNAME:CDT
DTSTART:20210314T080000
END:DAYLIGHT
BEGIN:STANDARD
TZOFFSETFROM:-0500
TZOFFSETTO:-0600
TZNAME:CST
DTSTART:20211107T070000
END:STANDARD
BEGIN:DAYLIGHT
TZOFFSETFROM:-0600
TZOFFSETTO:-0500
TZNAME:CDT
DTSTART:20220313T080000
END:DAYLIGHT
BEGIN:STANDARD
TZOFFSETFROM:-0500
TZOFFSETTO:-0600
TZNAME:CST
DTSTART:20221106T070000
END:STANDARD
BEGIN:DAYLIGHT
TZOFFSETFROM:-0600
TZOFFSETTO:-0500
TZNAME:CDT
DTSTART:20230312T080000
END:DAYLIGHT
BEGIN:STANDARD
TZOFFSETFROM:-0500
TZOFFSETTO:-0600
TZNAME:CST
DTSTART:20231105T070000
END:STANDARD
END:VTIMEZONE
BEGIN:VEVENT
DTSTART;VALUE=DATE:20221007
DTEND;VALUE=DATE:20221008
DTSTAMP:20260424T003710
CREATED:20211208T163315Z
LAST-MODIFIED:20211208T163315Z
UID:2388-1665100800-1665187199@heartwood.church
SUMMARY:Red Cross Blood Drive and Flu Shot Clinic
DESCRIPTION:
URL:https://heartwood.church/events/red-cross-blood-drive-and-flu-shot-clinic/
LOCATION:Heartwood Church\, 6477 10th St. N.\, Oakdale\, MN\, 55128\, United States
CATEGORIES:Relationship Building,Special Event
ATTACH;FMTTYPE=image/png:https://heartwood.church/wp-content/uploads/2021/02/161501-05_communityofgiving_fb_1200x630p-rw-final1.png
END:VEVENT
BEGIN:VEVENT
DTSTART;TZID=America/Chicago:20221002T100000
DTEND;TZID=America/Chicago:20221002T140000
DTSTAMP:20260424T003710
CREATED:20220804T175743Z
LAST-MODIFIED:20220901T145846Z
UID:2720-1664704800-1664719200@heartwood.church
SUMMARY:Sunday Worship - Messiah in the Fall Festivals
DESCRIPTION:Today\, we are celebrating with Shekinah and learning about Messiah in the Fall Festivals with Trevor Rubenstein from Chosen People Ministries. You won’t want to miss this! \nPotluck Fellowship following this morning’s service. \nOur worship is Ancient-Future and Multi-Generational\, so you will experience elements from the past and modern innovations. We’ll hear the joyous noise of children along with mature reverence.\nWe encourage you to participate in whatever way you feel moved.
URL:https://heartwood.church/events/sunday-worship-combined-services-2/
LOCATION:Heartwood Church\, 6477 10th St. N.\, Oakdale\, MN\, 55128\, United States
CATEGORIES:Formation,Relationship Building,Special Event,Worship
ATTACH;FMTTYPE=image/png:https://heartwood.church/wp-content/uploads/2021/07/messiah_fall.png
END:VEVENT
BEGIN:VEVENT
DTSTART;VALUE=DATE:20220902
DTEND;VALUE=DATE:20220906
DTSTAMP:20260424T003710
CREATED:20220804T180711Z
LAST-MODIFIED:20220804T181013Z
UID:2723-1662076800-1662422399@heartwood.church
SUMMARY:Family Getaway Weekend
DESCRIPTION:For families looking to get away and have fun together\nRest\, worship\, laugh\, connect\, make memories\, and have fun! \nSpeaker: Luke Winger\nLuke blends his personal experiences and Bible stories with juggling\, balancing\, and skits to share the Gospel message through fun entertainment. His passion and love for the Lord is evident as adults and children alike leave filled with joy and are encouraged to reach their full potential in Christ. \nFOR MORE INFORMATION AND TO REGISTER\, VISIT CEDARSPRINGSCAMP.COM
URL:https://heartwood.church/events/family-getaway-weekend/
LOCATION:Cedar Springs Camp and Retreats\, 1260 River Rd\,\, Floyd\, IA\, 50435\, United States
CATEGORIES:Relationship Building,Special Event
ATTACH;FMTTYPE=image/png:https://heartwood.church/wp-content/uploads/2022/08/familygetaway.png
END:VEVENT
BEGIN:VEVENT
DTSTART;TZID=America/Chicago:20220731T113000
DTEND;TZID=America/Chicago:20220731T140000
DTSTAMP:20260424T003710
CREATED:20220625T170907Z
LAST-MODIFIED:20220625T170907Z
UID:2686-1659267000-1659276000@heartwood.church
SUMMARY:5th Sunday Fellowship
DESCRIPTION:
URL:https://heartwood.church/events/5th-sunday-fellowship-2/
LOCATION:Heartwood Church\, 6477 10th St. N.\, Oakdale\, MN\, 55128\, United States
CATEGORIES:Relationship Building,Special Event
ATTACH;FMTTYPE=image/jpeg:https://heartwood.church/wp-content/uploads/2022/04/FSF.jpg
END:VEVENT
BEGIN:VEVENT
DTSTART;VALUE=DATE:20220701
DTEND;VALUE=DATE:20220702
DTSTAMP:20260424T003710
CREATED:20211208T163136Z
LAST-MODIFIED:20211208T163136Z
UID:2385-1656633600-1656719999@heartwood.church
SUMMARY:Red Cross Blood Drive
DESCRIPTION:
URL:https://heartwood.church/events/red-cross-blood-drive-5/
LOCATION:Heartwood Church\, 6477 10th St. N.\, Oakdale\, MN\, 55128\, United States
CATEGORIES:Relationship Building,Special Event
ATTACH;FMTTYPE=image/png:https://heartwood.church/wp-content/uploads/2021/02/161501-05_communityofgiving_fb_1200x630p-rw-final1.png
END:VEVENT
BEGIN:VEVENT
DTSTART;TZID=America/Chicago:20220619T110000
DTEND;TZID=America/Chicago:20220619T120000
DTSTAMP:20260424T003710
CREATED:20220518T162857Z
LAST-MODIFIED:20220518T163146Z
UID:2614-1655636400-1655640000@heartwood.church
SUMMARY:Local Church Conference Annual Meeting
DESCRIPTION:Pray for unity and wisdom for the Local Church Conference and District Conference
URL:https://heartwood.church/events/local-church-conference-annual-meeting/
LOCATION:Heartwood Church\, 6477 10th St. N.\, Oakdale\, MN\, 55128\, United States
CATEGORIES:Relationship Building,Special Event
END:VEVENT
BEGIN:VEVENT
DTSTART;VALUE=DATE:20220619
DTEND;VALUE=DATE:20220620
DTSTAMP:20260424T003710
CREATED:20220428T153033Z
LAST-MODIFIED:20260418T170126Z
UID:2599-1655596800-1655683199@heartwood.church
SUMMARY:Baby Supply Drive Ends
DESCRIPTION:
URL:https://heartwood.church/events/baby-supply-drive-ends/
LOCATION:Heartwood Church\, 6477 10th St. N.\, Oakdale\, MN\, 55128\, United States
CATEGORIES:Community,Partner Fundraiser,Relationship Building,Special Event
ATTACH;FMTTYPE=image/jpeg:https://heartwood.church/wp-content/uploads/2019/04/baby_wipes.jpg
END:VEVENT
BEGIN:VEVENT
DTSTART;VALUE=DATE:20220605
DTEND;VALUE=DATE:20220606
DTSTAMP:20260424T003710
CREATED:20220518T162023Z
LAST-MODIFIED:20220518T162023Z
UID:2605-1654387200-1654473599@heartwood.church
SUMMARY:PENTECOST SUNDAY
DESCRIPTION:Pray to Pentecost daily with The Wesleyan Church
URL:https://heartwood.church/events/pentecost-sunday/
LOCATION:The Wesleyan Church\, IN\, United States
CATEGORIES:Prayer,Special Event,Worship
ATTACH;FMTTYPE=image/png:https://heartwood.church/wp-content/uploads/2022/05/Pentecost.png
END:VEVENT
BEGIN:VEVENT
DTSTART;TZID=America/Chicago:20220529T113000
DTEND;TZID=America/Chicago:20220529T140000
DTSTAMP:20260424T003710
CREATED:20220428T150101Z
LAST-MODIFIED:20220428T150424Z
UID:2587-1653823800-1653832800@heartwood.church
SUMMARY:5th Sunday Fellowship
DESCRIPTION:Join us this Sunday following our 10am Worship service for lunch and a time to catch up with each other!
URL:https://heartwood.church/events/5th-sunday-fellowship/
LOCATION:Heartwood Church\, 6477 10th St. N.\, Oakdale\, MN\, 55128\, United States
CATEGORIES:Relationship Building,Special Event
ATTACH;FMTTYPE=image/jpeg:https://heartwood.church/wp-content/uploads/2022/04/FSF.jpg
END:VEVENT
BEGIN:VEVENT
DTSTART;VALUE=DATE:20220508
DTEND;VALUE=DATE:20220509
DTSTAMP:20260424T003710
CREATED:20220428T152938Z
LAST-MODIFIED:20220501T002802Z
UID:2597-1651968000-1652054399@heartwood.church
SUMMARY:Baby Supply Drive Begins
DESCRIPTION:From May 8 through June 19\, we will be collecting baby wipes and baby bottles to\ndistribute to our partner organizations\, First Care Pregnancy Center and Tubman.
URL:https://heartwood.church/events/baby-supply-drive-begins/
LOCATION:Heartwood Church\, 6477 10th St. N.\, Oakdale\, MN\, 55128\, United States
CATEGORIES:Community,Partner Fundraiser,Relationship Building,Special Event
ATTACH;FMTTYPE=image/jpeg:https://heartwood.church/wp-content/uploads/2019/04/baby_wipes.jpg
END:VEVENT
BEGIN:VEVENT
DTSTART;TZID=America/Chicago:20220417T100000
DTEND;TZID=America/Chicago:20220417T120000
DTSTAMP:20260424T003710
CREATED:20220406T152723Z
LAST-MODIFIED:20220406T152752Z
UID:2533-1650189600-1650196800@heartwood.church
SUMMARY:Easter Sunday Worship - Jesus and the Romans
DESCRIPTION:If Jesus could reach Roman society\, He can reach ours. \nOur worship is Ancient-Future and Multi-Generational\, so you will experience elements from the past and modern innovations. We’ll hear the joyous noise of children along with mature reverence.\nWe encourage you to participate in whatever way you feel moved.
URL:https://heartwood.church/events/easter-sunday-service-jesus-and-the-romans/
LOCATION:Heartwood Church\, 6477 10th St. N.\, Oakdale\, MN\, 55128\, United States
CATEGORIES:Formation,Special Event,Worship
ATTACH;FMTTYPE=image/jpeg:https://heartwood.church/wp-content/uploads/2022/01/Jesus-and-the-Romans-Lent-2022.jpg
END:VEVENT
BEGIN:VEVENT
DTSTART;VALUE=DATE:20220417
DTEND;VALUE=DATE:20220418
DTSTAMP:20260424T003710
CREATED:20220224T171844Z
LAST-MODIFIED:20220224T171932Z
UID:2491-1650153600-1650239999@heartwood.church
SUMMARY:Easter Sunday
DESCRIPTION:
URL:https://heartwood.church/events/easter-sunday-2/
CATEGORIES:Special Event
END:VEVENT
BEGIN:VEVENT
DTSTART;TZID=America/Chicago:20220415T190000
DTEND;TZID=America/Chicago:20220415T190000
DTSTAMP:20260424T003710
CREATED:20220406T152147Z
LAST-MODIFIED:20220406T152605Z
UID:2529-1650049200-1650049200@heartwood.church
SUMMARY:Good Friday Service
DESCRIPTION:If Jesus could reach Roman society\, He can reach ours. \nOur worship is Ancient-Future and Multi-Generational\, so you will experience elements from the past and modern innovations. We’ll hear the joyous noise of children along with mature reverence.\nWe encourage you to participate in whatever way you feel moved.
URL:https://heartwood.church/events/sunday-worship-jesus-and-the-romans-6/
LOCATION:Heartwood Church\, 6477 10th St. N.\, Oakdale\, MN\, 55128\, United States
CATEGORIES:Formation,Special Event,Worship
ATTACH;FMTTYPE=image/jpeg:https://heartwood.church/wp-content/uploads/2022/01/Jesus-and-the-Romans-Lent-2022.jpg
END:VEVENT
BEGIN:VEVENT
DTSTART;VALUE=DATE:20220415
DTEND;VALUE=DATE:20220416
DTSTAMP:20260424T003710
CREATED:20220406T152009Z
LAST-MODIFIED:20220406T152009Z
UID:2527-1649980800-1650067199@heartwood.church
SUMMARY:Good Friday
DESCRIPTION:
URL:https://heartwood.church/events/good-friday-3/
CATEGORIES:Special Event
END:VEVENT
BEGIN:VEVENT
DTSTART;TZID=America/Chicago:20220326T110000
DTEND;TZID=America/Chicago:20220326T140000
DTSTAMP:20260424T003710
CREATED:20220325T221336Z
LAST-MODIFIED:20220325T221500Z
UID:2518-1648292400-1648303200@heartwood.church
SUMMARY:Memorial Service for Rev. Dr. John Zimmer
DESCRIPTION:Rev. Dr. John Robert Zimmer\, 75\, passed into eternal glory on January 31\, 2022\, at the Lyngblomsten Care Center in Saint Paul\, Minnesota. The memorial service will be held at Heartwood Church on Saturday\, March 26th at 11 AM\, with a luncheon to follow. Private interment will be at Portland Cemetery in Portland\, Michigan. \nThe memorial service will be live streamed on YouTube at the following link: https://youtu.be/xdWhUg84dRM \n\nDr. John or Pastor John\, as known by his friends\, was a people person who loved others unconditionally and was loved by many in return. \nHe is survived by his wife\, Glenda; children: Lisa (Brian) Martz\, Steven (Wendy) Zimmer\, Sarah (Noel) Aldrich; 12 grandchildren; 14 great-grandchildren. He is also survived by brothers\, Harvey (Katrina)\, James (Edna)\, and Keith (Becky)\, and sister\, Joy (Dennis) Kadwell\, along with many nieces and nephews. He was predeceased by his parents and a great-grandson. The full obituary can be found here.
URL:https://heartwood.church/events/memorial-service-for-rev-dr-john-zimmer/
LOCATION:Heartwood Church\, 6477 10th St. N.\, Oakdale\, MN\, 55128\, United States
CATEGORIES:Memorial Service,Special Event
ATTACH;FMTTYPE=image/jpeg:https://heartwood.church/wp-content/uploads/2022/03/Screenshot-2022-03-25-170659.jpg
END:VEVENT
BEGIN:VEVENT
DTSTART;TZID=America/Chicago:20220319T090000
DTEND;TZID=America/Chicago:20220319T130000
DTSTAMP:20260424T003711
CREATED:20210907T163137Z
LAST-MODIFIED:20210907T175218Z
UID:2174-1647680400-1647694800@heartwood.church
SUMMARY:Bible Pathway Scouting Patch Workshop
DESCRIPTION:Children and parents together earn the Boulders patch from PRAY (https://www.praypub.org/rp3)\nLunch is provided. \nCost for patch: $5 per child \nBible Pathways RegistrationFill out the registration form below and then go to https://heartwood.church/give to make your registration payment. Select "Bible Pathway Registration" in Tith.ly or add Bible Pathway Registration to your note in Venmo.Please enable JavaScript in your browser to complete this form.Choose Patch Registration *Trees - Saturday Oct. 16\, 2021Crowns - Saturday Nov. 20\, 2021Out of the Water - Saturday January 15\, 2022Boulders - Saturday March 19\, 2022All workshops run from 9 a\,m\, to 1 p\,m.\nA parent or guardian is required to attend.Number of Students Registering for Workshop *Attending Parent\, Guardian or Counselor Name *FirstLastEmail *Names of StudentsSubmit
URL:https://heartwood.church/events/bible-pathway-scouting-patch-workshop-4/
LOCATION:Heartwood Church\, 6477 10th St. N.\, Oakdale\, MN\, 55128\, United States
CATEGORIES:Special Event
ATTACH;FMTTYPE=image/jpeg:https://heartwood.church/wp-content/uploads/2021/09/boulders-patch.jpeg
END:VEVENT
BEGIN:VEVENT
DTSTART;TZID=America/Chicago:20220302T190000
DTEND;TZID=America/Chicago:20220302T190000
DTSTAMP:20260424T003711
CREATED:20220224T170504Z
LAST-MODIFIED:20220224T170504Z
UID:2486-1646247600-1646247600@heartwood.church
SUMMARY:Ash Wednesday Service
DESCRIPTION:
URL:https://heartwood.church/events/ash-wednesday-service-2/
LOCATION:Heartwood Church\, 6477 10th St. N.\, Oakdale\, MN\, 55128\, United States
CATEGORIES:Formation,Prayer,Relationship Building,Special Event,Worship
ATTACH;FMTTYPE=image/png:https://heartwood.church/wp-content/uploads/2020/01/Heartwood_Ash_Wed.png
END:VEVENT
BEGIN:VEVENT
DTSTART;VALUE=DATE:20220302
DTEND;VALUE=DATE:20220303
DTSTAMP:20260424T003711
CREATED:20220224T171926Z
LAST-MODIFIED:20220224T171926Z
UID:2493-1646179200-1646265599@heartwood.church
SUMMARY:Ash Wednesday
DESCRIPTION:
URL:https://heartwood.church/events/ash-wednesday/
CATEGORIES:Special Event
END:VEVENT
BEGIN:VEVENT
DTSTART;TZID=America/Chicago:20220226T090000
DTEND;TZID=America/Chicago:20220226T090000
DTSTAMP:20260424T003711
CREATED:20210907T163019Z
LAST-MODIFIED:20220129T180100Z
UID:2175-1645866000-1645866000@heartwood.church
SUMMARY:Bible Pathway Scouting Patch Workshop (Rescheduled from Jan. 15\, 2022)
DESCRIPTION:Children and parents together earn the Out of the Water patch from PRAY (https://www.praypub.org/rp3)\nLunch is provided. \nCost for patch: $5 per child \nBible Pathways RegistrationFill out the registration form below and then go to https://heartwood.church/give to make your registration payment. Select "Bible Pathway Registration" in Tith.ly or add Bible Pathway Registration to your note in Venmo.Please enable JavaScript in your browser to complete this form.Choose Patch Registration *Trees - Saturday Oct. 16\, 2021Crowns - Saturday Nov. 20\, 2021Out of the Water - Saturday January 15\, 2022Boulders - Saturday March 19\, 2022All workshops run from 9 a\,m\, to 1 p\,m.\nA parent or guardian is required to attend.Number of Students Registering for Workshop *Attending Parent\, Guardian or Counselor Name *FirstLastEmail *Names of StudentsSubmit
URL:https://heartwood.church/events/bible-pathway-scouting-patch-workshop-3/
LOCATION:Heartwood Church\, 6477 10th St. N.\, Oakdale\, MN\, 55128\, United States
CATEGORIES:Special Event
ATTACH;FMTTYPE=image/jpeg:https://heartwood.church/wp-content/uploads/2021/09/out-of-the-water-patch.jpeg
END:VEVENT
BEGIN:VEVENT
DTSTART;TZID=America/Chicago:20220129T180000
DTEND;TZID=America/Chicago:20220129T220000
DTSTAMP:20260424T003711
CREATED:20211208T161717Z
LAST-MODIFIED:20211208T161717Z
UID:2373-1643479200-1643493600@heartwood.church
SUMMARY:Laugh for Life
DESCRIPTION:2022 Laugh for Life\nSaturday\, January 29th\, 2022 \nGrace Church in Eden Prairie \nDoors Open at 6:30 PM \nPerformance from 7:00 PM – 9:00 PM \n \nWe are excited to be welcoming Dennis Gaxiola to our event this year!  “Dennis Gaxiola is one of America’s funniest clean comedians. The preacher’s son and Air Force veteran\, with over 20 National Television appearances\, including Comedy Central’s Laffapalooza with Jamie Foxx\, Stand up Revolution with Gabriel Iglesias\, STARZ Networks First Amendment Stand Up\, TBN’s Praise The Lord Comedy Specials\, Show Time at the Apollo\, BET’s Comic View\, Que Locos and more.” (www.comediandennis.net)
URL:https://heartwood.church/events/laugh-for-life/
LOCATION:Grace Church\, 9301 Eden Prairie Road\, Eden Prairie\, MN\, 55347\, United States
CATEGORIES:Special Event
ATTACH;FMTTYPE=image/png:https://heartwood.church/wp-content/uploads/2021/12/2022-Laugh-for-Life-Web-Banner-1.png
END:VEVENT
BEGIN:VEVENT
DTSTART;TZID=America/Chicago:20220123T130000
DTEND;TZID=America/Chicago:20220123T150000
DTSTAMP:20260424T003711
CREATED:20220117T191309Z
LAST-MODIFIED:20220117T191309Z
UID:2447-1642942800-1642950000@heartwood.church
SUMMARY:Special Worship Service with Eternal Life Baptist Church
DESCRIPTION:Join Eternal Life Baptist Church at their new location in North St. Paul as they celebrate their 7th anniversary! \n 
URL:https://heartwood.church/events/special-worship-service-with-eternal-life-baptist-church/
LOCATION:North Haven Church\, 2240 15th Ave E\, North St. Paul\, MN\, 55109\, United States
CATEGORIES:Relationship Building,Special Event,Worship
ATTACH;FMTTYPE=image/png:https://heartwood.church/wp-content/uploads/2022/01/Eternal-Life-logo.png
END:VEVENT
BEGIN:VEVENT
DTSTART;TZID=America/Chicago:20220122T110000
DTEND;TZID=America/Chicago:20220122T130000
DTSTAMP:20260424T003711
CREATED:20220112T165103Z
LAST-MODIFIED:20220112T165103Z
UID:2431-1642849200-1642856400@heartwood.church
SUMMARY:Minnesota Citizens Concerned for Life: March for Life
DESCRIPTION:The 2022 MCCL March for Life will take place at noon on January 22 at the state Capitol in St. Paul. \nOn Jan. 22\, 1973\, the U.S. Supreme Court’s disastrous Roe v. Wade and Doe v. Bolton decisions eliminated laws protecting unborn children nationwide.\n\nEach year\, pro-life Minnesotans mark the anniversary of Roe and Doe with the MCCL March for Life. This year’s anniversary arrives at a time when the Court is reconsidering the Roe decision in a major new abortion case.\nIt’s never been more important to speak out for those who have no voice!\n\nPlease join us for the 2022 MCCL March for Life at 12 noon on Saturday\, Jan. 22\, on the state Capitol grounds in St. Paul. It will be followed at 12:30 with a brief program on the Capitol steps.
URL:https://heartwood.church/events/minnesota-citizens-concerned-for-life-march-for-life/
LOCATION:MN State Capitol\, 75 Rev Dr Martin Luther King Jr Blvd\, St. Paul\, MN\, 55155\, United States
CATEGORIES:Special Event
ATTACH;FMTTYPE=image/jpeg:https://heartwood.church/wp-content/uploads/2022/01/prayer.jpg
END:VEVENT
BEGIN:VEVENT
DTSTART;VALUE=DATE:20220121
DTEND;VALUE=DATE:20220122
DTSTAMP:20260424T003711
CREATED:20220112T164148Z
LAST-MODIFIED:20220112T165500Z
UID:2426-1642723200-1642809599@heartwood.church
SUMMARY:March for Life - National Rally
DESCRIPTION:TOGETHER\,\nWE STAND FOR\nTHE UNBORN\n\n\nAbortion is the most significant human rights abuse of our time. Will you take a stand? \nJOIN US FOR THE\nNATIONAL MARCH FOR LIFE\n\n\nWashington\, D.C. | January 21\, 2022\n\n\n \n\n\n\n\n\n  \n\n\n“Americans everywhere know that unborn children deserve equal rights and protection under the law… We are hopeful that… 2022 will bring us much closer to building the culture of life we have all marched for since Roe v. Wade was tragically imposed on our nation nearly 50 years ago.” ~ Jeanne Mancini\, President of March for Life\n 
URL:https://heartwood.church/events/march-for-life-national-rally/
LOCATION:Washington\, DC\, DC\, United States
CATEGORIES:Special Event
ATTACH;FMTTYPE=image/jpeg:https://heartwood.church/wp-content/uploads/2022/01/prayer.jpg
END:VEVENT
BEGIN:VEVENT
DTSTART;VALUE=DATE:20211225
DTEND;VALUE=DATE:20211226
DTSTAMP:20260424T003711
CREATED:20211124T234201Z
LAST-MODIFIED:20211124T234201Z
UID:2366-1640390400-1640476799@heartwood.church
SUMMARY:Christmas Day
DESCRIPTION:“…she gave birth to her firstborn\, a son. She wrapped him in cloths and placed him in a manger…”\n~ Luke 2:7
URL:https://heartwood.church/events/christmas-day/
CATEGORIES:Special Event,Worship
ATTACH;FMTTYPE=image/jpeg:https://heartwood.church/wp-content/uploads/2021/11/Away-in-a-Manger.jpg
END:VEVENT
BEGIN:VEVENT
DTSTART;VALUE=DATE:20211224
DTEND;VALUE=DATE:20211225
DTSTAMP:20260424T003711
CREATED:20211124T232033Z
LAST-MODIFIED:20211124T232104Z
UID:2364-1640304000-1640390399@heartwood.church
SUMMARY:Christmas Eve
DESCRIPTION:
URL:https://heartwood.church/events/christmas-eve/
CATEGORIES:Special Event,Worship
ATTACH;FMTTYPE=image/jpeg:https://heartwood.church/wp-content/uploads/2021/10/ADvent.jpg
END:VEVENT
BEGIN:VEVENT
DTSTART;TZID=America/Chicago:20211218T090000
DTEND;TZID=America/Chicago:20211218T130000
DTSTAMP:20260424T003711
CREATED:20211208T162708Z
LAST-MODIFIED:20211208T162708Z
UID:2380-1639818000-1639832400@heartwood.church
SUMMARY:Winter Wonderland
DESCRIPTION:The Oakdale Recreation Department\, Oakdale Area Chamber of Commerce and First Resource Bank\nare partnering to provide a variety of winter activities for the whole family! \nCost: FREE \nA donation of non-perishable food for the local food shelf will be accepted at this FREE family event.
URL:https://heartwood.church/events/winter-wonderland/
LOCATION:Oakdale Discovery Center\, 4444 Hadley Avenue North\, Oakdale\, MN\, 55128\, United States
CATEGORIES:Community,Relationship Building,Special Event
ATTACH;FMTTYPE=image/jpeg:https://heartwood.church/wp-content/uploads/2021/11/slegh.jpg
END:VEVENT
BEGIN:VEVENT
DTSTART;VALUE=DATE:20211125
DTEND;VALUE=DATE:20211126
DTSTAMP:20260424T003711
CREATED:20211021T155806Z
LAST-MODIFIED:20211021T155934Z
UID:2273-1637798400-1637884799@heartwood.church
SUMMARY:THANKSGIVING DAY
DESCRIPTION:“Thanksgiving Day is a jewel\, to set in the hearts of honest men;\nbut be careful that you do not take the day\, and leave out the gratitude.” (E.P. Powell)
URL:https://heartwood.church/events/thanksgiving-day-2/
CATEGORIES:Community,Special Event,Worship
ATTACH;FMTTYPE=image/jpeg:https://heartwood.church/wp-content/uploads/2021/10/Happy-Thanksgiving-Day-Images-2.jpg
END:VEVENT
BEGIN:VEVENT
DTSTART;TZID=America/Chicago:20211121T103000
DTEND;TZID=America/Chicago:20211121T140000
DTSTAMP:20260424T003711
CREATED:20211021T160235Z
LAST-MODIFIED:20211120T210327Z
UID:2279-1637490600-1637503200@heartwood.church
SUMMARY:Sunday Worship - Building God's House
DESCRIPTION:God’s house is built of people. \n  \nOur worship is Ancient-Future and Multi-Generational\, so you will experience elements from the past and modern innovations. We’ll hear the joyous noise of children along with mature reverence.\nWe encourage you to participate in whatever way you feel moved. \nWe are following CDC guidelines for group gatherings.
URL:https://heartwood.church/events/sunday-worship-combined-services/
LOCATION:Heartwood Church\, 6477 10th St. N.\, Oakdale\, MN\, 55128\, United States
CATEGORIES:Community,Formation,Relationship Building,Special Event,Worship
ATTACH;FMTTYPE=image/jpeg:https://heartwood.church/wp-content/uploads/2021/10/Building-Gods-House.jpg
END:VEVENT
BEGIN:VEVENT
DTSTART;TZID=America/Chicago:20211120T090000
DTEND;TZID=America/Chicago:20211120T130000
DTSTAMP:20260424T003711
CREATED:20210907T162501Z
LAST-MODIFIED:20210907T175649Z
UID:2169-1637398800-1637413200@heartwood.church
SUMMARY:Bible Pathway Scouting Patch Workshop
DESCRIPTION:Children and parents together earn the Crowns patch from PRAY (https://www.praypub.org/rp3)\nLunch is provided. \nCost for patch: $5 per child \nBible Pathways RegistrationFill out the registration form below and then go to https://heartwood.church/give to make your registration payment. Select "Bible Pathway Registration" in Tith.ly or add Bible Pathway Registration to your note in Venmo.Please enable JavaScript in your browser to complete this form.Choose Patch Registration *Trees - Saturday Oct. 16\, 2021Crowns - Saturday Nov. 20\, 2021Out of the Water - Saturday January 15\, 2022Boulders - Saturday March 19\, 2022All workshops run from 9 a\,m\, to 1 p\,m.\nA parent or guardian is required to attend.Number of Students Registering for Workshop *Attending Parent\, Guardian or Counselor Name *FirstLastEmail *Names of StudentsSubmit
URL:https://heartwood.church/events/bible-pathway-scouting-patch-workshop-2/
LOCATION:Heartwood Church\, 6477 10th St. N.\, Oakdale\, MN\, 55128\, United States
CATEGORIES:Special Event
ATTACH;FMTTYPE=image/jpeg:https://heartwood.church/wp-content/uploads/2021/09/crowns_patch.jpg
END:VEVENT
BEGIN:VEVENT
DTSTART;TZID=America/Chicago:20211110T090000
DTEND;TZID=America/Chicago:20211110T150000
DTSTAMP:20260424T003711
CREATED:20210909T165915Z
LAST-MODIFIED:20210909T170724Z
UID:2214-1636534800-1636556400@heartwood.church
SUMMARY:Sexuality\, Gender\, and the Church - Hosted by Transform Minnesota
DESCRIPTION:Sexuality\, Gender\, and the Church\, led by Dr. Preston Sprinkle\, is designed to lean into hard conversations\nand equip pastors and ministry leaders surrounding gender identity and sexuality. \nRegistration information is available at Sexuality\, Gender\, And The Church – Transform MN \n\nDr. Preston Sprinkle\, President of the Center for Faith\, Sexuality and Gender\, is a highly sought-after speaker and teacher. He loves communicating Christian truths with thoughtfulness\, honesty and grace. He’s written several books and also hosts a daily radio show in Boise and a podcast titled Theology in the Raw. He and his family live in Boise\, Idaho.\n \n 
URL:https://heartwood.church/events/sexuality-gender-and-the-church-hosted-by-transform-minnesota/
LOCATION:River Valley Church\, Crosstown Campus\, 10801 Red Circle Drive\, Minnetonka\, Minnesota\, 55343
CATEGORIES:Community,Relationship Building,Special Event
ATTACH;FMTTYPE=image/jpeg:https://heartwood.church/wp-content/uploads/2021/09/Preston-Sprinkle-Sexuality-Gender-Church-Graphic-JPG-1000x583-1.jpg
END:VEVENT
END:VCALENDAR