BEGIN:VCALENDAR
VERSION:2.0
PRODID:-//Heartwood Church - ECPv6.15.10//NONSGML v1.0//EN
CALSCALE:GREGORIAN
METHOD:PUBLISH
X-ORIGINAL-URL:https://heartwood.church
X-WR-CALDESC:Events for Heartwood Church
REFRESH-INTERVAL;VALUE=DURATION:PT1H
X-Robots-Tag:noindex
X-PUBLISHED-TTL:PT1H
BEGIN:VTIMEZONE
TZID:America/Chicago
BEGIN:DAYLIGHT
TZOFFSETFROM:-0600
TZOFFSETTO:-0500
TZNAME:CDT
DTSTART:20220313T080000
END:DAYLIGHT
BEGIN:STANDARD
TZOFFSETFROM:-0500
TZOFFSETTO:-0600
TZNAME:CST
DTSTART:20221106T070000
END:STANDARD
BEGIN:DAYLIGHT
TZOFFSETFROM:-0600
TZOFFSETTO:-0500
TZNAME:CDT
DTSTART:20230312T080000
END:DAYLIGHT
BEGIN:STANDARD
TZOFFSETFROM:-0500
TZOFFSETTO:-0600
TZNAME:CST
DTSTART:20231105T070000
END:STANDARD
BEGIN:DAYLIGHT
TZOFFSETFROM:-0600
TZOFFSETTO:-0500
TZNAME:CDT
DTSTART:20240310T080000
END:DAYLIGHT
BEGIN:STANDARD
TZOFFSETFROM:-0500
TZOFFSETTO:-0600
TZNAME:CST
DTSTART:20241103T070000
END:STANDARD
END:VTIMEZONE
BEGIN:VEVENT
DTSTART;TZID=America/Chicago:20231001T100000
DTEND;TZID=America/Chicago:20231001T120000
DTSTAMP:20260425T211951
CREATED:20230816T154934Z
LAST-MODIFIED:20230919T002745Z
UID:3134-1696154400-1696161600@heartwood.church
SUMMARY:Sunday Worship - The Feast of Tabernacles
DESCRIPTION:Join us as Trevor Rubenstein with Chosen People Ministries talks about Sukkot (The Feast of Tabernacles) and how Jesus dwells among us.\nLearn more here! Sunday School Lessons – Chosen People Ministries \nOur worship is Ancient-Future and Multi-Generational\, so you will experience elements from the past and modern innovations. We’ll hear the joyous noise of children along with mature reverence.\nWe encourage you to participate in whatever way you feel moved.
URL:https://heartwood.church/events/sunday-worship-the-feast-of-tabernacles/
LOCATION:Heartwood Church\, 6477 10th St. N.\, Oakdale\, MN\, 55128\, United States
CATEGORIES:Community,Formation,Relationship Building,Special Event,Worship
ATTACH;FMTTYPE=image/png:https://heartwood.church/wp-content/uploads/2021/07/messiah_fall.png
END:VEVENT
BEGIN:VEVENT
DTSTART;TZID=America/Chicago:20231008T100000
DTEND;TZID=America/Chicago:20231008T120000
DTSTAMP:20260425T211951
CREATED:20230816T154320Z
LAST-MODIFIED:20230816T154320Z
UID:3133-1696759200-1696766400@heartwood.church
SUMMARY:Sunday Worship - Psalm 23 (All-Church Formation)
DESCRIPTION:Our worship is Ancient-Future and Multi-Generational\, so you will experience elements from the past and modern innovations. We’ll hear the joyous noise of children along with mature reverence.\nWe encourage you to participate in whatever way you feel moved.
URL:https://heartwood.church/events/sunday-worship-psalm-23-all-church-formation-5/
LOCATION:Heartwood Church\, 6477 10th St. N.\, Oakdale\, MN\, 55128\, United States
CATEGORIES:Formation,Worship
ATTACH;FMTTYPE=image/jpeg:https://heartwood.church/wp-content/uploads/2023/08/Psalm-23-1.jpg
END:VEVENT
BEGIN:VEVENT
DTSTART;TZID=America/Chicago:20231015T100000
DTEND;TZID=America/Chicago:20231015T120000
DTSTAMP:20260425T211951
CREATED:20230816T155217Z
LAST-MODIFIED:20230816T155217Z
UID:3137-1697364000-1697371200@heartwood.church
SUMMARY:Sunday Worship - Psalm 23 (All-Church Formation)
DESCRIPTION:Our worship is Ancient-Future and Multi-Generational\, so you will experience elements from the past and modern innovations. We’ll hear the joyous noise of children along with mature reverence.\nWe encourage you to participate in whatever way you feel moved.
URL:https://heartwood.church/events/sunday-worship-psalm-23-all-church-formation-6/
LOCATION:Heartwood Church\, 6477 10th St. N.\, Oakdale\, MN\, 55128\, United States
CATEGORIES:Formation,Worship
ATTACH;FMTTYPE=image/jpeg:https://heartwood.church/wp-content/uploads/2023/08/Psalm-23-1.jpg
END:VEVENT
BEGIN:VEVENT
DTSTART;TZID=America/Chicago:20231022T080000
DTEND;TZID=America/Chicago:20231022T170000
DTSTAMP:20260425T211951
CREATED:20230816T155324Z
LAST-MODIFIED:20230816T155324Z
UID:3138-1697961600-1697994000@heartwood.church
SUMMARY:Sunday Worship - Psalm 23 (All-Church Formation)
DESCRIPTION:Our worship is Ancient-Future and Multi-Generational\, so you will experience elements from the past and modern innovations. We’ll hear the joyous noise of children along with mature reverence.\nWe encourage you to participate in whatever way you feel moved.
URL:https://heartwood.church/events/sunday-worship-psalm-23-all-church-formation-7/
LOCATION:Heartwood Church\, 6477 10th St. N.\, Oakdale\, MN\, 55128\, United States
CATEGORIES:Formation,Worship
ATTACH;FMTTYPE=image/jpeg:https://heartwood.church/wp-content/uploads/2023/08/Psalm-23-1.jpg
END:VEVENT
BEGIN:VEVENT
DTSTART;TZID=America/Chicago:20231029T113000
DTEND;TZID=America/Chicago:20231029T140000
DTSTAMP:20260425T211951
CREATED:20230919T002153Z
LAST-MODIFIED:20230919T002316Z
UID:3166-1698579000-1698588000@heartwood.church
SUMMARY:5th Sunday Fellowship: Pie Social
DESCRIPTION:Invite your friends and neighbors!
URL:https://heartwood.church/events/5th-sunday-fellowship-pie-social/
LOCATION:Heartwood Church\, 6477 10th St. N.\, Oakdale\, MN\, 55128\, United States
CATEGORIES:Relationship Building,Special Event,Worship
ATTACH;FMTTYPE=image/jpeg:https://heartwood.church/wp-content/uploads/2023/09/Oct-29-5th-Sunday-Fellowship.jpg
END:VEVENT
END:VCALENDAR