BEGIN:VCALENDAR
VERSION:2.0
PRODID:-//Heartwood Church - ECPv6.15.10//NONSGML v1.0//EN
CALSCALE:GREGORIAN
METHOD:PUBLISH
X-ORIGINAL-URL:https://heartwood.church
X-WR-CALDESC:Events for Heartwood Church
REFRESH-INTERVAL;VALUE=DURATION:PT1H
X-Robots-Tag:noindex
X-PUBLISHED-TTL:PT1H
BEGIN:VTIMEZONE
TZID:America/Chicago
BEGIN:DAYLIGHT
TZOFFSETFROM:-0600
TZOFFSETTO:-0500
TZNAME:CDT
DTSTART:20250309T080000
END:DAYLIGHT
BEGIN:STANDARD
TZOFFSETFROM:-0500
TZOFFSETTO:-0600
TZNAME:CST
DTSTART:20251102T070000
END:STANDARD
BEGIN:DAYLIGHT
TZOFFSETFROM:-0600
TZOFFSETTO:-0500
TZNAME:CDT
DTSTART:20260308T080000
END:DAYLIGHT
BEGIN:STANDARD
TZOFFSETFROM:-0500
TZOFFSETTO:-0600
TZNAME:CST
DTSTART:20261101T070000
END:STANDARD
BEGIN:DAYLIGHT
TZOFFSETFROM:-0600
TZOFFSETTO:-0500
TZNAME:CDT
DTSTART:20270314T080000
END:DAYLIGHT
BEGIN:STANDARD
TZOFFSETFROM:-0500
TZOFFSETTO:-0600
TZNAME:CST
DTSTART:20271107T070000
END:STANDARD
END:VTIMEZONE
BEGIN:VEVENT
DTSTART;TZID=America/Chicago:20260201T100000
DTEND;TZID=America/Chicago:20260201T120000
DTSTAMP:20260423T175600
CREATED:20260117T174803Z
LAST-MODIFIED:20260117T174808Z
UID:4706-1769940000-1769947200@heartwood.church
SUMMARY:Sunday Worship - "Lament and Listening"
DESCRIPTION:Hearing the Stories of the Book of Lamentations \n\n\n\nOur worship is Ancient-Future and Multi-Generational\, so you will experience elements from the past and modern innovations. We’ll hear the joyous noise of children along with mature reverence.We encourage you to participate in whatever way you feel moved.
URL:https://heartwood.church/events/sunday-worship-lament-and-listening-3/
LOCATION:Heartwood Church\, 6477 10th St. N.\, Oakdale\, MN\, 55128\, United States
CATEGORIES:Formation,Relationship Building,Worship
ATTACH;FMTTYPE=image/jpeg:https://heartwood.church/wp-content/uploads/2026/01/Lament-and-Listening.jpg
END:VEVENT
BEGIN:VEVENT
DTSTART;TZID=America/Chicago:20260208T100000
DTEND;TZID=America/Chicago:20260208T120000
DTSTAMP:20260423T175600
CREATED:20260117T175545Z
LAST-MODIFIED:20260117T175550Z
UID:4713-1770544800-1770552000@heartwood.church
SUMMARY:Sunday Worship - "Lament and Listening"
DESCRIPTION:Hearing the Stories of the Book of Lamentations \n\n\n\nOur worship is Ancient-Future and Multi-Generational\, so you will experience elements from the past and modern innovations. We’ll hear the joyous noise of children along with mature reverence.We encourage you to participate in whatever way you feel moved.
URL:https://heartwood.church/events/sunday-worship-lament-and-listening-4/
LOCATION:Heartwood Church\, 6477 10th St. N.\, Oakdale\, MN\, 55128\, United States
CATEGORIES:Formation,Relationship Building,Worship
ATTACH;FMTTYPE=image/jpeg:https://heartwood.church/wp-content/uploads/2026/01/Lament-and-Listening.jpg
END:VEVENT
BEGIN:VEVENT
DTSTART;TZID=America/Chicago:20260215T100000
DTEND;TZID=America/Chicago:20260215T120000
DTSTAMP:20260423T175600
CREATED:20260117T175857Z
LAST-MODIFIED:20260117T175902Z
UID:4715-1771149600-1771156800@heartwood.church
SUMMARY:Sunday Worship - "Lament and Listening"
DESCRIPTION:Hearing the Stories of the Book of Lamentations \n\n\n\nOur worship is Ancient-Future and Multi-Generational\, so you will experience elements from the past and modern innovations. We’ll hear the joyous noise of children along with mature reverence.We encourage you to participate in whatever way you feel moved.
URL:https://heartwood.church/events/sunday-worship-lament-and-listening-5/
LOCATION:Heartwood Church\, 6477 10th St. N.\, Oakdale\, MN\, 55128\, United States
CATEGORIES:Formation,Relationship Building,Worship
ATTACH;FMTTYPE=image/jpeg:https://heartwood.church/wp-content/uploads/2026/01/Lament-and-Listening.jpg
END:VEVENT
BEGIN:VEVENT
DTSTART;TZID=America/Chicago:20260218T183000
DTEND;TZID=America/Chicago:20260218T190000
DTSTAMP:20260423T175600
CREATED:20260108T143031Z
LAST-MODIFIED:20260108T143036Z
UID:4687-1771439400-1771441200@heartwood.church
SUMMARY:Ash Wednesday 2026
DESCRIPTION:As we start the season of Lent\, join us as we pray through psalms selected to remind us who we are as we stand before a holy God.
URL:https://heartwood.church/events/ash-wednesday-2026/
LOCATION:Heartwood Church\, 6477 10th St. N.\, Oakdale\, MN\, 55128\, United States
CATEGORIES:Worship
ATTACH;FMTTYPE=image/jpeg:https://heartwood.church/wp-content/uploads/2026/01/Ash-Wednesday-Service.jpg
END:VEVENT
BEGIN:VEVENT
DTSTART;TZID=America/Chicago:20260222T100000
DTEND;TZID=America/Chicago:20260222T120000
DTSTAMP:20260423T175600
CREATED:20260312T023238Z
LAST-MODIFIED:20260312T023240Z
UID:5844-1771754400-1771761600@heartwood.church
SUMMARY:Sunday Worship - "Redirect"
DESCRIPTION:Our worship is Ancient-Future and Multi-Generational\, so you will experience elements from the past and modern innovations. We’ll hear the joyous noise of children along with mature reverence.We encourage you to participate in whatever way you feel moved.
URL:https://heartwood.church/events/sunday-worship-redirect-5/
LOCATION:Heartwood Church\, 6477 10th St. N.\, Oakdale\, MN\, 55128\, United States
CATEGORIES:Formation,Relationship Building,Worship
ATTACH;FMTTYPE=image/jpeg:https://heartwood.church/wp-content/uploads/2026/03/Redirect.jpg
END:VEVENT
END:VCALENDAR