BEGIN:VCALENDAR
VERSION:2.0
PRODID:-//Heartwood Church - ECPv6.15.10//NONSGML v1.0//EN
CALSCALE:GREGORIAN
METHOD:PUBLISH
X-WR-CALNAME:Heartwood Church
X-ORIGINAL-URL:https://heartwood.church
X-WR-CALDESC:Events for Heartwood Church
REFRESH-INTERVAL;VALUE=DURATION:PT1H
X-Robots-Tag:noindex
X-PUBLISHED-TTL:PT1H
BEGIN:VTIMEZONE
TZID:America/Chicago
BEGIN:DAYLIGHT
TZOFFSETFROM:-0600
TZOFFSETTO:-0500
TZNAME:CDT
DTSTART:20220313T080000
END:DAYLIGHT
BEGIN:STANDARD
TZOFFSETFROM:-0500
TZOFFSETTO:-0600
TZNAME:CST
DTSTART:20221106T070000
END:STANDARD
BEGIN:DAYLIGHT
TZOFFSETFROM:-0600
TZOFFSETTO:-0500
TZNAME:CDT
DTSTART:20230312T080000
END:DAYLIGHT
BEGIN:STANDARD
TZOFFSETFROM:-0500
TZOFFSETTO:-0600
TZNAME:CST
DTSTART:20231105T070000
END:STANDARD
BEGIN:DAYLIGHT
TZOFFSETFROM:-0600
TZOFFSETTO:-0500
TZNAME:CDT
DTSTART:20240310T080000
END:DAYLIGHT
BEGIN:STANDARD
TZOFFSETFROM:-0500
TZOFFSETTO:-0600
TZNAME:CST
DTSTART:20241103T070000
END:STANDARD
END:VTIMEZONE
BEGIN:VEVENT
DTSTART;TZID=America/Chicago:20230624T120000
DTEND;TZID=America/Chicago:20230624T150000
DTSTAMP:20260425T082659
CREATED:20230325T134507Z
LAST-MODIFIED:20230325T135307Z
UID:2982-1687608000-1687618800@heartwood.church
SUMMARY:Benedictine Festival
DESCRIPTION:Benedictine Festival is back for its third year! \nThis year’s Benedictine Festival is Saturday\, June 24 from 12:00-3:00pm celebrating the 75th anniversary of St. Paul’s Monastery. \nPotter’s Pasties Food Truck\, Nelson’s Ice Cream\, Mike’s Mini Donuts\, games\, music\, and of course so much more in celebrating the Sisters of St. Paul’s Monastery on the beautiful grounds of St. Paul’s Monastery on the east side of the Metro!
URL:https://heartwood.church/events/benedictine-festival/
LOCATION:St. Paul’s Monastery\, 2675 Benet Rd\, St. Paul\, 55109\, United States
CATEGORIES:Community
ATTACH;FMTTYPE=image/jpeg:https://heartwood.church/wp-content/uploads/2023/03/Corn-Hole-Toss-1024x768-1.jpg
ORGANIZER;CN="Benedictine Center of St. Paul's Monastery":MAILTO:info@benedictinecenter.org
END:VEVENT
BEGIN:VEVENT
DTSTART;TZID=America/Chicago:20230618T100000
DTEND;TZID=America/Chicago:20230618T120000
DTSTAMP:20260425T082659
CREATED:20230530T145553Z
LAST-MODIFIED:20230530T152016Z
UID:3061-1687082400-1687089600@heartwood.church
SUMMARY:Sunday Worship - The Great Commission
DESCRIPTION:In Pentecost season\, we engage the power of the Holy Spirit to fulfill the Great Commission. \nOur worship is Ancient-Future and Multi-Generational\, so you will experience elements from the past and modern innovations. We’ll hear the joyous noise of children along with mature reverence.\nWe encourage you to participate in whatever way you feel moved.
URL:https://heartwood.church/events/sunday-worship-the-great-commission-3/
LOCATION:Heartwood Church\, 6477 10th St. N.\, Oakdale\, MN\, 55128\, United States
CATEGORIES:Formation,Worship
ATTACH;FMTTYPE=image/jpeg:https://heartwood.church/wp-content/uploads/2023/05/Great-Commission.jpg
END:VEVENT
BEGIN:VEVENT
DTSTART;TZID=America/Chicago:20230611T100000
DTEND;TZID=America/Chicago:20230611T120000
DTSTAMP:20260425T082659
CREATED:20230530T145455Z
LAST-MODIFIED:20230530T145455Z
UID:3056-1686477600-1686484800@heartwood.church
SUMMARY:Sunday Worship - The Great Commission
DESCRIPTION:In Pentecost season we engage the power of the Holy Spirit to fulfill the Great Commission. \nOur worship is Ancient-Future and Multi-Generational\, so you will experience elements from the past and modern innovations. We’ll hear the joyous noise of children along with mature reverence.\nWe encourage you to participate in whatever way you feel moved.
URL:https://heartwood.church/events/sunday-worship-the-great-commission-2/
LOCATION:Heartwood Church\, 6477 10th St. N.\, Oakdale\, MN\, 55128\, United States
CATEGORIES:Formation,Worship
ATTACH;FMTTYPE=image/jpeg:https://heartwood.church/wp-content/uploads/2023/05/Great-Commission.jpg
END:VEVENT
BEGIN:VEVENT
DTSTART;TZID=America/Chicago:20230604T100000
DTEND;TZID=America/Chicago:20230604T120000
DTSTAMP:20260425T082659
CREATED:20230530T145309Z
LAST-MODIFIED:20230530T145309Z
UID:3057-1685872800-1685880000@heartwood.church
SUMMARY:Sunday Worship - The Great Commission
DESCRIPTION:In Pentecost season we engage the power of the Holy Spirit to fulfill the Great Commission. \nOur worship is Ancient-Future and Multi-Generational\, so you will experience elements from the past and modern innovations. We’ll hear the joyous noise of children along with mature reverence.\nWe encourage you to participate in whatever way you feel moved.
URL:https://heartwood.church/events/sunday-worship-the-great-commission/
LOCATION:Heartwood Church\, 6477 10th St. N.\, Oakdale\, MN\, 55128\, United States
CATEGORIES:Formation,Relationship Building,Worship
ATTACH;FMTTYPE=image/jpeg:https://heartwood.church/wp-content/uploads/2023/05/Great-Commission.jpg
END:VEVENT
BEGIN:VEVENT
DTSTART;VALUE=DATE:20230529
DTEND;VALUE=DATE:20230530
DTSTAMP:20260425T082659
CREATED:20230412T040602Z
LAST-MODIFIED:20230412T040602Z
UID:3008-1685318400-1685404799@heartwood.church
SUMMARY:MEMORIAL DAY
DESCRIPTION:
URL:https://heartwood.church/events/memorial-day-2/
LOCATION:MN
ATTACH;FMTTYPE=image/jpeg:https://heartwood.church/wp-content/uploads/2023/04/Memorial-Day.jpg
END:VEVENT
BEGIN:VEVENT
DTSTART;TZID=America/Chicago:20230528T100000
DTEND;TZID=America/Chicago:20230528T120000
DTSTAMP:20260425T082659
CREATED:20230412T040214Z
LAST-MODIFIED:20230413T003627Z
UID:3003-1685268000-1685275200@heartwood.church
SUMMARY:Sunday Worship - Holy and Human
DESCRIPTION:In Easter season we live into our new life (the resurrection) and await the Holy Spirit\, God’s presence to make individuals like Christ\, the church to be God’s people\, and the earth to become a new creation. \nOur worship is Ancient-Future and Multi-Generational\, so you will experience elements from the past and modern innovations. We’ll hear the joyous noise of children along with mature reverence.\nWe encourage you to participate in whatever way you feel moved.
URL:https://heartwood.church/events/sunday-worship-holy-and-human/
LOCATION:Heartwood Church\, 6477 10th St. N.\, Oakdale\, MN\, 55128\, United States
CATEGORIES:Formation,Relationship Building,Worship
ATTACH;FMTTYPE=image/jpeg:https://heartwood.church/wp-content/uploads/2023/04/Holy-and-Human.jpg
END:VEVENT
BEGIN:VEVENT
DTSTART;VALUE=DATE:20230528
DTEND;VALUE=DATE:20230529
DTSTAMP:20260425T082659
CREATED:20230412T040316Z
LAST-MODIFIED:20230412T040316Z
UID:3006-1685232000-1685318399@heartwood.church
SUMMARY:PENTECOST SUNDAY
DESCRIPTION:
URL:https://heartwood.church/events/pentecost-sunday-2/
LOCATION:MN
ATTACH;FMTTYPE=image/png:https://heartwood.church/wp-content/uploads/2022/05/Pentecost.png
END:VEVENT
BEGIN:VEVENT
DTSTART;TZID=America/Chicago:20230521T100000
DTEND;TZID=America/Chicago:20230521T120000
DTSTAMP:20260425T082659
CREATED:20230228T172445Z
LAST-MODIFIED:20230412T040044Z
UID:2943-1684663200-1684670400@heartwood.church
SUMMARY:Sunday Worship - Holy and Human
DESCRIPTION:In Easter season we live into our new life (the resurrection) and await the Holy Spirit\, God’s presence to make individuals like Christ\, the church to be God’s people\, and the earth to become a new creation. \nOur worship is Ancient-Future and Multi-Generational\, so you will experience elements from the past and modern innovations. We’ll hear the joyous noise of children along with mature reverence.\nWe encourage you to participate in whatever way you feel moved.
URL:https://heartwood.church/events/sunday-worship-79/
LOCATION:Heartwood Church\, 6477 10th St. N.\, Oakdale\, MN\, 55128\, United States
CATEGORIES:Formation,Worship
ATTACH;FMTTYPE=image/jpeg:https://heartwood.church/wp-content/uploads/2023/04/Holy-and-Human.jpg
END:VEVENT
BEGIN:VEVENT
DTSTART;TZID=America/Chicago:20230514T100000
DTEND;TZID=America/Chicago:20230514T120000
DTSTAMP:20260425T082659
CREATED:20230228T172027Z
LAST-MODIFIED:20230412T035957Z
UID:2938-1684058400-1684065600@heartwood.church
SUMMARY:Sunday Worship - Holy and Human
DESCRIPTION:In Easter season we live into our new life (the resurrection) and await the Holy Spirit\, God’s presence to make individuals like Christ\, the church to be God’s people\, and the earth to become a new creation. \nOur worship is Ancient-Future and Multi-Generational\, so you will experience elements from the past and modern innovations. We’ll hear the joyous noise of children along with mature reverence.\nWe encourage you to participate in whatever way you feel moved.
URL:https://heartwood.church/events/sunday-worship-78/
LOCATION:Heartwood Church\, 6477 10th St. N.\, Oakdale\, MN\, 55128\, United States
CATEGORIES:Formation,Worship
ATTACH;FMTTYPE=image/jpeg:https://heartwood.church/wp-content/uploads/2023/04/Holy-and-Human.jpg
END:VEVENT
BEGIN:VEVENT
DTSTART;VALUE=DATE:20230514
DTEND;VALUE=DATE:20230515
DTSTAMP:20260425T082659
CREATED:20230228T172251Z
LAST-MODIFIED:20230228T172251Z
UID:2939-1684022400-1684108799@heartwood.church
SUMMARY:MOTHER'S DAY
DESCRIPTION:
URL:https://heartwood.church/events/mothers-day-2/
LOCATION:MN
ATTACH;FMTTYPE=image/jpeg:https://heartwood.church/wp-content/uploads/2023/02/Mothers-Day.jpg
END:VEVENT
BEGIN:VEVENT
DTSTART;TZID=America/Chicago:20230507T100000
DTEND;TZID=America/Chicago:20230507T120000
DTSTAMP:20260425T082659
CREATED:20230228T165913Z
LAST-MODIFIED:20230412T035759Z
UID:2925-1683453600-1683460800@heartwood.church
SUMMARY:Sunday Worship - Holy and Human
DESCRIPTION:In Easter season we live into our new life (the resurrection) and await the Holy Spirit\, God’s presence to make individuals like Christ\, the church to be God’s people\, and the earth to become a new creation. \nOur worship is Ancient-Future and Multi-Generational\, so you will experience elements from the past and modern innovations. We’ll hear the joyous noise of children along with mature reverence.\nWe encourage you to participate in whatever way you feel moved.
URL:https://heartwood.church/events/sunday-worship-76/
LOCATION:Heartwood Church\, 6477 10th St. N.\, Oakdale\, MN\, 55128\, United States
CATEGORIES:Formation,Worship
ATTACH;FMTTYPE=image/jpeg:https://heartwood.church/wp-content/uploads/2023/04/Holy-and-Human.jpg
END:VEVENT
BEGIN:VEVENT
DTSTART;TZID=America/Chicago:20230505T180000
DTEND;TZID=America/Chicago:20230505T210000
DTSTAMP:20260425T082659
CREATED:20230325T135210Z
LAST-MODIFIED:20230325T135210Z
UID:2985-1683309600-1683320400@heartwood.church
SUMMARY:14th Annual Starlight Soiree
DESCRIPTION:Please join us for Tubman’s 14th annual Starlight Soirée on Friday\, May 5.\nCome enjoy an evening to celebrate the people we serve and supporters like you with an impactful welcome by the entertainment\, International Reggae All Stars and emcee T. Mychael Rambo. We will honor the journey of survivors and support Tubman critical services that help make safety\, hope\, and healing possible with an inspiring program\, live auction\, and Special Giving Moment. \nWhen: Friday\, May 5 at 6:00 p.m. \nWhere: The 1893 Historic Grain Belt Office in Minneapolis
URL:https://heartwood.church/events/14th-annual-starlight-soiree/
LOCATION:The 1893 Historic Grain Belt Office\, 1215 Marshall St NE\, Minneapolis\, MN\, 55413\, United States
CATEGORIES:Community,Partner Fundraiser
ATTACH;FMTTYPE=image/png:https://heartwood.church/wp-content/uploads/2023/03/Soiree.png
END:VEVENT
BEGIN:VEVENT
DTSTART;TZID=America/Chicago:20230430T113000
DTEND;TZID=America/Chicago:20230430T140000
DTSTAMP:20260425T082659
CREATED:20230228T171832Z
LAST-MODIFIED:20230228T171832Z
UID:2934-1682854200-1682863200@heartwood.church
SUMMARY:5th Sunday Fellowship
DESCRIPTION:
URL:https://heartwood.church/events/5th-sunday-fellowship-4/
LOCATION:Heartwood Church\, 6477 10th St. N.\, Oakdale\, MN\, 55128\, United States
CATEGORIES:Relationship Building,Special Event
ATTACH;FMTTYPE=image/jpeg:https://heartwood.church/wp-content/uploads/2022/04/FSF.jpg
END:VEVENT
BEGIN:VEVENT
DTSTART;TZID=America/Chicago:20230430T100000
DTEND;TZID=America/Chicago:20230430T120000
DTSTAMP:20260425T082659
CREATED:20230228T170031Z
LAST-MODIFIED:20230412T035707Z
UID:2928-1682848800-1682856000@heartwood.church
SUMMARY:Sunday Worship - Holy and Human
DESCRIPTION:In Easter season we live into our new life (the resurrection) and await the Holy Spirit\, God’s presence to make individuals like Christ\, the church to be God’s people\, and the earth to become a new creation. \nOur worship is Ancient-Future and Multi-Generational\, so you will experience elements from the past and modern innovations. We’ll hear the joyous noise of children along with mature reverence.\nWe encourage you to participate in whatever way you feel moved.
URL:https://heartwood.church/events/sunday-worship-77/
LOCATION:Heartwood Church\, 6477 10th St. N.\, Oakdale\, MN\, 55128\, United States
CATEGORIES:Formation,Worship
ATTACH;FMTTYPE=image/jpeg:https://heartwood.church/wp-content/uploads/2023/04/Holy-and-Human.jpg
END:VEVENT
BEGIN:VEVENT
DTSTART;TZID=America/Chicago:20230425T093000
DTEND;TZID=America/Chicago:20230425T100000
DTSTAMP:20260425T082659
CREATED:20230412T042415Z
LAST-MODIFIED:20230412T042415Z
UID:3020-1682415000-1682416800@heartwood.church
SUMMARY:Tuesday Morning Prayer
DESCRIPTION:“The LORD is near to all who call on Him\, to all who call on Him in truth.” (Psalm 145:18) \n“The spirit of prayer makes us so intimate with God that we scarcely pass through an experience before we speak to Him about it.” (O. Hallesby)
URL:https://heartwood.church/events/tuesday-morning-prayer-90/
LOCATION:Heartwood Church\, 6477 10th St. N.\, Oakdale\, MN\, 55128\, United States
CATEGORIES:Formation,Prayer,Relationship Building
ATTACH;FMTTYPE=image/jpeg:https://heartwood.church/wp-content/uploads/2022/02/Prayer-2.jpeg
END:VEVENT
BEGIN:VEVENT
DTSTART;TZID=America/Chicago:20230423T100000
DTEND;TZID=America/Chicago:20230423T120000
DTSTAMP:20260425T082659
CREATED:20230228T165735Z
LAST-MODIFIED:20230412T035627Z
UID:2922-1682244000-1682251200@heartwood.church
SUMMARY:Sunday Worship - Holy and Human
DESCRIPTION:In Easter season we live into our new life (the resurrection) and await the Holy Spirit\, God’s presence to make individuals like Christ\, the church to be God’s people\, and the earth to become a new creation. \nOur worship is Ancient-Future and Multi-Generational\, so you will experience elements from the past and modern innovations. We’ll hear the joyous noise of children along with mature reverence.\nWe encourage you to participate in whatever way you feel moved.
URL:https://heartwood.church/events/sunday-worship-75/
LOCATION:Heartwood Church\, 6477 10th St. N.\, Oakdale\, MN\, 55128\, United States
CATEGORIES:Formation,Worship
ATTACH;FMTTYPE=image/jpeg:https://heartwood.church/wp-content/uploads/2023/04/Holy-and-Human.jpg
END:VEVENT
BEGIN:VEVENT
DTSTART;TZID=America/Chicago:20230418T093000
DTEND;TZID=America/Chicago:20230418T100000
DTSTAMP:20260425T082659
CREATED:20230412T042241Z
LAST-MODIFIED:20230412T042241Z
UID:3016-1681810200-1681812000@heartwood.church
SUMMARY:Tuesday Morning Prayer
DESCRIPTION:“The LORD is near to all who call on Him\, to all who call on Him in truth.” (Psalm 145:18) \n“The spirit of prayer makes us so intimate with God that we scarcely pass through an experience before we speak to Him about it.” (O. Hallesby)
URL:https://heartwood.church/events/tuesday-morning-prayer-89/
LOCATION:Heartwood Church\, 6477 10th St. N.\, Oakdale\, MN\, 55128\, United States
CATEGORIES:Formation,Prayer,Relationship Building
ATTACH;FMTTYPE=image/jpeg:https://heartwood.church/wp-content/uploads/2022/02/Prayer-2.jpeg
END:VEVENT
BEGIN:VEVENT
DTSTART;TZID=America/Chicago:20230416T100000
DTEND;TZID=America/Chicago:20230416T120000
DTSTAMP:20260425T082659
CREATED:20230228T165603Z
LAST-MODIFIED:20230412T035545Z
UID:2917-1681639200-1681646400@heartwood.church
SUMMARY:Sunday Worship - Holy and Human
DESCRIPTION: In Easter season we live into our new life (the resurrection) and await the Holy Spirit\, God’s presence to make individuals like Christ\, the church to be God’s people\, and the earth to become a new creation. \nOur worship is Ancient-Future and Multi-Generational\, so you will experience elements from the past and modern innovations. We’ll hear the joyous noise of children along with mature reverence.\nWe encourage you to participate in whatever way you feel moved.
URL:https://heartwood.church/events/sunday-worship-74/
LOCATION:Heartwood Church\, 6477 10th St. N.\, Oakdale\, MN\, 55128\, United States
CATEGORIES:Formation,Worship
ATTACH;FMTTYPE=image/jpeg:https://heartwood.church/wp-content/uploads/2023/04/Holy-and-Human.jpg
END:VEVENT
BEGIN:VEVENT
DTSTART;TZID=America/Chicago:20230411T093000
DTEND;TZID=America/Chicago:20230411T100000
DTSTAMP:20260425T082659
CREATED:20230412T042149Z
LAST-MODIFIED:20230412T042256Z
UID:3014-1681205400-1681207200@heartwood.church
SUMMARY:Tuesday Morning Prayer
DESCRIPTION:“The LORD is near to all who call on Him\, to all who call on Him in truth.” (Psalm 145:18) \n“The spirit of prayer makes us so intimate with God that we scarcely pass through an experience before we speak to Him about it.” (O. Hallesby)
URL:https://heartwood.church/events/3014/
LOCATION:Heartwood Church\, 6477 10th St. N.\, Oakdale\, MN\, 55128\, United States
CATEGORIES:Formation,Prayer,Relationship Building
ATTACH;FMTTYPE=image/jpeg:https://heartwood.church/wp-content/uploads/2022/02/Prayer-2.jpeg
END:VEVENT
BEGIN:VEVENT
DTSTART;TZID=America/Chicago:20230409T100000
DTEND;TZID=America/Chicago:20230409T120000
DTSTAMP:20260425T082659
CREATED:20230228T165521Z
LAST-MODIFIED:20230228T172514Z
UID:2918-1681034400-1681041600@heartwood.church
SUMMARY:Sunday Worship - Lord of the Sabbath
DESCRIPTION:Lent is a season when we sometimes deny the body with fasting or some other discipline. This year we will renew our bodies with the discipline of the Sabbath.\nThe Sabbath was given for rest\, for restoration. Jesus is the Lord of the Sabbath\, and we are spending Lent learning how Jesus restores us\, body and spirit.  \nOur worship is Ancient-Future and Multi-Generational\, so you will experience elements from the past and modern innovations. We’ll hear the joyous noise of children along with mature reverence.\nWe encourage you to participate in whatever way you feel moved.
URL:https://heartwood.church/events/sunday-worship-73/
LOCATION:Heartwood Church\, 6477 10th St. N.\, Oakdale\, MN\, 55128\, United States
CATEGORIES:Formation,Worship
ATTACH;FMTTYPE=image/jpeg:https://heartwood.church/wp-content/uploads/2023/02/Lord-of-the-Sabbath-DRAFT.jpg
END:VEVENT
BEGIN:VEVENT
DTSTART;VALUE=DATE:20230409
DTEND;VALUE=DATE:20230410
DTSTAMP:20260425T082659
CREATED:20230228T165657Z
LAST-MODIFIED:20230228T171143Z
UID:2920-1680998400-1681084799@heartwood.church
SUMMARY:EASTER
DESCRIPTION:
URL:https://heartwood.church/events/easter/
LOCATION:MN
CATEGORIES:Special Event
ATTACH;FMTTYPE=image/jpeg:https://heartwood.church/wp-content/uploads/2019/04/Easter-empty-tomb.jpg
END:VEVENT
BEGIN:VEVENT
DTSTART;TZID=America/Chicago:20230408T090000
DTEND;TZID=America/Chicago:20230408T110000
DTSTAMP:20260425T082659
CREATED:20230228T184050Z
LAST-MODIFIED:20230228T184323Z
UID:2969-1680944400-1680951600@heartwood.church
SUMMARY:Easter Egg Hunt
DESCRIPTION:When: Saturday\, April 8\, 2023\n9 to 11 AM\nEgg hunt begins at approximately 9:15 AM\nWhere: Discovery Center\n\n\n\n\n\n\n\nCost: $13 per child\, adults attend free\nFOR AGES 10 & UNDER\n\n\n\n\n\n\n\n\n\n\n\n\n\n\n\n\n\n\n\n\n\n\n\n\n\n\n\n\n\n\nDon’t miss the annual Mystery Egg Hunt! The Bunny will lead you along the trails of the Oakdale Nature Preserve where plastic eggs are hidden.\nOnce you find an egg it can be redeemed for a special prize! Two “Golden Eggs” will also be hidden\, redeemable for an extra special surprise.\nThe event also includes a petting zoo\, games\, face painting\, great prizes\, and refreshments. Bring your camera for a picture with the Bunny. \n\n\nDEADLINE TO REGISTER: March 31st or when full
URL:https://heartwood.church/events/easter-egg-hunt/
LOCATION:Oakdale Discovery Center\, 4444 Hadley Avenue North\, Oakdale\, MN\, 55128\, United States
CATEGORIES:Relationship Building,Special Event
END:VEVENT
BEGIN:VEVENT
DTSTART;TZID=America/Chicago:20230407T190000
DTEND;TZID=America/Chicago:20230407T200000
DTSTAMP:20260425T082659
CREATED:20230228T171625Z
LAST-MODIFIED:20230228T171625Z
UID:2933-1680894000-1680897600@heartwood.church
SUMMARY:Good Friday Service
DESCRIPTION:Lent is a season when we sometimes deny the body with fasting or some other discipline.\nThis year we will renew our bodies with the discipline of the Sabbath. The Sabbath was given for rest\, for restoration. Jesus is the Lord of the Sabbath\, and we are spending Lent learning how Jesus restores us\, body and spirit.  \nOur worship is Ancient-Future and Multi-Generational\, so you will experience elements from the past and modern innovations. We’ll hear the joyous noise of children along with mature reverence.\nWe encourage you to participate in whatever way you feel moved.
URL:https://heartwood.church/events/good-friday-service/
LOCATION:Heartwood Church\, 6477 10th St. N.\, Oakdale\, MN\, 55128\, United States
CATEGORIES:Formation,Special Event,Worship
ATTACH;FMTTYPE=image/jpeg:https://heartwood.church/wp-content/uploads/2023/02/Lord-of-the-Sabbath-DRAFT.jpg
END:VEVENT
BEGIN:VEVENT
DTSTART;TZID=America/Chicago:20230407T110000
DTEND;TZID=America/Chicago:20230407T170000
DTSTAMP:20260425T082659
CREATED:20230227T201455Z
LAST-MODIFIED:20230302T205623Z
UID:2899-1680865200-1680886800@heartwood.church
SUMMARY:Good Friday 2023 Red Cross Blood Drive
DESCRIPTION:Spring into Life! Heartwood Church and the American Red Cross are hosting an upcoming blood drive. Please join our lifesaving mission and schedule an appointment today! \nCome to give April 1-23\, 2023\, to get an EXCLUSIVE Red Cross and Peanuts T-shirt featuring Snoopy as the coolest beagle in town\, Joe Cool!^ Get yours\, while supplies last – then show off your cool\, kind spirit. \n \nThe need for blood is constant and only volunteer donors can fulfill that need for patients in our community. Nationwide\, someone needs a unit of blood every 2 to 3 seconds and most of us will need blood in our lifetime. \nThank you for supporting the American Red Cross blood program! \nDownload the Red Cross Blood Donor App on the App Store\, Google Play or text BLOODAPP to 90999. Schedule appointments\, view your blood type and results of your mini-physical\, and track your donations
URL:https://heartwood.church/events/good-friday-2023-red-cross-blood-drive/
LOCATION:Heartwood Church\, 6477 10th St. N.\, Oakdale\, MN\, 55128\, United States
CATEGORIES:Community
ATTACH;FMTTYPE=image/png:https://heartwood.church/wp-content/uploads/2023/02/Spring_Life.png
END:VEVENT
BEGIN:VEVENT
DTSTART;VALUE=DATE:20230407
DTEND;VALUE=DATE:20230408
DTSTAMP:20260425T082659
CREATED:20230119T162550Z
LAST-MODIFIED:20230119T162550Z
UID:2855-1680825600-1680911999@heartwood.church
SUMMARY:GOOD FRIDAY
DESCRIPTION:
URL:https://heartwood.church/events/good-friday-4/
LOCATION:MN
END:VEVENT
BEGIN:VEVENT
DTSTART;TZID=America/Chicago:20230404T093000
DTEND;TZID=America/Chicago:20230404T100000
DTSTAMP:20260425T082659
CREATED:20230412T042029Z
LAST-MODIFIED:20230412T042029Z
UID:3011-1680600600-1680602400@heartwood.church
SUMMARY:Tuesday Morning Prayer
DESCRIPTION:“The LORD is near to all who call on Him\, to all who call on Him in truth.” (Psalm 145:18) \n“The spirit of prayer makes us so intimate with God that we scarcely pass through an experience before we speak to Him about it.” (O. Hallesby)
URL:https://heartwood.church/events/tuesday-morning-prayer-88/
LOCATION:Heartwood Church\, 6477 10th St. N.\, Oakdale\, MN\, 55128\, United States
CATEGORIES:Formation,Prayer,Relationship Building
ATTACH;FMTTYPE=image/jpeg:https://heartwood.church/wp-content/uploads/2022/02/Prayer-2.jpeg
END:VEVENT
BEGIN:VEVENT
DTSTART;TZID=America/Chicago:20230402T100000
DTEND;TZID=America/Chicago:20230402T120000
DTSTAMP:20260425T082659
CREATED:20230228T165358Z
LAST-MODIFIED:20230228T165358Z
UID:2914-1680429600-1680436800@heartwood.church
SUMMARY:Sunday Worship - Lord of the Sabbath
DESCRIPTION:Lent is sometimes a season when we deny the body with fasting or some other discipline. This year we will renew our bodies with the discipline of the Sabbath.\nThe Sabbath was given for rest\, for restoration. Jesus is the Lord of the Sabbath\, and we are spending Lent learning how Jesus restores us\, body and spirit.  \nOur worship is Ancient-Future and Multi-Generational\, so you will experience elements from the past and modern innovations. We’ll hear the joyous noise of children along with mature reverence.\nWe encourage you to participate in whatever way you feel moved.
URL:https://heartwood.church/events/sunday-worship-lord-of-the-sabbath-6/
LOCATION:Heartwood Church\, 6477 10th St. N.\, Oakdale\, MN\, 55128\, United States
CATEGORIES:Formation,Worship
ATTACH;FMTTYPE=image/jpeg:https://heartwood.church/wp-content/uploads/2023/02/Lord-of-the-Sabbath-DRAFT.jpg
END:VEVENT
BEGIN:VEVENT
DTSTART;TZID=America/Chicago:20230326T100000
DTEND;TZID=America/Chicago:20230326T120000
DTSTAMP:20260425T082659
CREATED:20230228T165257Z
LAST-MODIFIED:20230228T165257Z
UID:2912-1679824800-1679832000@heartwood.church
SUMMARY:Sunday Worship - Lord of the Sabbath
DESCRIPTION:Lent is sometimes a season when we deny the body with fasting or some other discipline. This year we will renew our bodies with the discipline of the Sabbath.\nThe Sabbath was given for rest\, for restoration. Jesus is the Lord of the Sabbath\, and we are spending Lent learning how Jesus restores us\, body and spirit.  \nOur worship is Ancient-Future and Multi-Generational\, so you will experience elements from the past and modern innovations. We’ll hear the joyous noise of children along with mature reverence.\nWe encourage you to participate in whatever way you feel moved.
URL:https://heartwood.church/events/sunday-worship-lord-of-the-sabbath-5/
LOCATION:Heartwood Church\, 6477 10th St. N.\, Oakdale\, MN\, 55128\, United States
CATEGORIES:Formation,Worship
ATTACH;FMTTYPE=image/jpeg:https://heartwood.church/wp-content/uploads/2023/02/Lord-of-the-Sabbath-DRAFT.jpg
END:VEVENT
BEGIN:VEVENT
DTSTART;TZID=America/Chicago:20230319T100000
DTEND;TZID=America/Chicago:20230319T120000
DTSTAMP:20260425T082659
CREATED:20230228T165059Z
LAST-MODIFIED:20230228T165059Z
UID:2908-1679220000-1679227200@heartwood.church
SUMMARY:Sunday Worship - Lord of the Sabbath
DESCRIPTION:Lent is sometimes a season when we deny the body with fasting or some other discipline. This year we will renew our bodies with the discipline of the Sabbath.\nThe Sabbath was given for rest\, for restoration. Jesus is the Lord of the Sabbath\, and we are spending Lent learning how Jesus restores us\, body and spirit.  \nOur worship is Ancient-Future and Multi-Generational\, so you will experience elements from the past and modern innovations. We’ll hear the joyous noise of children along with mature reverence.\nWe encourage you to participate in whatever way you feel moved.
URL:https://heartwood.church/events/sunday-worship-lord-of-the-sabbath-3/
LOCATION:Heartwood Church\, 6477 10th St. N.\, Oakdale\, MN\, 55128\, United States
CATEGORIES:Formation,Worship
ATTACH;FMTTYPE=image/jpeg:https://heartwood.church/wp-content/uploads/2023/02/Lord-of-the-Sabbath-DRAFT.jpg
END:VEVENT
BEGIN:VEVENT
DTSTART;TZID=America/Chicago:20230312T100000
DTEND;TZID=America/Chicago:20230312T120000
DTSTAMP:20260425T082659
CREATED:20230228T165003Z
LAST-MODIFIED:20230228T165003Z
UID:2907-1678615200-1678622400@heartwood.church
SUMMARY:Sunday Worship - Lord of the Sabbath
DESCRIPTION:Lent is sometimes a season when we deny the body with fasting or some other discipline. This year we will renew our bodies with the discipline of the Sabbath.\nThe Sabbath was given for rest\, for restoration. Jesus is the Lord of the Sabbath\, and we are spending Lent learning how Jesus restores us\, body and spirit.  \nOur worship is Ancient-Future and Multi-Generational\, so you will experience elements from the past and modern innovations. We’ll hear the joyous noise of children along with mature reverence.\nWe encourage you to participate in whatever way you feel moved.
URL:https://heartwood.church/events/sunday-worship-lord-of-the-sabbath-2/
LOCATION:Heartwood Church\, 6477 10th St. N.\, Oakdale\, MN\, 55128\, United States
CATEGORIES:Formation,Worship
ATTACH;FMTTYPE=image/jpeg:https://heartwood.church/wp-content/uploads/2023/02/Lord-of-the-Sabbath-DRAFT.jpg
END:VEVENT
END:VCALENDAR