BEGIN:VCALENDAR
VERSION:2.0
PRODID:-//Heartwood Church - ECPv6.15.10//NONSGML v1.0//EN
CALSCALE:GREGORIAN
METHOD:PUBLISH
X-WR-CALNAME:Heartwood Church
X-ORIGINAL-URL:https://heartwood.church
X-WR-CALDESC:Events for Heartwood Church
REFRESH-INTERVAL;VALUE=DURATION:PT1H
X-Robots-Tag:noindex
X-PUBLISHED-TTL:PT1H
BEGIN:VTIMEZONE
TZID:America/Chicago
BEGIN:DAYLIGHT
TZOFFSETFROM:-0600
TZOFFSETTO:-0500
TZNAME:CDT
DTSTART:20220313T080000
END:DAYLIGHT
BEGIN:STANDARD
TZOFFSETFROM:-0500
TZOFFSETTO:-0600
TZNAME:CST
DTSTART:20221106T070000
END:STANDARD
BEGIN:DAYLIGHT
TZOFFSETFROM:-0600
TZOFFSETTO:-0500
TZNAME:CDT
DTSTART:20230312T080000
END:DAYLIGHT
BEGIN:STANDARD
TZOFFSETFROM:-0500
TZOFFSETTO:-0600
TZNAME:CST
DTSTART:20231105T070000
END:STANDARD
BEGIN:DAYLIGHT
TZOFFSETFROM:-0600
TZOFFSETTO:-0500
TZNAME:CDT
DTSTART:20240310T080000
END:DAYLIGHT
BEGIN:STANDARD
TZOFFSETFROM:-0500
TZOFFSETTO:-0600
TZNAME:CST
DTSTART:20241103T070000
END:STANDARD
END:VTIMEZONE
BEGIN:VEVENT
DTSTART;VALUE=DATE:20230407
DTEND;VALUE=DATE:20230408
DTSTAMP:20260425T203838
CREATED:20230119T162550Z
LAST-MODIFIED:20230119T162550Z
UID:2855-1680825600-1680911999@heartwood.church
SUMMARY:GOOD FRIDAY
DESCRIPTION:
URL:https://heartwood.church/events/good-friday-4/
LOCATION:MN
END:VEVENT
BEGIN:VEVENT
DTSTART;TZID=America/Chicago:20230404T093000
DTEND;TZID=America/Chicago:20230404T100000
DTSTAMP:20260425T203838
CREATED:20230412T042029Z
LAST-MODIFIED:20230412T042029Z
UID:3011-1680600600-1680602400@heartwood.church
SUMMARY:Tuesday Morning Prayer
DESCRIPTION:“The LORD is near to all who call on Him\, to all who call on Him in truth.” (Psalm 145:18) \n“The spirit of prayer makes us so intimate with God that we scarcely pass through an experience before we speak to Him about it.” (O. Hallesby)
URL:https://heartwood.church/events/tuesday-morning-prayer-88/
LOCATION:Heartwood Church\, 6477 10th St. N.\, Oakdale\, MN\, 55128\, United States
CATEGORIES:Formation,Prayer,Relationship Building
ATTACH;FMTTYPE=image/jpeg:https://heartwood.church/wp-content/uploads/2022/02/Prayer-2.jpeg
END:VEVENT
BEGIN:VEVENT
DTSTART;TZID=America/Chicago:20230402T100000
DTEND;TZID=America/Chicago:20230402T120000
DTSTAMP:20260425T203838
CREATED:20230228T165358Z
LAST-MODIFIED:20230228T165358Z
UID:2914-1680429600-1680436800@heartwood.church
SUMMARY:Sunday Worship - Lord of the Sabbath
DESCRIPTION:Lent is sometimes a season when we deny the body with fasting or some other discipline. This year we will renew our bodies with the discipline of the Sabbath.\nThe Sabbath was given for rest\, for restoration. Jesus is the Lord of the Sabbath\, and we are spending Lent learning how Jesus restores us\, body and spirit.  \nOur worship is Ancient-Future and Multi-Generational\, so you will experience elements from the past and modern innovations. We’ll hear the joyous noise of children along with mature reverence.\nWe encourage you to participate in whatever way you feel moved.
URL:https://heartwood.church/events/sunday-worship-lord-of-the-sabbath-6/
LOCATION:Heartwood Church\, 6477 10th St. N.\, Oakdale\, MN\, 55128\, United States
CATEGORIES:Formation,Worship
ATTACH;FMTTYPE=image/jpeg:https://heartwood.church/wp-content/uploads/2023/02/Lord-of-the-Sabbath-DRAFT.jpg
END:VEVENT
BEGIN:VEVENT
DTSTART;TZID=America/Chicago:20230326T100000
DTEND;TZID=America/Chicago:20230326T120000
DTSTAMP:20260425T203838
CREATED:20230228T165257Z
LAST-MODIFIED:20230228T165257Z
UID:2912-1679824800-1679832000@heartwood.church
SUMMARY:Sunday Worship - Lord of the Sabbath
DESCRIPTION:Lent is sometimes a season when we deny the body with fasting or some other discipline. This year we will renew our bodies with the discipline of the Sabbath.\nThe Sabbath was given for rest\, for restoration. Jesus is the Lord of the Sabbath\, and we are spending Lent learning how Jesus restores us\, body and spirit.  \nOur worship is Ancient-Future and Multi-Generational\, so you will experience elements from the past and modern innovations. We’ll hear the joyous noise of children along with mature reverence.\nWe encourage you to participate in whatever way you feel moved.
URL:https://heartwood.church/events/sunday-worship-lord-of-the-sabbath-5/
LOCATION:Heartwood Church\, 6477 10th St. N.\, Oakdale\, MN\, 55128\, United States
CATEGORIES:Formation,Worship
ATTACH;FMTTYPE=image/jpeg:https://heartwood.church/wp-content/uploads/2023/02/Lord-of-the-Sabbath-DRAFT.jpg
END:VEVENT
BEGIN:VEVENT
DTSTART;TZID=America/Chicago:20230319T100000
DTEND;TZID=America/Chicago:20230319T120000
DTSTAMP:20260425T203838
CREATED:20230228T165059Z
LAST-MODIFIED:20230228T165059Z
UID:2908-1679220000-1679227200@heartwood.church
SUMMARY:Sunday Worship - Lord of the Sabbath
DESCRIPTION:Lent is sometimes a season when we deny the body with fasting or some other discipline. This year we will renew our bodies with the discipline of the Sabbath.\nThe Sabbath was given for rest\, for restoration. Jesus is the Lord of the Sabbath\, and we are spending Lent learning how Jesus restores us\, body and spirit.  \nOur worship is Ancient-Future and Multi-Generational\, so you will experience elements from the past and modern innovations. We’ll hear the joyous noise of children along with mature reverence.\nWe encourage you to participate in whatever way you feel moved.
URL:https://heartwood.church/events/sunday-worship-lord-of-the-sabbath-3/
LOCATION:Heartwood Church\, 6477 10th St. N.\, Oakdale\, MN\, 55128\, United States
CATEGORIES:Formation,Worship
ATTACH;FMTTYPE=image/jpeg:https://heartwood.church/wp-content/uploads/2023/02/Lord-of-the-Sabbath-DRAFT.jpg
END:VEVENT
BEGIN:VEVENT
DTSTART;TZID=America/Chicago:20230312T100000
DTEND;TZID=America/Chicago:20230312T120000
DTSTAMP:20260425T203838
CREATED:20230228T165003Z
LAST-MODIFIED:20230228T165003Z
UID:2907-1678615200-1678622400@heartwood.church
SUMMARY:Sunday Worship - Lord of the Sabbath
DESCRIPTION:Lent is sometimes a season when we deny the body with fasting or some other discipline. This year we will renew our bodies with the discipline of the Sabbath.\nThe Sabbath was given for rest\, for restoration. Jesus is the Lord of the Sabbath\, and we are spending Lent learning how Jesus restores us\, body and spirit.  \nOur worship is Ancient-Future and Multi-Generational\, so you will experience elements from the past and modern innovations. We’ll hear the joyous noise of children along with mature reverence.\nWe encourage you to participate in whatever way you feel moved.
URL:https://heartwood.church/events/sunday-worship-lord-of-the-sabbath-2/
LOCATION:Heartwood Church\, 6477 10th St. N.\, Oakdale\, MN\, 55128\, United States
CATEGORIES:Formation,Worship
ATTACH;FMTTYPE=image/jpeg:https://heartwood.church/wp-content/uploads/2023/02/Lord-of-the-Sabbath-DRAFT.jpg
END:VEVENT
BEGIN:VEVENT
DTSTART;VALUE=DATE:20230312
DTEND;VALUE=DATE:20230313
DTSTAMP:20260425T203838
CREATED:20230228T171104Z
LAST-MODIFIED:20230228T171211Z
UID:2930-1678579200-1678665599@heartwood.church
SUMMARY:DAYLIGHT SAVING TIME BEGINS
DESCRIPTION:Daylight Saving Time (DST) begins today\nRemember to turn your clocks ahead ONE HOUR before you go to bed on Saturday night so you can join us for Worship at 10:00 AM! \n 
URL:https://heartwood.church/events/daylight-saving-time-begins/
LOCATION:MN
ATTACH;FMTTYPE=image/jpeg:https://heartwood.church/wp-content/uploads/2023/02/Spring-Forward.jpg
END:VEVENT
BEGIN:VEVENT
DTSTART;TZID=America/Chicago:20230305T100000
DTEND;TZID=America/Chicago:20230305T120000
DTSTAMP:20260425T203838
CREATED:20230228T164855Z
LAST-MODIFIED:20230228T164855Z
UID:2905-1678010400-1678017600@heartwood.church
SUMMARY:Sunday Worship - Lord of the Sabbath
DESCRIPTION:Lent is sometimes a season when we deny the body with fasting or some other discipline. This year we will renew our bodies with the discipline of the Sabbath.\nThe Sabbath was given for rest\, for restoration. Jesus is the Lord of the Sabbath\, and we are spending Lent learning how Jesus restores us\, body and spirit.  \nOur worship is Ancient-Future and Multi-Generational\, so you will experience elements from the past and modern innovations. We’ll hear the joyous noise of children along with mature reverence.\nWe encourage you to participate in whatever way you feel moved.
URL:https://heartwood.church/events/sunday-worship-lord-of-the-sabbath/
LOCATION:Heartwood Church\, 6477 10th St. N.\, Oakdale\, MN\, 55128\, United States
CATEGORIES:Formation,Worship
ATTACH;FMTTYPE=image/jpeg:https://heartwood.church/wp-content/uploads/2023/02/Lord-of-the-Sabbath-DRAFT.jpg
END:VEVENT
BEGIN:VEVENT
DTSTART;TZID=America/Chicago:20230228T093000
DTEND;TZID=America/Chicago:20230228T100000
DTSTAMP:20260425T203838
CREATED:20230228T173218Z
LAST-MODIFIED:20230228T173218Z
UID:2966-1677576600-1677578400@heartwood.church
SUMMARY:Tuesday Prayer
DESCRIPTION:
URL:https://heartwood.church/events/tuesday-prayer-9/
LOCATION:Heartwood Church\, 6477 10th St. N.\, Oakdale\, MN\, 55128\, United States
END:VEVENT
BEGIN:VEVENT
DTSTART;TZID=America/Chicago:20230226T100000
DTEND;TZID=America/Chicago:20230226T120000
DTSTAMP:20260425T203838
CREATED:20230220T150303Z
LAST-MODIFIED:20230228T164653Z
UID:2890-1677405600-1677412800@heartwood.church
SUMMARY:Sunday Worship - Lord of the Sabbath
DESCRIPTION:Lent is sometimes a season when we deny the body with fasting or some other discipline. This year we will renew our bodies with the discipline of the Sabbath.\nThe Sabbath was given for rest\, for restoration. Jesus is the Lord of the Sabbath\, and we are spending Lent learning how Jesus restores us\, body and spirit.  \nOur worship is Ancient-Future and Multi-Generational\, so you will experience elements from the past and modern innovations. We’ll hear the joyous noise of children along with mature reverence.\nWe encourage you to participate in whatever way you feel moved.
URL:https://heartwood.church/events/sunday-worship-72/
LOCATION:Heartwood Church\, 6477 10th St. N.\, Oakdale\, MN\, 55128\, United States
CATEGORIES:Formation,Worship
ATTACH;FMTTYPE=image/jpeg:https://heartwood.church/wp-content/uploads/2023/02/Lord-of-the-Sabbath-DRAFT.jpg
END:VEVENT
BEGIN:VEVENT
DTSTART;TZID=America/Chicago:20230225T183000
DTEND;TZID=America/Chicago:20230225T193000
DTSTAMP:20260425T203838
CREATED:20230119T162522Z
LAST-MODIFIED:20230221T173354Z
UID:2852-1677349800-1677353400@heartwood.church
SUMMARY:Rescheduled Ash "Wednesday" Prayer Service 2023
DESCRIPTION:Ash Wednesday Now\nAsh Saturday\nOne person judges one day to be more important than another day. Someone else judges every day to be the same. Let each one be fully convinced in his own mind. Romans 14:5 \nAsh Wednesday is a day to remember our mortality as we begin the season of Lent. We are mortal\, and could die attempting to travel in a snow storm. As this service is a time for corporate prayer and reflection\, a time when we together engage our physical selves to the spiritual\, it does not lend well itself to a virtual format. It is better to reschedule. \nAsh “Wednesday” Service will be rescheduled to\nSaturday\, February 25 at 6:30 p.m.\nWinter Storm Warning\nTuesday 3 pm until Thursday 6 pm\nHeavy snow and blowing snow expected. Snow accumulations of 4 to 7 inches Tuesday and Tuesday night\, followed by an additional 14 to 19 inches Wednesday afternoon into Thursday. For the entire storm\, total accumulations will range from 18 to 24 inches. Winds gusting as high as 35 to 40 mph by Wednesday. \nHISTORIC WINTER STORM SHOULD LEAD TO IMPOSSIBLE TRAVEL BY WEDNESDAY NIGHT AND EARLY THURSDAY \nSee the alert at weather.com
URL:https://heartwood.church/events/ash-wednesday-2/
LOCATION:Heartwood Church\, 6477 10th St. N.\, Oakdale\, MN\, 55128\, United States
CATEGORIES:Formation,Prayer,Worship
ATTACH;FMTTYPE=image/jpeg:https://heartwood.church/wp-content/uploads/2023/01/Ash-Wednesday.jpg
END:VEVENT
BEGIN:VEVENT
DTSTART;TZID=America/Chicago:20230221T093000
DTEND;TZID=America/Chicago:20230221T100000
DTSTAMP:20260425T203838
CREATED:20230228T173148Z
LAST-MODIFIED:20230228T173148Z
UID:2965-1676971800-1676973600@heartwood.church
SUMMARY:Tuesday Prayer
DESCRIPTION:
URL:https://heartwood.church/events/tuesday-prayer-8/
LOCATION:Heartwood Church\, 6477 10th St. N.\, Oakdale\, MN\, 55128\, United States
END:VEVENT
BEGIN:VEVENT
DTSTART;TZID=America/Chicago:20230219T100000
DTEND;TZID=America/Chicago:20230219T120000
DTSTAMP:20260425T203838
CREATED:20230220T145233Z
LAST-MODIFIED:20230220T145313Z
UID:2884-1676800800-1676808000@heartwood.church
SUMMARY:Sunday Worship - Seven Transforming Churches
DESCRIPTION:The question is not “Will a church transform?” but “Will a church transform for better or worse?” \nOur worship is Ancient-Future and Multi-Generational\, so you will experience elements from the past and modern innovations. We’ll hear the joyous noise of children along with mature reverence.\nWe encourage you to participate in whatever way you feel moved.
URL:https://heartwood.church/events/sunday-worship-seven-transforming-churches-7/
LOCATION:Heartwood Church\, 6477 10th St. N.\, Oakdale\, MN\, 55128\, United States
CATEGORIES:Formation,Worship
ATTACH;FMTTYPE=image/jpeg:https://heartwood.church/wp-content/uploads/2023/02/Seven-Churches-1.jpg
END:VEVENT
BEGIN:VEVENT
DTSTART;TZID=America/Chicago:20230214T093000
DTEND;TZID=America/Chicago:20230214T100000
DTSTAMP:20260425T203838
CREATED:20230228T173117Z
LAST-MODIFIED:20230228T173117Z
UID:2961-1676367000-1676368800@heartwood.church
SUMMARY:Tuesday Prayer
DESCRIPTION:
URL:https://heartwood.church/events/tuesday-prayer-7/
LOCATION:Heartwood Church\, 6477 10th St. N.\, Oakdale\, MN\, 55128\, United States
END:VEVENT
BEGIN:VEVENT
DTSTART;TZID=America/Chicago:20230212T100000
DTEND;TZID=America/Chicago:20230212T120000
DTSTAMP:20260425T203838
CREATED:20230220T145110Z
LAST-MODIFIED:20230220T145110Z
UID:2882-1676196000-1676203200@heartwood.church
SUMMARY:Sunday Worship – Seven Transforming Churches
DESCRIPTION:The question is not “Will a church transform?” but “Will a church transform for better or worse?” \nOur worship is Ancient-Future and Multi-Generational\, so you will experience elements from the past and modern innovations. We’ll hear the joyous noise of children along with mature reverence.\nWe encourage you to participate in whatever way you feel moved.
URL:https://heartwood.church/events/sunday-worship-seven-transforming-churches-6/
LOCATION:Heartwood Church\, 6477 10th St. N.\, Oakdale\, MN\, 55128\, United States
CATEGORIES:Formation,Worship
ATTACH;FMTTYPE=image/jpeg:https://heartwood.church/wp-content/uploads/2023/02/Seven-Churches-1.jpg
END:VEVENT
BEGIN:VEVENT
DTSTART;TZID=America/Chicago:20230207T093000
DTEND;TZID=America/Chicago:20230207T100000
DTSTAMP:20260425T203838
CREATED:20230228T173054Z
LAST-MODIFIED:20230228T173054Z
UID:2962-1675762200-1675764000@heartwood.church
SUMMARY:Tuesday Prayer
DESCRIPTION:
URL:https://heartwood.church/events/tuesday-prayer-6/
LOCATION:Heartwood Church\, 6477 10th St. N.\, Oakdale\, MN\, 55128\, United States
END:VEVENT
BEGIN:VEVENT
DTSTART;TZID=America/Chicago:20230205T130000
DTEND;TZID=America/Chicago:20230205T150000
DTSTAMP:20260425T203838
CREATED:20230119T162453Z
LAST-MODIFIED:20230119T162453Z
UID:2853-1675602000-1675609200@heartwood.church
SUMMARY:Sundae Bingo with the City of Oakdale
DESCRIPTION:What could be better than ice cream sundaes and two hours of bingo!?\nJoin us for this fun-filled Sunday afternoon. Make your own ice cream sundae while shouting out BINGO!\nALL AGES WELCOME \nFor more information and to register\, visit Sundae Bingo | Oakdale\, MN
URL:https://heartwood.church/events/sundae-bingo-with-the-city-of-oakdale/
LOCATION:Oakdale Discovery Center\, 4444 Hadley Avenue North\, Oakdale\, MN\, 55128\, United States
CATEGORIES:Community,Relationship Building,Special Event
END:VEVENT
BEGIN:VEVENT
DTSTART;TZID=America/Chicago:20230205T100000
DTEND;TZID=America/Chicago:20230205T120000
DTSTAMP:20260425T203838
CREATED:20230220T145901Z
LAST-MODIFIED:20230220T145901Z
UID:2887-1675591200-1675598400@heartwood.church
SUMMARY:Sunday Worship - How's Your Love Life?
DESCRIPTION:Special Speaker: Rev. Tim Purcell \nOur worship is Ancient-Future and Multi-Generational\, so you will experience elements from the past and modern innovations. We’ll hear the joyous noise of children along with mature reverence.\nWe encourage you to participate in whatever way you feel moved.
URL:https://heartwood.church/events/sunday-worship-hows-your-love-life/
LOCATION:Heartwood Church\, 6477 10th St. N.\, Oakdale\, MN\, 55128\, United States
CATEGORIES:Formation,Worship
ATTACH;FMTTYPE=image/jpeg:https://heartwood.church/wp-content/uploads/2023/02/Hows-Your-Love-Life.jpg
END:VEVENT
BEGIN:VEVENT
DTSTART;TZID=America/Chicago:20230131T093000
DTEND;TZID=America/Chicago:20230131T100000
DTSTAMP:20260425T203838
CREATED:20230228T172931Z
LAST-MODIFIED:20230228T172931Z
UID:2956-1675157400-1675159200@heartwood.church
SUMMARY:Tuesday Prayer
DESCRIPTION:
URL:https://heartwood.church/events/tuesday-prayer-5/
LOCATION:Heartwood Church\, 6477 10th St. N.\, Oakdale\, MN\, 55128\, United States
END:VEVENT
BEGIN:VEVENT
DTSTART;TZID=America/Chicago:20230129T113000
DTEND;TZID=America/Chicago:20230129T140000
DTSTAMP:20260425T203838
CREATED:20230119T161947Z
LAST-MODIFIED:20230119T161947Z
UID:2850-1674991800-1675000800@heartwood.church
SUMMARY:5th Sunday Fellowship
DESCRIPTION:
URL:https://heartwood.church/events/5th-sunday-fellowship-3/
LOCATION:Heartwood Church\, 6477 10th St. N.\, Oakdale\, MN\, 55128\, United States
CATEGORIES:Formation,Relationship Building,Special Event,Worship
ATTACH;FMTTYPE=image/jpeg:https://heartwood.church/wp-content/uploads/2022/04/FSF.jpg
END:VEVENT
BEGIN:VEVENT
DTSTART;TZID=America/Chicago:20230129T100000
DTEND;TZID=America/Chicago:20230129T120000
DTSTAMP:20260425T203838
CREATED:20221228T170306Z
LAST-MODIFIED:20221228T170306Z
UID:2842-1674986400-1674993600@heartwood.church
SUMMARY:Sunday Worship - Seven Transforming Churches
DESCRIPTION:The question is not “Will a church transform?” but “Will a church transform for better or worse?” \nOur worship is Ancient-Future and Multi-Generational\, so you will experience elements from the past and modern innovations. We’ll hear the joyous noise of children along with mature reverence.\nWe encourage you to participate in whatever way you feel moved.
URL:https://heartwood.church/events/sunday-worship-seven-transforming-churches-5/
LOCATION:Heartwood Church\, 6477 10th St. N.\, Oakdale\, MN\, 55128\, United States
CATEGORIES:Formation,Worship
ATTACH;FMTTYPE=application/pdf:https://heartwood.church/wp-content/uploads/2022/12/Seven-Churches-4.pdf
END:VEVENT
BEGIN:VEVENT
DTSTART;TZID=America/Chicago:20230128T180000
DTEND;TZID=America/Chicago:20230128T220000
DTSTAMP:20260425T203838
CREATED:20230119T161606Z
LAST-MODIFIED:20230119T161606Z
UID:2848-1674928800-1674943200@heartwood.church
SUMMARY:Family Moonlight Snowshoe and Bonfire with City of Oakdale
DESCRIPTION:Enjoy a leisurely snowshoe walk following a luminary lit trail through the Oakdale Nature Preserve.\nHot dogs\, chips\, s’mores and hot chocolate will be served at the bonfire. \nFor more information and to register\, please visit Family Moonlight Snowshoe and Bonfire | Oakdale\, MN \n 
URL:https://heartwood.church/events/family-moonlight-snowshoe-and-bonfire-with-city-of-oakdale/
LOCATION:Oakdale Discovery Center\, 4444 Hadley Avenue North\, Oakdale\, MN\, 55128\, United States
CATEGORIES:Community,Relationship Building,Special Event
END:VEVENT
BEGIN:VEVENT
DTSTART;TZID=America/Chicago:20230127T190000
DTEND;TZID=America/Chicago:20230127T190000
DTSTAMP:20260425T203838
CREATED:20230119T161046Z
LAST-MODIFIED:20230119T162026Z
UID:2846-1674846000-1674846000@heartwood.church
SUMMARY:Youth Game Night with Shekinah Church
DESCRIPTION:Geared to ages 16-24\, but all are welcome!
URL:https://heartwood.church/events/youth-game-night-with-shekinah-church/
LOCATION:Heartwood Church\, 6477 10th St. N.\, Oakdale\, MN\, 55128\, United States
CATEGORIES:Community,Relationship Building,Special Event
END:VEVENT
BEGIN:VEVENT
DTSTART;TZID=America/Chicago:20230124T093000
DTEND;TZID=America/Chicago:20230124T100000
DTSTAMP:20260425T203838
CREATED:20230228T172904Z
LAST-MODIFIED:20230228T172904Z
UID:2954-1674552600-1674554400@heartwood.church
SUMMARY:Tuesday Prayer
DESCRIPTION:
URL:https://heartwood.church/events/tuesday-prayer-4/
LOCATION:Heartwood Church\, 6477 10th St. N.\, Oakdale\, MN\, 55128\, United States
END:VEVENT
BEGIN:VEVENT
DTSTART;TZID=America/Chicago:20230122T100000
DTEND;TZID=America/Chicago:20230122T120000
DTSTAMP:20260425T203838
CREATED:20221228T170057Z
LAST-MODIFIED:20221228T170057Z
UID:2839-1674381600-1674388800@heartwood.church
SUMMARY:Sunday Worship - Seven Transforming Churches
DESCRIPTION:The question is not “Will a church transform?” but “Will a church transform for better or worse?” \nOur worship is Ancient-Future and Multi-Generational\, so you will experience elements from the past and modern innovations. We’ll hear the joyous noise of children along with mature reverence.\nWe encourage you to participate in whatever way you feel moved.
URL:https://heartwood.church/events/sunday-worship-seven-transforming-churches-4/
LOCATION:Heartwood Church\, 6477 10th St. N.\, Oakdale\, MN\, 55128\, United States
CATEGORIES:Formation,Worship
ATTACH;FMTTYPE=application/pdf:https://heartwood.church/wp-content/uploads/2022/12/Seven-Churches-3.pdf
END:VEVENT
BEGIN:VEVENT
DTSTART;TZID=America/Chicago:20230117T093000
DTEND;TZID=America/Chicago:20230117T100000
DTSTAMP:20260425T203838
CREATED:20230228T172819Z
LAST-MODIFIED:20230228T172819Z
UID:2952-1673947800-1673949600@heartwood.church
SUMMARY:Tuesday Prayer
DESCRIPTION:
URL:https://heartwood.church/events/tuesday-prayer-3/
LOCATION:Heartwood Church\, 6477 10th St. N.\, Oakdale\, MN\, 55128\, United States
END:VEVENT
BEGIN:VEVENT
DTSTART;VALUE=DATE:20230116
DTEND;VALUE=DATE:20230117
DTSTAMP:20260425T203838
CREATED:20230228T172958Z
LAST-MODIFIED:20230228T172958Z
UID:2959-1673827200-1673913599@heartwood.church
SUMMARY:Martin Luther King Jr Day
DESCRIPTION:
URL:https://heartwood.church/events/martin-luther-king-jr-day/
LOCATION:MN
END:VEVENT
BEGIN:VEVENT
DTSTART;TZID=America/Chicago:20230115T100000
DTEND;TZID=America/Chicago:20230115T120000
DTSTAMP:20260425T203838
CREATED:20221228T165911Z
LAST-MODIFIED:20221228T165911Z
UID:2836-1673776800-1673784000@heartwood.church
SUMMARY:Sunday Worship - Seven Transforming Churches
DESCRIPTION:The question is not “Will a church transform?” but “Will a church transform for better or worse?” \nOur worship is Ancient-Future and Multi-Generational\, so you will experience elements from the past and modern innovations. We’ll hear the joyous noise of children along with mature reverence.\nWe encourage you to participate in whatever way you feel moved.
URL:https://heartwood.church/events/sunday-worship-seven-transforming-churches-3/
LOCATION:Heartwood Church\, 6477 10th St. N.\, Oakdale\, MN\, 55128\, United States
CATEGORIES:Formation,Worship
ATTACH;FMTTYPE=application/pdf:https://heartwood.church/wp-content/uploads/2022/12/Seven-Churches-2.pdf
END:VEVENT
BEGIN:VEVENT
DTSTART;TZID=America/Chicago:20230110T093000
DTEND;TZID=America/Chicago:20230110T100000
DTSTAMP:20260425T203838
CREATED:20230228T172755Z
LAST-MODIFIED:20230228T172755Z
UID:2949-1673343000-1673344800@heartwood.church
SUMMARY:Tuesday Prayer
DESCRIPTION:
URL:https://heartwood.church/events/tuesday-prayer-2/
LOCATION:Heartwood Church\, 6477 10th St. N.\, Oakdale\, MN\, 55128\, United States
END:VEVENT
BEGIN:VEVENT
DTSTART;TZID=America/Chicago:20230108T100000
DTEND;TZID=America/Chicago:20230108T120000
DTSTAMP:20260425T203838
CREATED:20221228T165705Z
LAST-MODIFIED:20221228T165705Z
UID:2833-1673172000-1673179200@heartwood.church
SUMMARY:Sunday Worship - Seven Transforming Churches
DESCRIPTION:The question is not “Will a church transform?” but “Will a church transform for better or worse?” \nOur worship is Ancient-Future and Multi-Generational\, so you will experience elements from the past and modern innovations. We’ll hear the joyous noise of children along with mature reverence.\nWe encourage you to participate in whatever way you feel moved.
URL:https://heartwood.church/events/sunday-worship-seven-transforming-churches-2/
LOCATION:Heartwood Church\, 6477 10th St. N.\, Oakdale\, MN\, 55128\, United States
CATEGORIES:Formation,Worship
ATTACH;FMTTYPE=application/pdf:https://heartwood.church/wp-content/uploads/2022/12/Seven-Churches-1.pdf
END:VEVENT
END:VCALENDAR