BEGIN:VCALENDAR
VERSION:2.0
PRODID:-//Heartwood Church - ECPv6.15.10//NONSGML v1.0//EN
CALSCALE:GREGORIAN
METHOD:PUBLISH
X-WR-CALNAME:Heartwood Church
X-ORIGINAL-URL:https://heartwood.church
X-WR-CALDESC:Events for Heartwood Church
REFRESH-INTERVAL;VALUE=DURATION:PT1H
X-Robots-Tag:noindex
X-PUBLISHED-TTL:PT1H
BEGIN:VTIMEZONE
TZID:America/Chicago
BEGIN:DAYLIGHT
TZOFFSETFROM:-0600
TZOFFSETTO:-0500
TZNAME:CDT
DTSTART:20210314T080000
END:DAYLIGHT
BEGIN:STANDARD
TZOFFSETFROM:-0500
TZOFFSETTO:-0600
TZNAME:CST
DTSTART:20211107T070000
END:STANDARD
BEGIN:DAYLIGHT
TZOFFSETFROM:-0600
TZOFFSETTO:-0500
TZNAME:CDT
DTSTART:20220313T080000
END:DAYLIGHT
BEGIN:STANDARD
TZOFFSETFROM:-0500
TZOFFSETTO:-0600
TZNAME:CST
DTSTART:20221106T070000
END:STANDARD
BEGIN:DAYLIGHT
TZOFFSETFROM:-0600
TZOFFSETTO:-0500
TZNAME:CDT
DTSTART:20230312T080000
END:DAYLIGHT
BEGIN:STANDARD
TZOFFSETFROM:-0500
TZOFFSETTO:-0600
TZNAME:CST
DTSTART:20231105T070000
END:STANDARD
END:VTIMEZONE
BEGIN:VEVENT
DTSTART;VALUE=DATE:20221225
DTEND;VALUE=DATE:20221226
DTSTAMP:20260425T062038
CREATED:20221112T235043Z
LAST-MODIFIED:20221112T235345Z
UID:2783-1671926400-1672012799@heartwood.church
SUMMARY:CHRISTMAS DAY
DESCRIPTION:
URL:https://heartwood.church/events/christmas-day-2/
CATEGORIES:Special Event
ATTACH;FMTTYPE=image/jpeg:https://heartwood.church/wp-content/uploads/2019/11/bigstock-christmas-bible-verse-110463680.jpg
END:VEVENT
BEGIN:VEVENT
DTSTART;TZID=America/Chicago:20221220T093000
DTEND;TZID=America/Chicago:20221220T100000
DTSTAMP:20260425T062038
CREATED:20221113T003114Z
LAST-MODIFIED:20221125T233225Z
UID:2806-1671528600-1671530400@heartwood.church
SUMMARY:Tuesday Morning Prayer
DESCRIPTION:“Glory to God in the highest and peace\, good will toward men.” (Luke 2:14) \n  \n“Come\, thou long expected Jesus\,\nBorn to set your people free;\nFrom our fears and sins release us\,\nLet us find our rest in thee.” (Charles Wesley)
URL:https://heartwood.church/events/tuesday-morning-prayer-86/
LOCATION:Heartwood Church\, 6477 10th St. N.\, Oakdale\, MN\, 55128\, United States
CATEGORIES:Formation,Prayer,Relationship Building,Worship
ATTACH;FMTTYPE=image/jpeg:https://heartwood.church/wp-content/uploads/2021/11/Advent_prayer.width-1200.jpg
END:VEVENT
BEGIN:VEVENT
DTSTART;TZID=America/Chicago:20221218T100000
DTEND;TZID=America/Chicago:20221218T120000
DTSTAMP:20260425T062038
CREATED:20221112T235000Z
LAST-MODIFIED:20221125T233311Z
UID:2781-1671357600-1671364800@heartwood.church
SUMMARY:Sunday Worship - Bethlehem: More Than the Birthplace of Christmas
DESCRIPTION:Bethlehem: More than the Birthplace of Christmas \n  \nOur worship is Ancient-Future and Multi-Generational\, so you will experience elements from the past and modern innovations. We’ll hear the joyous noise of children along with mature reverence.\nWe encourage you to participate in whatever way you feel moved.
URL:https://heartwood.church/events/sunday-worship-70/
LOCATION:Heartwood Church\, 6477 10th St. N.\, Oakdale\, MN\, 55128\, United States
CATEGORIES:Formation,Worship
ATTACH;FMTTYPE=image/jpeg:https://heartwood.church/wp-content/uploads/2022/11/Bethlehem-Advent-2022.jpg
END:VEVENT
BEGIN:VEVENT
DTSTART;TZID=America/Chicago:20221213T093000
DTEND;TZID=America/Chicago:20221213T100000
DTSTAMP:20260425T062038
CREATED:20221113T002955Z
LAST-MODIFIED:20221125T233503Z
UID:2805-1670923800-1670925600@heartwood.church
SUMMARY:Tuesday Morning Prayer
DESCRIPTION:“Glory to God in the highest and peace\, good will toward men.” (Luke 2:14) \n  \n“Come\, thou long expected Jesus\,\nBorn to set your people free;\nFrom our fears and sins release us\,\nLet us find our rest in thee.” (Charles Wesley)
URL:https://heartwood.church/events/tuesday-morning-prayer-85/
LOCATION:Heartwood Church\, 6477 10th St. N.\, Oakdale\, MN\, 55128\, United States
CATEGORIES:Formation,Prayer,Relationship Building,Worship
ATTACH;FMTTYPE=image/jpeg:https://heartwood.church/wp-content/uploads/2021/11/Advent_prayer.width-1200.jpg
END:VEVENT
BEGIN:VEVENT
DTSTART;TZID=America/Chicago:20221211T100000
DTEND;TZID=America/Chicago:20221211T120000
DTSTAMP:20260425T062038
CREATED:20221112T234858Z
LAST-MODIFIED:20221125T233446Z
UID:2780-1670752800-1670760000@heartwood.church
SUMMARY:Sunday Worship - Bethlehem: More Than the Birthplace of Christmas
DESCRIPTION:Bethlehem: More Than the Birthplace of Christmas \n  \nOur worship is Ancient-Future and Multi-Generational\, so you will experience elements from the past and modern innovations. We’ll hear the joyous noise of children along with mature reverence.\nWe encourage you to participate in whatever way you feel moved.
URL:https://heartwood.church/events/sunday-worship-69/
LOCATION:Heartwood Church\, 6477 10th St. N.\, Oakdale\, MN\, 55128\, United States
CATEGORIES:Formation,Worship
ATTACH;FMTTYPE=image/jpeg:https://heartwood.church/wp-content/uploads/2022/11/Bethlehem-Advent-2022.jpg
END:VEVENT
BEGIN:VEVENT
DTSTART;TZID=America/Chicago:20221206T093000
DTEND;TZID=America/Chicago:20221206T100000
DTSTAMP:20260425T062038
CREATED:20221113T002512Z
LAST-MODIFIED:20221125T233634Z
UID:2796-1670319000-1670320800@heartwood.church
SUMMARY:Tuesday Morning Prayer
DESCRIPTION:“Glory to God in the highest and peace\, good will toward men.” (Luke 2:14) \n  \n“Come\, thou long expected Jesus\,\nBorn to set your people free;\nFrom our fears and sins release us\,\nLet us find our rest in thee.” (Charles Wesley)
URL:https://heartwood.church/events/tuesday-morning-prayer-82/
LOCATION:Heartwood Church\, 6477 10th St. N.\, Oakdale\, MN\, 55128\, United States
CATEGORIES:Prayer,Relationship Building,Worship
ATTACH;FMTTYPE=image/jpeg:https://heartwood.church/wp-content/uploads/2021/11/Advent_prayer.width-1200.jpg
END:VEVENT
BEGIN:VEVENT
DTSTART;TZID=America/Chicago:20221204T100000
DTEND;TZID=America/Chicago:20221204T120000
DTSTAMP:20260425T062038
CREATED:20221112T234642Z
LAST-MODIFIED:20221125T233545Z
UID:2778-1670148000-1670155200@heartwood.church
SUMMARY:Sunday Worship - Bethlehem: More Than the Birthplace of Christmas
DESCRIPTION:Bethlehem: More Than the Birthplace of Christmas \n  \nOur worship is Ancient-Future and Multi-Generational\, so you will experience elements from the past and modern innovations. We’ll hear the joyous noise of children along with mature reverence.\nWe encourage you to participate in whatever way you feel moved.
URL:https://heartwood.church/events/sunday-worship-68/
LOCATION:Heartwood Church\, 6477 10th St. N.\, Oakdale\, MN\, 55128\, United States
CATEGORIES:Formation,Worship
ATTACH;FMTTYPE=image/jpeg:https://heartwood.church/wp-content/uploads/2022/11/Bethlehem-Advent-2022.jpg
END:VEVENT
BEGIN:VEVENT
DTSTART;TZID=America/Chicago:20221129T093000
DTEND;TZID=America/Chicago:20221129T100000
DTSTAMP:20260425T062038
CREATED:20221113T000526Z
LAST-MODIFIED:20221125T233800Z
UID:2793-1669714200-1669716000@heartwood.church
SUMMARY:Tuesday Morning Prayer
DESCRIPTION:“Glory to God in the highest and peace\, good will toward men.” (Luke 2:14) \n  \n“Come\, thou long expected Jesus\,\nBorn to set your people free;\nFrom our fears and sins release us\,\nLet us find our rest in thee.” (Charles Wesley)
URL:https://heartwood.church/events/tuesday-morning-prayer-81/
LOCATION:Heartwood Church\, 6477 10th St. N.\, Oakdale\, MN\, 55128\, United States
CATEGORIES:Prayer,Relationship Building,Worship
ATTACH;FMTTYPE=image/jpeg:https://heartwood.church/wp-content/uploads/2021/11/Advent_prayer.width-1200.jpg
END:VEVENT
BEGIN:VEVENT
DTSTART;TZID=America/Chicago:20221127T100000
DTEND;TZID=America/Chicago:20221127T120000
DTSTAMP:20260425T062038
CREATED:20221112T234345Z
LAST-MODIFIED:20221125T235639Z
UID:2776-1669543200-1669550400@heartwood.church
SUMMARY:Sunday Worship - Bethlehem: More Than the Birthplace of Christmas
DESCRIPTION:Bethlehem: More Than the Birthplace of Christmas \nOur worship is Ancient-Future and Multi-Generational\, so you will experience elements from the past and modern innovations. We’ll hear the joyous noise of children along with mature reverence.\nWe encourage you to participate in whatever way you feel moved. \n  \nADVENT DEVOTIONAL GUIDE: 2022 Advent Devotional Booklet
URL:https://heartwood.church/events/sunday-worship-67/
LOCATION:Heartwood Church\, 6477 10th St. N.\, Oakdale\, MN\, 55128\, United States
CATEGORIES:Formation,Worship
ATTACH;FMTTYPE=image/jpeg:https://heartwood.church/wp-content/uploads/2022/11/Bethlehem-Advent-2022.jpg
END:VEVENT
BEGIN:VEVENT
DTSTART;VALUE=DATE:20221124
DTEND;VALUE=DATE:20221125
DTSTAMP:20260425T062038
CREATED:20221112T235508Z
LAST-MODIFIED:20221112T235508Z
UID:2788-1669248000-1669334399@heartwood.church
SUMMARY:THANKSGIVING DAY
DESCRIPTION:
URL:https://heartwood.church/events/thanksgiving-day-3/
CATEGORIES:Special Event
ATTACH;FMTTYPE=image/jpeg:https://heartwood.church/wp-content/uploads/2021/10/Happy-Thanksgiving-Day-Images-2.jpg
END:VEVENT
BEGIN:VEVENT
DTSTART;TZID=America/Chicago:20221122T093000
DTEND;TZID=America/Chicago:20221122T100000
DTSTAMP:20260425T062038
CREATED:20221113T000425Z
LAST-MODIFIED:20221113T000425Z
UID:2792-1669109400-1669111200@heartwood.church
SUMMARY:Tuesday Morning Prayer
DESCRIPTION:“Praise be to the God and Father of our Lord Jesus Christ\, the Father of compassion and the God of all comfort\, who comforts us in all our troubles\, so that we can comfort those in any trouble with the comfort we ourselves receive from God.” (2 Corinthians 1:3-4) \n  \n“Adoration sets the tone for the entire prayer. It reminds us Whom we are addressing\, Whose Presence we have entered\, Whose attention we have gained.” (Bill Hybels)
URL:https://heartwood.church/events/tuesday-morning-prayer-80/
LOCATION:Heartwood Church\, 6477 10th St. N.\, Oakdale\, MN\, 55128\, United States
CATEGORIES:Prayer,Relationship Building,Worship
ATTACH;FMTTYPE=image/jpeg:https://heartwood.church/wp-content/uploads/2022/02/Prayer-2.jpeg
END:VEVENT
BEGIN:VEVENT
DTSTART;TZID=America/Chicago:20221120T100000
DTEND;TZID=America/Chicago:20221120T120000
DTSTAMP:20260425T062038
CREATED:20221112T234132Z
LAST-MODIFIED:20221112T234132Z
UID:2773-1668938400-1668945600@heartwood.church
SUMMARY:Sunday Worship - Three Funerals and a Legacy
DESCRIPTION:Leaving a Legacy \n  \nOur worship is Ancient-Future and Multi-Generational\, so you will experience elements from the past and modern innovations. We’ll hear the joyous noise of children along with mature reverence.\nWe encourage you to participate in whatever way you feel moved.
URL:https://heartwood.church/events/sunday-worship-three-funerals-and-a-legacy-3/
LOCATION:Heartwood Church\, 6477 10th St. N.\, Oakdale\, MN\, 55128\, United States
CATEGORIES:Formation,Worship
ATTACH;FMTTYPE=application/pdf:https://heartwood.church/wp-content/uploads/2022/11/Three-Funerals-and-a-Legacy-2.pdf
END:VEVENT
BEGIN:VEVENT
DTSTART;TZID=America/Chicago:20221115T093000
DTEND;TZID=America/Chicago:20221115T100000
DTSTAMP:20260425T062038
CREATED:20221113T000257Z
LAST-MODIFIED:20221113T000257Z
UID:2790-1668504600-1668506400@heartwood.church
SUMMARY:Tuesday Morning Prayer
DESCRIPTION:“Praise be to the God and Father of our Lord Jesus Christ\, the Father of compassion and the God of all comfort\, who comforts us in all our troubles\, so that we can comfort those in any trouble with the comfort we ourselves receive from God.” (2 Corinthians 1:3-4) \n  \n“Adoration sets the tone for the entire prayer. It reminds us Whom we are addressing\, Whose Presence we have entered\, Whose attention we have gained.” (Bill Hybels)
URL:https://heartwood.church/events/tuesday-morning-prayer-79/
LOCATION:Heartwood Church\, 6477 10th St. N.\, Oakdale\, MN\, 55128\, United States
CATEGORIES:Prayer,Relationship Building
ATTACH;FMTTYPE=image/jpeg:https://heartwood.church/wp-content/uploads/2022/02/Prayer-2.jpeg
END:VEVENT
BEGIN:VEVENT
DTSTART;TZID=America/Chicago:20221113T100000
DTEND;TZID=America/Chicago:20221113T120000
DTSTAMP:20260425T062038
CREATED:20221112T233913Z
LAST-MODIFIED:20221112T234223Z
UID:2770-1668333600-1668340800@heartwood.church
SUMMARY:Sunday Worship - Three Funerals and a Legacy
DESCRIPTION:Leaving a Legacy \n  \nOur worship is Ancient-Future and Multi-Generational\, so you will experience elements from the past and modern innovations. We’ll hear the joyous noise of children along with mature reverence.\nWe encourage you to participate in whatever way you feel moved.
URL:https://heartwood.church/events/sunday-worship-three-funerals-and-a-legacy-2/
LOCATION:Heartwood Church\, 6477 10th St. N.\, Oakdale\, MN\, 55128\, United States
CATEGORIES:Formation,Worship
ATTACH;FMTTYPE=application/pdf:https://heartwood.church/wp-content/uploads/2022/11/Three-Funerals-and-a-Legacy-1.pdf
END:VEVENT
BEGIN:VEVENT
DTSTART;TZID=America/Chicago:20221108T093000
DTEND;TZID=America/Chicago:20221108T100000
DTSTAMP:20260425T062038
CREATED:20221113T002746Z
LAST-MODIFIED:20221113T002746Z
UID:2802-1667899800-1667901600@heartwood.church
SUMMARY:Tuesday Morning Prayer
DESCRIPTION:“Praise be to the God and Father of our Lord Jesus Christ\, the Father of compassion and the God of all comfort\, who comforts us in all our troubles\, so that we can comfort those in any trouble with the comfort we ourselves receive from God.” (2 Corinthians 1:3-4) \n  \n“Adoration sets the tone for the entire prayer. It reminds us Whom we are addressing\, Whose Presence we have entered\, Whose attention we have gained.” (Bill Hybels)
URL:https://heartwood.church/events/tuesday-morning-prayer-83/
LOCATION:Heartwood Church\, 6477 10th St. N.\, Oakdale\, MN\, 55128\, United States
CATEGORIES:Formation,Prayer,Relationship Building,Worship
ATTACH;FMTTYPE=image/jpeg:https://heartwood.church/wp-content/uploads/2022/02/Prayer-2.jpeg
END:VEVENT
BEGIN:VEVENT
DTSTART;TZID=America/Chicago:20221106T100000
DTEND;TZID=America/Chicago:20221106T120000
DTSTAMP:20260425T062038
CREATED:20221102T143528Z
LAST-MODIFIED:20221112T233646Z
UID:2764-1667728800-1667736000@heartwood.church
SUMMARY:Sunday Worship - Three Funerals and a Legacy
DESCRIPTION:Leaving a Legacy \n  \nOur worship is Ancient-Future and Multi-Generational\, so you will experience elements from the past and modern innovations. We’ll hear the joyous noise of children along with mature reverence.\nWe encourage you to participate in whatever way you feel moved.
URL:https://heartwood.church/events/sunday-worship-three-funerals-and-a-legacy/
LOCATION:Heartwood Church\, 6477 10th St. N.\, Oakdale\, MN\, 55128\, United States
CATEGORIES:Formation,Worship
ATTACH;FMTTYPE=application/pdf:https://heartwood.church/wp-content/uploads/2022/11/Three-Funerals-and-a-Legacy.pdf
END:VEVENT
BEGIN:VEVENT
DTSTART;VALUE=DATE:20221106
DTEND;VALUE=DATE:20221107
DTSTAMP:20260425T062038
CREATED:20221102T142203Z
LAST-MODIFIED:20221102T142203Z
UID:2762-1667692800-1667779199@heartwood.church
SUMMARY:DAYLIGHT SAVING TIME ENDS
DESCRIPTION:Remember to turn your clock back one hour on Saturday\, November 5!
URL:https://heartwood.church/events/daylight-saving-time-ends/
ATTACH;FMTTYPE=image/jpeg:https://heartwood.church/wp-content/uploads/2021/10/Fall-Back.jpg
END:VEVENT
BEGIN:VEVENT
DTSTART;TZID=America/Chicago:20221101T093000
DTEND;TZID=America/Chicago:20221101T100000
DTSTAMP:20260425T062038
CREATED:20221113T002754Z
LAST-MODIFIED:20221113T002754Z
UID:2801-1667295000-1667296800@heartwood.church
SUMMARY:Tuesday Morning Prayer
DESCRIPTION:“Praise be to the God and Father of our Lord Jesus Christ\, the Father of compassion and the God of all comfort\, who comforts us in all our troubles\, so that we can comfort those in any trouble with the comfort we ourselves receive from God.” (2 Corinthians 1:3-4) \n  \n“Adoration sets the tone for the entire prayer. It reminds us Whom we are addressing\, Whose Presence we have entered\, Whose attention we have gained.” (Bill Hybels)
URL:https://heartwood.church/events/tuesday-morning-prayer-84/
LOCATION:Heartwood Church\, 6477 10th St. N.\, Oakdale\, MN\, 55128\, United States
CATEGORIES:Formation,Prayer,Relationship Building,Worship
ATTACH;FMTTYPE=image/jpeg:https://heartwood.church/wp-content/uploads/2022/02/Prayer-2.jpeg
END:VEVENT
BEGIN:VEVENT
DTSTART;TZID=America/Chicago:20221030T100000
DTEND;TZID=America/Chicago:20221030T120000
DTSTAMP:20260425T062038
CREATED:20220825T181251Z
LAST-MODIFIED:20220825T181251Z
UID:2751-1667124000-1667131200@heartwood.church
SUMMARY:Sunday Worship - 40 Days of Good News
DESCRIPTION:The Stories I Need to Know to Tell the Story of Jesus \n\nOur worship is Ancient-Future and Multi-Generational\, so you will experience elements from the past and modern innovations. We’ll hear the joyous noise of children along with mature reverence.\nWe encourage you to participate in whatever way you feel moved.
URL:https://heartwood.church/events/sunday-worship-40-days-of-good-news-3/
LOCATION:Heartwood Church\, 6477 10th St. N.\, Oakdale\, MN\, 55128\, United States
CATEGORIES:Formation,Worship
ATTACH;FMTTYPE=image/png:https://heartwood.church/wp-content/uploads/2022/08/40-Days-of-Good-News.png
END:VEVENT
BEGIN:VEVENT
DTSTART;TZID=America/Chicago:20221023T100000
DTEND;TZID=America/Chicago:20221023T120000
DTSTAMP:20260425T062038
CREATED:20220825T181136Z
LAST-MODIFIED:20220825T181136Z
UID:2750-1666519200-1666526400@heartwood.church
SUMMARY:Sunday Worship - 40 Days of Good News
DESCRIPTION:The Stories I Need to Know to Tell the Story of Jesus \n\nOur worship is Ancient-Future and Multi-Generational\, so you will experience elements from the past and modern innovations. We’ll hear the joyous noise of children along with mature reverence.\nWe encourage you to participate in whatever way you feel moved.
URL:https://heartwood.church/events/sunday-worship-40-days-of-good-news-2/
LOCATION:Heartwood Church\, 6477 10th St. N.\, Oakdale\, MN\, 55128\, United States
CATEGORIES:Formation,Worship
ATTACH;FMTTYPE=image/png:https://heartwood.church/wp-content/uploads/2022/08/40-Days-of-Good-News.png
END:VEVENT
BEGIN:VEVENT
DTSTART;TZID=America/Chicago:20221016T100000
DTEND;TZID=America/Chicago:20221016T120000
DTSTAMP:20260425T062038
CREATED:20220825T180943Z
LAST-MODIFIED:20220825T181025Z
UID:2747-1665914400-1665921600@heartwood.church
SUMMARY:Sunday Worship - 40 Days of Good News
DESCRIPTION:The Stories I Need to Know to Tell the Story of Jesus \nOur worship is Ancient-Future and Multi-Generational\, so you will experience elements from the past and modern innovations. We’ll hear the joyous noise of children along with mature reverence.\nWe encourage you to participate in whatever way you feel moved.
URL:https://heartwood.church/events/2747/
LOCATION:Heartwood Church\, 6477 10th St. N.\, Oakdale\, MN\, 55128\, United States
CATEGORIES:Formation,Worship
ATTACH;FMTTYPE=image/png:https://heartwood.church/wp-content/uploads/2022/08/40-Days-of-Good-News.png
END:VEVENT
BEGIN:VEVENT
DTSTART;TZID=America/Chicago:20221009T100000
DTEND;TZID=America/Chicago:20221009T120000
DTSTAMP:20260425T062038
CREATED:20220825T180837Z
LAST-MODIFIED:20220825T180837Z
UID:2745-1665309600-1665316800@heartwood.church
SUMMARY:Sunday Worship - 40 Days of Good News
DESCRIPTION:The Stories I Need to Know to Tell the Story of Jesus \n  \nOur worship is Ancient-Future and Multi-Generational\, so you will experience elements from the past and modern innovations. We’ll hear the joyous noise of children along with mature reverence.\nWe encourage you to participate in whatever way you feel moved.
URL:https://heartwood.church/events/sunday-worship-40-days-of-good-news/
LOCATION:Heartwood Church\, 6477 10th St. N.\, Oakdale\, MN\, 55128\, United States
CATEGORIES:Formation,Worship
ATTACH;FMTTYPE=image/png:https://heartwood.church/wp-content/uploads/2022/08/40-Days-of-Good-News.png
END:VEVENT
BEGIN:VEVENT
DTSTART;VALUE=DATE:20221007
DTEND;VALUE=DATE:20221008
DTSTAMP:20260425T062038
CREATED:20211208T163315Z
LAST-MODIFIED:20211208T163315Z
UID:2388-1665100800-1665187199@heartwood.church
SUMMARY:Red Cross Blood Drive and Flu Shot Clinic
DESCRIPTION:
URL:https://heartwood.church/events/red-cross-blood-drive-and-flu-shot-clinic/
LOCATION:Heartwood Church\, 6477 10th St. N.\, Oakdale\, MN\, 55128\, United States
CATEGORIES:Relationship Building,Special Event
ATTACH;FMTTYPE=image/png:https://heartwood.church/wp-content/uploads/2021/02/161501-05_communityofgiving_fb_1200x630p-rw-final1.png
END:VEVENT
BEGIN:VEVENT
DTSTART;TZID=America/Chicago:20221002T100000
DTEND;TZID=America/Chicago:20221002T140000
DTSTAMP:20260425T062038
CREATED:20220804T175743Z
LAST-MODIFIED:20220901T145846Z
UID:2720-1664704800-1664719200@heartwood.church
SUMMARY:Sunday Worship - Messiah in the Fall Festivals
DESCRIPTION:Today\, we are celebrating with Shekinah and learning about Messiah in the Fall Festivals with Trevor Rubenstein from Chosen People Ministries. You won’t want to miss this! \nPotluck Fellowship following this morning’s service. \nOur worship is Ancient-Future and Multi-Generational\, so you will experience elements from the past and modern innovations. We’ll hear the joyous noise of children along with mature reverence.\nWe encourage you to participate in whatever way you feel moved.
URL:https://heartwood.church/events/sunday-worship-combined-services-2/
LOCATION:Heartwood Church\, 6477 10th St. N.\, Oakdale\, MN\, 55128\, United States
CATEGORIES:Formation,Relationship Building,Special Event,Worship
ATTACH;FMTTYPE=image/png:https://heartwood.church/wp-content/uploads/2021/07/messiah_fall.png
END:VEVENT
BEGIN:VEVENT
DTSTART;TZID=America/Chicago:20220925T100000
DTEND;TZID=America/Chicago:20220925T120000
DTSTAMP:20260425T062038
CREATED:20220804T174745Z
LAST-MODIFIED:20220901T145301Z
UID:2718-1664100000-1664107200@heartwood.church
SUMMARY:Sunday Worship - 40 Days of Good News
DESCRIPTION:The Stories I Need to Know to Tell the Story of Jesus \nSpecial Speaker: Rev. Duane Fisher\n“Who Needs the Church?” \n  \nOur worship is Ancient-Future and Multi-Generational\, so you will experience elements from the past and modern innovations. We’ll hear the joyous noise of children along with mature reverence.\nWe encourage you to participate in whatever way you feel moved.
URL:https://heartwood.church/events/sunday-worship-special-speaker/
LOCATION:Heartwood Church\, 6477 10th St. N.\, Oakdale\, MN\, 55128\, United States
CATEGORIES:Formation,Worship
ATTACH;FMTTYPE=image/png:https://heartwood.church/wp-content/uploads/2022/08/40-Days-of-Good-News.png
END:VEVENT
BEGIN:VEVENT
DTSTART;TZID=America/Chicago:20220918T100000
DTEND;TZID=America/Chicago:20220918T120000
DTSTAMP:20260425T062038
CREATED:20220804T174424Z
LAST-MODIFIED:20220825T180501Z
UID:2714-1663495200-1663502400@heartwood.church
SUMMARY:Sunday Worship – 40 Days of Good News
DESCRIPTION:The Stories I Need to Know to Tell the Story of Jesus \n\nOur worship is Ancient-Future and Multi-Generational\, so you will experience elements from the past and modern innovations. We’ll hear the joyous noise of children along with mature reverence.\nWe encourage you to participate in whatever way you feel moved.
URL:https://heartwood.church/events/sunday-worship-fall-formation-evangelism-is-2/
LOCATION:Heartwood Church\, 6477 10th St. N.\, Oakdale\, MN\, 55128\, United States
CATEGORIES:Formation,Worship
ATTACH;FMTTYPE=image/png:https://heartwood.church/wp-content/uploads/2022/08/40-Days-of-Good-News.png
END:VEVENT
BEGIN:VEVENT
DTSTART;TZID=America/Chicago:20220917T110000
DTEND;TZID=America/Chicago:20220917T160000
DTSTAMP:20260425T062038
CREATED:20220804T181535Z
LAST-MODIFIED:20220804T181617Z
UID:2729-1663412400-1663430400@heartwood.church
SUMMARY:FAMILY FUN FLATABLES
DESCRIPTION:Join us at Walton Park for a full day of jumping\, bouncing\, diving\, and exploring a sea of inflatables! Inflatables for all ages\, ranging from bounce castles to obstacle courses\, to 40-foot giant slides will be on hand! Plus\, a kids DJ will perform at the band shell! Concessions available. \nCost\nFree!
URL:https://heartwood.church/events/family-fun-flatables-2/
LOCATION:Richard Walton Park\, 15th Street N and Hadley Avenue N\, Oakdale\, MN\, 55128\, United States
CATEGORIES:Community,Relationship Building
ATTACH;FMTTYPE=image/jpeg:https://heartwood.church/wp-content/uploads/2022/08/flatables.jpg
END:VEVENT
BEGIN:VEVENT
DTSTART;TZID=America/Chicago:20220911T100000
DTEND;TZID=America/Chicago:20220911T120000
DTSTAMP:20260425T062038
CREATED:20220804T174257Z
LAST-MODIFIED:20220825T180326Z
UID:2712-1662890400-1662897600@heartwood.church
SUMMARY:Sunday Worship - 40 Days of Good News
DESCRIPTION:The Stories I Need to Know to Tell the Story of Jesus \n  \nOur worship is Ancient-Future and Multi-Generational\, so you will experience elements from the past and modern innovations. We’ll hear the joyous noise of children along with mature reverence.\nWe encourage you to participate in whatever way you feel moved.
URL:https://heartwood.church/events/sunday-worship-fall-formation-evangelism-is/
LOCATION:Heartwood Church\, 6477 10th St. N.\, Oakdale\, MN\, 55128\, United States
CATEGORIES:Formation,Worship
ATTACH;FMTTYPE=image/png:https://heartwood.church/wp-content/uploads/2022/08/40-Days-of-Good-News.png
END:VEVENT
BEGIN:VEVENT
DTSTART;VALUE=DATE:20220905
DTEND;VALUE=DATE:20220906
DTSTAMP:20260425T062038
CREATED:20220625T171027Z
LAST-MODIFIED:20220625T171027Z
UID:2689-1662336000-1662422399@heartwood.church
SUMMARY:LABOR DAY
DESCRIPTION:
URL:https://heartwood.church/events/labor-day/
END:VEVENT
BEGIN:VEVENT
DTSTART;TZID=America/Chicago:20220904T100000
DTEND;TZID=America/Chicago:20220904T120000
DTSTAMP:20260425T062038
CREATED:20220804T174105Z
LAST-MODIFIED:20220901T144939Z
UID:2710-1662285600-1662292800@heartwood.church
SUMMARY:Sunday Worship - 40 Days of Good News
DESCRIPTION:The Stories I Need to Know to Tell the Story of Jesus \n  \nOur worship is Ancient-Future and Multi-Generational\, so you will experience elements from the past and modern innovations. We’ll hear the joyous noise of children along with mature reverence.\nWe encourage you to participate in whatever way you feel moved.
URL:https://heartwood.church/events/sunday-worship-66/
LOCATION:Heartwood Church\, 6477 10th St. N.\, Oakdale\, MN\, 55128\, United States
CATEGORIES:Formation,Worship
ATTACH;FMTTYPE=image/png:https://heartwood.church/wp-content/uploads/2022/08/40-Days-of-Good-News.png
END:VEVENT
END:VCALENDAR