BEGIN:VCALENDAR
VERSION:2.0
PRODID:-//Heartwood Church - ECPv6.15.10//NONSGML v1.0//EN
CALSCALE:GREGORIAN
METHOD:PUBLISH
X-WR-CALNAME:Heartwood Church
X-ORIGINAL-URL:https://heartwood.church
X-WR-CALDESC:Events for Heartwood Church
REFRESH-INTERVAL;VALUE=DURATION:PT1H
X-Robots-Tag:noindex
X-PUBLISHED-TTL:PT1H
BEGIN:VTIMEZONE
TZID:America/Chicago
BEGIN:DAYLIGHT
TZOFFSETFROM:-0600
TZOFFSETTO:-0500
TZNAME:CDT
DTSTART:20220313T080000
END:DAYLIGHT
BEGIN:STANDARD
TZOFFSETFROM:-0500
TZOFFSETTO:-0600
TZNAME:CST
DTSTART:20221106T070000
END:STANDARD
BEGIN:DAYLIGHT
TZOFFSETFROM:-0600
TZOFFSETTO:-0500
TZNAME:CDT
DTSTART:20230312T080000
END:DAYLIGHT
BEGIN:STANDARD
TZOFFSETFROM:-0500
TZOFFSETTO:-0600
TZNAME:CST
DTSTART:20231105T070000
END:STANDARD
BEGIN:DAYLIGHT
TZOFFSETFROM:-0600
TZOFFSETTO:-0500
TZNAME:CDT
DTSTART:20240310T080000
END:DAYLIGHT
BEGIN:STANDARD
TZOFFSETFROM:-0500
TZOFFSETTO:-0600
TZNAME:CST
DTSTART:20241103T070000
END:STANDARD
BEGIN:DAYLIGHT
TZOFFSETFROM:-0600
TZOFFSETTO:-0500
TZNAME:CDT
DTSTART:20250309T080000
END:DAYLIGHT
BEGIN:STANDARD
TZOFFSETFROM:-0500
TZOFFSETTO:-0600
TZNAME:CST
DTSTART:20251102T070000
END:STANDARD
END:VTIMEZONE
BEGIN:VEVENT
DTSTART;VALUE=DATE:20240512
DTEND;VALUE=DATE:20240513
DTSTAMP:20260425T084147
CREATED:20240407T223813Z
LAST-MODIFIED:20240407T225742Z
UID:3296-1715472000-1715558399@heartwood.church
SUMMARY:MOTHERS DAY
DESCRIPTION: “Strength and dignity are her clothing\, and she laughs at the time to come.\nShe opens her mouth with wisdom\, and the teaching of kindness is on her tongue.”\n(Proverbs 31:25-26) \n 
URL:https://heartwood.church/events/mothers-day-3/
LOCATION:MN
CATEGORIES:Relationship Building,Special Event
ATTACH;FMTTYPE=image/jpeg:https://heartwood.church/wp-content/uploads/2024/04/mothers-day.jpg
END:VEVENT
BEGIN:VEVENT
DTSTART;TZID=America/Chicago:20240505T100000
DTEND;TZID=America/Chicago:20240505T120000
DTSTAMP:20260425T084147
CREATED:20240407T223715Z
LAST-MODIFIED:20240412T013801Z
UID:3294-1714903200-1714910400@heartwood.church
SUMMARY:Sunday Worship - Making God Investments
DESCRIPTION:The world says\, “Use people to grow your resources.”\nGod says\, “Steward My resources to grow people.” \n  \nOur worship is Ancient-Future and Multi-Generational\, so you will experience elements from the past and modern innovations.\nWe’ll hear the joyous noise of children along with mature reverence.\nWe encourage you to participate in whatever way you feel moved.
URL:https://heartwood.church/events/sunday-worship-making-god-investments-4/
LOCATION:Heartwood Church\, 6477 10th St. N.\, Oakdale\, MN\, 55128\, United States
CATEGORIES:Formation,Relationship Building,Worship
ATTACH;FMTTYPE=image/jpeg:https://heartwood.church/wp-content/uploads/2024/04/Making-Good-Investments-Sandbox.jpg
END:VEVENT
BEGIN:VEVENT
DTSTART;TZID=America/Chicago:20240428T100000
DTEND;TZID=America/Chicago:20240428T120000
DTSTAMP:20260425T084147
CREATED:20240407T223619Z
LAST-MODIFIED:20240412T013834Z
UID:3291-1714298400-1714305600@heartwood.church
SUMMARY:Sunday Worship - Making God Investments
DESCRIPTION:The world says\, “Use people to grow your resources.”\nGod says\, “Steward My resources to grow people.” \n  \nOur worship is Ancient-Future and Multi-Generational\, so you will experience elements from the past and modern innovations.\nWe’ll hear the joyous noise of children along with mature reverence.\nWe encourage you to participate in whatever way you feel moved.
URL:https://heartwood.church/events/sunday-worship-making-god-investments-3/
LOCATION:Heartwood Church\, 6477 10th St. N.\, Oakdale\, MN\, 55128\, United States
CATEGORIES:Formation,Relationship Building,Worship
ATTACH;FMTTYPE=image/jpeg:https://heartwood.church/wp-content/uploads/2024/04/Making-Good-Investments-Sandbox.jpg
END:VEVENT
BEGIN:VEVENT
DTSTART;TZID=America/Chicago:20240427T130000
DTEND;TZID=America/Chicago:20240427T140000
DTSTAMP:20260425T084147
CREATED:20240227T010407Z
LAST-MODIFIED:20240321T203247Z
UID:3273-1714222800-1714226400@heartwood.church
SUMMARY:Pam Anderson Celebration of Life
DESCRIPTION:Pamela J. Anderson (nee) Stull went home to be with the Lord on December 17\, 2023. She was preceded in death by her parents\, Lester and Oren Stull and her brother-in-law Doyle Nygaard. She is survived by her husband Richard (Andy)\, their two sons\, Rich and Chris (Sonja)\, and five grandchildren\, Ashlyn\, Leila\, Cam\, A.J.\, and Jaiden. Pam also left behind her three sisters\, Leora Gilbert (David)\, Janet Bauman (Clyde)\, and Sandra Nygaard. She had many nieces and nephews that she also loved. \nPam was born April 14\, 1951\, in Bismarck\, ND. She was the second daughter of a second daughter of a second daughter. She graduated from Bismarck High School in 1969 and promptly left for St. Paul\, MN. She got a job at Whirlpool where she met her future husband\, Andy. She worked at Whirlpool until they shut down the St. Paul plant in 1984. A while later she got her day care license and did that for 30 years. Many\, many children came and went in all those years and Pam loved them all. She even had second generation children in her day care. \nAnyone who knew Pam knew that she loved to take pictures. Usually if Pam was there\, so was her camera. She loved organizing them and sharing them with everyone. \nAfter Pam retired\, she was diagnosed with ovarian cancer. She faced it head on and never wavered from her faith in God. She would go for long walks with her camera and just try to enjoy herself. She went through some trying times\, but always tried to keep a positive attitude. She will be missed by everyone who knew her. \nA celebration of life service will be held on Saturday\, March 23\, 2024\, 3:00 p.m. at Heartwood Church\, 6477 10th St. N.\, Oakdale\, MN 55128. \n 
URL:https://heartwood.church/events/pam-anderson-celebration-of-life/
LOCATION:Heartwood Church\, 6477 10th St. N.\, Oakdale\, MN\, 55128\, United States
CATEGORIES:Memorial Service,Special Event
ATTACH;FMTTYPE=image/jpeg:https://heartwood.church/wp-content/uploads/2024/02/pam_20240221162734.jpg
END:VEVENT
BEGIN:VEVENT
DTSTART;TZID=America/Chicago:20240421T100000
DTEND;TZID=America/Chicago:20240421T120000
DTSTAMP:20260425T084147
CREATED:20240407T223525Z
LAST-MODIFIED:20240412T013904Z
UID:3284-1713693600-1713700800@heartwood.church
SUMMARY:Sunday Worship - Making God Investments
DESCRIPTION:The world says\, “Use people to grow your resources.”\nGod says\, “Steward My resources to grow people.” \n  \nOur worship is Ancient-Future and Multi-Generational\, so you will experience elements from the past and modern innovations.\nWe’ll hear the joyous noise of children along with mature reverence.\nWe encourage you to participate in whatever way you feel moved.
URL:https://heartwood.church/events/sunday-worship-making-god-investments-2/
LOCATION:Heartwood Church\, 6477 10th St. N.\, Oakdale\, MN\, 55128\, United States
CATEGORIES:Formation,Relationship Building,Worship
ATTACH;FMTTYPE=image/jpeg:https://heartwood.church/wp-content/uploads/2024/04/Making-Good-Investments-Sandbox.jpg
END:VEVENT
BEGIN:VEVENT
DTSTART;TZID=America/Chicago:20240414T100000
DTEND;TZID=America/Chicago:20240414T120000
DTSTAMP:20260425T084147
CREATED:20240407T223418Z
LAST-MODIFIED:20240412T013934Z
UID:3288-1713088800-1713096000@heartwood.church
SUMMARY:Sunday Worship - Making God Investments
DESCRIPTION:The world says\, “Use people to grow your resources.”\nGod says\, “Steward My resources to grow people.” \n  \nOur worship is Ancient-Future and Multi-Generational\, so you will experience elements from the past and modern innovations.\nWe’ll hear the joyous noise of children along with mature reverence.\nWe encourage you to participate in whatever way you feel moved.
URL:https://heartwood.church/events/sunday-worship-making-god-investments/
LOCATION:Heartwood Church\, 6477 10th St. N.\, Oakdale\, MN\, 55128\, United States
CATEGORIES:Formation,Relationship Building,Worship
ATTACH;FMTTYPE=image/jpeg:https://heartwood.church/wp-content/uploads/2024/04/Making-Good-Investments-Sandbox.jpg
END:VEVENT
BEGIN:VEVENT
DTSTART;TZID=America/Chicago:20240407T100000
DTEND;TZID=America/Chicago:20240407T120000
DTSTAMP:20260425T084147
CREATED:20240407T223116Z
LAST-MODIFIED:20240407T223116Z
UID:3283-1712484000-1712491200@heartwood.church
SUMMARY:Sunday Worship - Living Hope
DESCRIPTION:Our worship is Ancient-Future and Multi-Generational\, so you will experience elements from the past and modern innovations.\nWe’ll hear the joyous noise of children along with mature reverence.\nWe encourage you to participate in whatever way you feel moved.
URL:https://heartwood.church/events/sunday-worship-living-hope/
LOCATION:Heartwood Church\, 6477 10th St. N.\, Oakdale\, MN\, 55128\, United States
CATEGORIES:Formation,Relationship Building,Worship
ATTACH;FMTTYPE=image/jpeg:https://heartwood.church/wp-content/uploads/2024/04/Living-Hope.jpg
END:VEVENT
BEGIN:VEVENT
DTSTART;TZID=America/Chicago:20240331T100000
DTEND;TZID=America/Chicago:20240331T120000
DTSTAMP:20260425T084147
CREATED:20240216T195715Z
LAST-MODIFIED:20240220T174703Z
UID:3244-1711879200-1711886400@heartwood.church
SUMMARY:Easter Sunday Worship - Why Are You Crying?
DESCRIPTION:Sin and death brought grief into the world. Jesus brings hope and life. \n\n\n\n\n\n\n\n\n\n\nOur worship is Ancient-Future and Multi-Generational\, so you will experience elements from the past and modern innovations.\nWe’ll hear the joyous noise of children along with mature reverence.\nWe encourage you to participate in whatever way you feel moved.
URL:https://heartwood.church/events/sunday-worship-why-are-you-crying-4/
LOCATION:Heartwood Church\, 6477 10th St. N.\, Oakdale\, MN\, 55128\, United States
CATEGORIES:Formation,Relationship Building,Special Event,Worship
ATTACH;FMTTYPE=image/jpeg:https://heartwood.church/wp-content/uploads/2024/02/Why-are-you-crying.jpg
END:VEVENT
BEGIN:VEVENT
DTSTART;TZID=America/Chicago:20240330T090000
DTEND;TZID=America/Chicago:20240330T120000
DTSTAMP:20260425T084147
CREATED:20240205T194530Z
LAST-MODIFIED:20240216T195125Z
UID:3208-1711789200-1711800000@heartwood.church
SUMMARY:Mystery Egg Hunt
DESCRIPTION:Join us for the City of Oakdale’s Easter Egg Hunt!\nWe will meet for lunch at Heartwood Church afterwards.
URL:https://heartwood.church/events/2024-easter-egg-hunt/
LOCATION:Oakdale Discovery Center\, 4444 Hadley Avenue North\, Oakdale\, MN\, 55128\, United States
CATEGORIES:Community,Relationship Building,Special Event
ATTACH;FMTTYPE=image/png:https://heartwood.church/wp-content/uploads/2024/02/Mystery-Egg-Hunt-e1707162159900.png
END:VEVENT
BEGIN:VEVENT
DTSTART;TZID=America/Chicago:20240329T190000
DTEND;TZID=America/Chicago:20240329T200000
DTSTAMP:20260425T084147
CREATED:20240220T174221Z
LAST-MODIFIED:20240220T175505Z
UID:3265-1711738800-1711742400@heartwood.church
SUMMARY:Good Friday Service
DESCRIPTION:
URL:https://heartwood.church/events/good-friday-service-2/
LOCATION:MN
CATEGORIES:Formation,Special Event,Worship
END:VEVENT
BEGIN:VEVENT
DTSTART;TZID=America/Chicago:20240329T110000
DTEND;TZID=America/Chicago:20240329T170000
DTSTAMP:20260425T084147
CREATED:20240205T193521Z
LAST-MODIFIED:20240216T195241Z
UID:3202-1711710000-1711731600@heartwood.church
SUMMARY:Good Friday Blood Drive
DESCRIPTION:Click here to register!
URL:https://heartwood.church/events/2024-good-friday-blood-drive/
LOCATION:Heartwood Church\, 6477 10th St. N.\, Oakdale\, MN\, 55128\, United States
CATEGORIES:Community
ATTACH;FMTTYPE=image/png:https://heartwood.church/wp-content/uploads/2024/02/Red-Cross-Blood-Drive.png
END:VEVENT
BEGIN:VEVENT
DTSTART;TZID=America/Chicago:20240324T100000
DTEND;TZID=America/Chicago:20240324T120000
DTSTAMP:20260425T084147
CREATED:20240216T200436Z
LAST-MODIFIED:20240220T175222Z
UID:3252-1711274400-1711281600@heartwood.church
SUMMARY:Palm Sunday Worship - Why Are You Crying?
DESCRIPTION:Sin and death brought grief into the world. Jesus brings hope and life. \n\n\n\n\n\n\n\n\n\n\nOur worship is Ancient-Future and Multi-Generational\, so you will experience elements from the past and modern innovations.\nWe’ll hear the joyous noise of children along with mature reverence.\nWe encourage you to participate in whatever way you feel moved.
URL:https://heartwood.church/events/sunday-worship-why-are-you-crying-7/
LOCATION:Heartwood Church\, 6477 10th St. N.\, Oakdale\, MN\, 55128\, United States
CATEGORIES:Formation,Relationship Building,Worship
ATTACH;FMTTYPE=image/jpeg:https://heartwood.church/wp-content/uploads/2024/02/Why-are-you-crying.jpg
END:VEVENT
BEGIN:VEVENT
DTSTART;TZID=America/Chicago:20240317T100000
DTEND;TZID=America/Chicago:20240317T120000
DTSTAMP:20260425T084147
CREATED:20240216T200306Z
LAST-MODIFIED:20240216T200306Z
UID:3250-1710669600-1710676800@heartwood.church
SUMMARY:Sunday Worship - Why Are You Crying?
DESCRIPTION:Sin and death brought grief into the world. Jesus brings hope and life. \n\n\n\n\n\n\n\n\n\n\nOur worship is Ancient-Future and Multi-Generational\, so you will experience elements from the past and modern innovations.\nWe’ll hear the joyous noise of children along with mature reverence.\nWe encourage you to participate in whatever way you feel moved.
URL:https://heartwood.church/events/sunday-worship-why-are-you-crying-6/
LOCATION:Heartwood Church\, 6477 10th St. N.\, Oakdale\, MN\, 55128\, United States
CATEGORIES:Formation,Relationship Building,Worship
ATTACH;FMTTYPE=image/jpeg:https://heartwood.church/wp-content/uploads/2024/02/Why-are-you-crying.jpg
END:VEVENT
BEGIN:VEVENT
DTSTART;TZID=America/Chicago:20240310T100000
DTEND;TZID=America/Chicago:20240310T120000
DTSTAMP:20260425T084147
CREATED:20240216T195950Z
LAST-MODIFIED:20240216T195950Z
UID:3247-1710064800-1710072000@heartwood.church
SUMMARY:Sunday Worship - Why Are You Crying?
DESCRIPTION:Sin and death brought grief into the world. Jesus brings hope and life. \n\n\n\n\n\n\n\n\n\n\nOur worship is Ancient-Future and Multi-Generational\, so you will experience elements from the past and modern innovations.\nWe’ll hear the joyous noise of children along with mature reverence.\nWe encourage you to participate in whatever way you feel moved.
URL:https://heartwood.church/events/sunday-worship-why-are-you-crying-5/
LOCATION:Heartwood Church\, 6477 10th St. N.\, Oakdale\, MN\, 55128\, United States
CATEGORIES:Formation,Relationship Building,Worship
ATTACH;FMTTYPE=image/jpeg:https://heartwood.church/wp-content/uploads/2024/02/Why-are-you-crying.jpg
END:VEVENT
BEGIN:VEVENT
DTSTART;VALUE=DATE:20240309
DTEND;VALUE=DATE:20240310
DTSTAMP:20260425T084147
CREATED:20240216T192854Z
LAST-MODIFIED:20240216T192955Z
UID:3232-1709942400-1710028799@heartwood.church
SUMMARY:SPRING FORWARD!
DESCRIPTION:DAYLIGHT SAVING TIME BEGINS MARCH 10!\nMake sure to turn your clocks forward one hour before you go to bed tonight\,\nthen join us for services beginning at 10 AM on Sunday\, March 10.
URL:https://heartwood.church/events/spring-forward/
LOCATION:MN
ATTACH;FMTTYPE=image/jpeg:https://heartwood.church/wp-content/uploads/2023/02/Spring-Forward.jpg
END:VEVENT
BEGIN:VEVENT
DTSTART;TZID=America/Chicago:20240303T100000
DTEND;TZID=America/Chicago:20240303T120000
DTSTAMP:20260425T084147
CREATED:20240216T195435Z
LAST-MODIFIED:20240216T200138Z
UID:3242-1709460000-1709467200@heartwood.church
SUMMARY:Sunday Worship - Why Are You Crying?
DESCRIPTION:Sin and death brought grief into the world. Jesus brings hope and life. \n\n\n\n\n\n\n\n\n\n\nOur worship is Ancient-Future and Multi-Generational\, so you will experience elements from the past and modern innovations. We’ll hear the joyous noise of children along with mature reverence.\nWe encourage you to participate in whatever way you feel moved.
URL:https://heartwood.church/events/sunday-worship-why-are-you-crying-3/
LOCATION:Heartwood Church\, 6477 10th St. N.\, Oakdale\, MN\, 55128\, United States
CATEGORIES:Formation,Relationship Building,Worship
ATTACH;FMTTYPE=image/jpeg:https://heartwood.church/wp-content/uploads/2024/02/Why-are-you-crying.jpg
END:VEVENT
BEGIN:VEVENT
DTSTART;TZID=America/Chicago:20240225T100000
DTEND;TZID=America/Chicago:20240225T120000
DTSTAMP:20260425T084147
CREATED:20240216T194113Z
LAST-MODIFIED:20240216T194113Z
UID:3235-1708855200-1708862400@heartwood.church
SUMMARY:Sunday Worship - Why Are You Crying?
DESCRIPTION:Sin and death brought grief into the world. Jesus brings hope and life. \n\n\n\n\n\n\n\n\n\n\nOur worship is Ancient-Future and Multi-Generational\, so you will experience elements from the past and modern innovations.\nWe’ll hear the joyous noise of children along with mature reverence.\nWe encourage you to participate in whatever way you feel moved.
URL:https://heartwood.church/events/sunday-worship-why-are-you-crying-2/
LOCATION:Heartwood Church\, 6477 10th St. N.\, Oakdale\, MN\, 55128\, United States
CATEGORIES:Formation,Relationship Building,Worship
ATTACH;FMTTYPE=image/jpeg:https://heartwood.church/wp-content/uploads/2024/02/Why-are-you-crying.jpg
END:VEVENT
BEGIN:VEVENT
DTSTART;TZID=America/Chicago:20240218T100000
DTEND;TZID=America/Chicago:20240218T120000
DTSTAMP:20260425T084147
CREATED:20240216T192013Z
LAST-MODIFIED:20240216T192013Z
UID:3226-1708250400-1708257600@heartwood.church
SUMMARY:Sunday Worship – Why Are You Crying?
DESCRIPTION:Sin and death brought grief into the world. Jesus brings hope and life. \n\n\n\n\n\n\n\n\n\n\nOur worship is Ancient-Future and Multi-Generational\, so you will experience elements from the past and modern innovations. We’ll hear the joyous noise of children along with mature reverence.\nWe encourage you to participate in whatever way you feel moved.
URL:https://heartwood.church/events/sunday-worship-why-are-you-crying/
LOCATION:Heartwood Church\, 6477 10th St. N.\, Oakdale\, MN\, 55128\, United States
CATEGORIES:Formation,Relationship Building,Worship
ATTACH;FMTTYPE=image/jpeg:https://heartwood.church/wp-content/uploads/2024/02/Why-are-you-crying.jpg
END:VEVENT
BEGIN:VEVENT
DTSTART;TZID=America/Chicago:20240214T183000
DTEND;TZID=America/Chicago:20240214T193000
DTSTAMP:20260425T084147
CREATED:20240205T193750Z
LAST-MODIFIED:20240216T192624Z
UID:3205-1707935400-1707939000@heartwood.church
SUMMARY:Ash Wednesday Service
DESCRIPTION:
URL:https://heartwood.church/events/2024-ash-wednesday-service/
LOCATION:Heartwood Church\, 6477 10th St. N.\, Oakdale\, MN\, 55128\, United States
CATEGORIES:Formation,Special Event,Worship
ATTACH;FMTTYPE=image/png:https://heartwood.church/wp-content/uploads/2024/02/Ash-Wednesday-2024.png
END:VEVENT
BEGIN:VEVENT
DTSTART;TZID=America/Chicago:20240211T170000
DTEND;TZID=America/Chicago:20240211T210000
DTSTAMP:20260425T084147
CREATED:20240205T192107Z
LAST-MODIFIED:20240216T201040Z
UID:3196-1707670800-1707685200@heartwood.church
SUMMARY:Super Bowl Party
DESCRIPTION:
URL:https://heartwood.church/events/2024-super-bowl-party/
LOCATION:MN
CATEGORIES:Relationship Building,Special Event
ATTACH;FMTTYPE=image/png:https://heartwood.church/wp-content/uploads/2024/02/Dark-Blue-Orange-Simple-Football-Invitation.png
END:VEVENT
BEGIN:VEVENT
DTSTART;TZID=America/Chicago:20240211T100000
DTEND;TZID=America/Chicago:20240211T120000
DTSTAMP:20260425T084147
CREATED:20240205T192745Z
LAST-MODIFIED:20240216T192444Z
UID:3200-1707645600-1707652800@heartwood.church
SUMMARY:Sunday Worship: Understanding Purim
DESCRIPTION:Trevor Rubenstein from Chosen People Ministries will share about Purim in our 10 AM Worship Service. \n  \nOur worship is Ancient-Future and Multi-Generational\, so you will experience elements from the past and modern innovations.\nWe’ll hear the joyous noise of children along with mature reverence.\nWe encourage you to participate in whatever way you feel moved.
URL:https://heartwood.church/events/guest-speaker-trevor-rubenstein/
LOCATION:Heartwood Church\, 6477 10th St. N.\, Oakdale\, MN\, 55128\, United States
CATEGORIES:Community,Formation,Relationship Building,Special Event,Worship
ATTACH;FMTTYPE=image/jpeg:https://heartwood.church/wp-content/uploads/2022/08/chosen-people-min-logo.jpg
END:VEVENT
BEGIN:VEVENT
DTSTART;TZID=America/Chicago:20240204T100000
DTEND;TZID=America/Chicago:20240204T120000
DTSTAMP:20260425T084147
CREATED:20240216T200854Z
LAST-MODIFIED:20240216T200854Z
UID:3257-1707040800-1707048000@heartwood.church
SUMMARY:Sunday Worship - Hospitality
DESCRIPTION:We best show our love for God by how we love other people. \n\n\n\n\n\n\n\n\n\n\nOur worship is Ancient-Future and Multi-Generational\, so you will experience elements from the past and modern innovations.\nWe’ll hear the joyous noise of children along with mature reverence.\nWe encourage you to participate in whatever way you feel moved.
URL:https://heartwood.church/events/sunday-worship-hospitality-2/
LOCATION:Heartwood Church\, 6477 10th St. N.\, Oakdale\, MN\, 55128\, United States
CATEGORIES:Formation,Relationship Building,Worship
ATTACH;FMTTYPE=image/jpeg:https://heartwood.church/wp-content/uploads/2024/02/Hospitality.jpg
END:VEVENT
BEGIN:VEVENT
DTSTART;TZID=America/Chicago:20240128T100000
DTEND;TZID=America/Chicago:20240128T120000
DTSTAMP:20260425T084147
CREATED:20240216T201258Z
LAST-MODIFIED:20240216T201258Z
UID:3261-1706436000-1706443200@heartwood.church
SUMMARY:Sunday Worship - Hospitality
DESCRIPTION:We best show our love for God by how we love other people. \n\n\n\n\n\n\n\n\n\n\nOur worship is Ancient-Future and Multi-Generational\, so you will experience elements from the past and modern innovations. We’ll hear the joyous noise of children along with mature reverence.\nWe encourage you to participate in whatever way you feel moved.
URL:https://heartwood.church/events/sunday-worship-hospitality-4/
LOCATION:Heartwood Church\, 6477 10th St. N.\, Oakdale\, MN\, 55128\, United States
CATEGORIES:Formation,Relationship Building,Worship
ATTACH;FMTTYPE=image/jpeg:https://heartwood.church/wp-content/uploads/2024/02/Hospitality.jpg
END:VEVENT
BEGIN:VEVENT
DTSTART;TZID=America/Chicago:20240121T100000
DTEND;TZID=America/Chicago:20240121T120000
DTSTAMP:20260425T084147
CREATED:20240216T201204Z
LAST-MODIFIED:20240216T201204Z
UID:3259-1705831200-1705838400@heartwood.church
SUMMARY:Sunday Worship - Hospitality
DESCRIPTION:We best show our love for God by how we love other people. \n\n\n\n\n\n\n\n\n\n\nOur worship is Ancient-Future and Multi-Generational\, so you will experience elements from the past and modern innovations. We’ll hear the joyous noise of children along with mature reverence.\nWe encourage you to participate in whatever way you feel moved.
URL:https://heartwood.church/events/sunday-worship-hospitality-3/
LOCATION:Heartwood Church\, 6477 10th St. N.\, Oakdale\, MN\, 55128\, United States
CATEGORIES:Formation,Relationship Building,Worship
ATTACH;FMTTYPE=image/jpeg:https://heartwood.church/wp-content/uploads/2024/02/Hospitality.jpg
END:VEVENT
BEGIN:VEVENT
DTSTART;TZID=America/Chicago:20240114T100000
DTEND;TZID=America/Chicago:20240114T120000
DTSTAMP:20260425T084147
CREATED:20240216T200706Z
LAST-MODIFIED:20240216T200706Z
UID:3254-1705226400-1705233600@heartwood.church
SUMMARY:Sunday Worship - Hospitality
DESCRIPTION:We best show our love for God by how we love other people. \n\n\n\n\n\n\n\n\n\n\nOur worship is Ancient-Future and Multi-Generational\, so you will experience elements from the past and modern innovations. We’ll hear the joyous noise of children along with mature reverence.\nWe encourage you to participate in whatever way you feel moved.
URL:https://heartwood.church/events/sunday-worship-hospitality/
LOCATION:Heartwood Church\, 6477 10th St. N.\, Oakdale\, MN\, 55128\, United States
CATEGORIES:Formation,Relationship Building,Worship
ATTACH;FMTTYPE=image/jpeg:https://heartwood.church/wp-content/uploads/2024/02/Hospitality.jpg
END:VEVENT
BEGIN:VEVENT
DTSTART;TZID=America/Chicago:20231231T100000
DTEND;TZID=America/Chicago:20231231T120000
DTSTAMP:20260425T084147
CREATED:20231128T164216Z
LAST-MODIFIED:20231128T164216Z
UID:3191-1704016800-1704024000@heartwood.church
SUMMARY:Sunday Worship - What Do You Call Him?
DESCRIPTION:People call Santa by different names around the world. Jesus has many names\, each reflecting God’s relationship to us.\nWhat do you call Him?\n\n\n\nOur worship is Ancient-Future and Multi-Generational\, so you will experience elements from the past and modern innovations. We’ll hear the joyous noise of children along with mature reverence.\nWe encourage you to participate in whatever way you feel moved.
URL:https://heartwood.church/events/sunday-worship-what-do-you-call-him-5/
LOCATION:Heartwood Church\, 6477 10th St. N.\, Oakdale\, MN\, 55128\, United States
CATEGORIES:Formation,Relationship Building,Worship
ATTACH;FMTTYPE=image/jpeg:https://heartwood.church/wp-content/uploads/2023/11/Advent-2023-What-Do-You-Call-Him.jpg
END:VEVENT
BEGIN:VEVENT
DTSTART;VALUE=DATE:20231228
DTEND;VALUE=DATE:20231231
DTSTAMP:20260425T084147
CREATED:20230919T003734Z
LAST-MODIFIED:20230919T003937Z
UID:3170-1703721600-1703980799@heartwood.church
SUMMARY:FOLLOW 2023: International Wesleyan Youth Convention
DESCRIPTION:Before Jesus ascended into heaven\, He gave his disciples and us some of His last words. Embedded in Acts 1:8 is a plan\, our purpose and the promise of God’s presence.\nFor almost 60 years the International Wesleyan Youth Convention has gathered thousands of students and their leaders for a time of worship\, equipping\, connection and fun. This year we will be back in Cincinnati\, OH and our theme is EMPOWERED\, drawn from some of Jesus’ last words to His disciples. We will have time to focus on each students unique calling with the desire to send them back to their communities to make and multiply disciples in their context. This year we will also have a young adult track for those ages 18-30 as well as a leader track for those who bring their students\, serve as a lay leaders or hold positions their local church\, district and/or university. Gather your team and make your way to Cincinnati to join us. \n  \nREGISTER
URL:https://heartwood.church/events/follow-2023-international-wesleyan-youth-convention/
LOCATION:The Wesleyan Church\, IN\, United States
ATTACH;FMTTYPE=image/jpeg:https://heartwood.church/wp-content/uploads/2023/09/Follow.jpg
END:VEVENT
BEGIN:VEVENT
DTSTART;TZID=America/Chicago:20231224T100000
DTEND;TZID=America/Chicago:20231224T120000
DTSTAMP:20260425T084147
CREATED:20231128T164053Z
LAST-MODIFIED:20231128T164053Z
UID:3188-1703412000-1703419200@heartwood.church
SUMMARY:Sunday Worship - What Do You Call Him?
DESCRIPTION:People call Santa by different names around the world. Jesus has many names\, each reflecting God’s relationship to us.\nWhat do you call Him?\n\n\n\nOur worship is Ancient-Future and Multi-Generational\, so you will experience elements from the past and modern innovations. We’ll hear the joyous noise of children along with mature reverence.\nWe encourage you to participate in whatever way you feel moved.
URL:https://heartwood.church/events/sunday-worship-what-do-you-call-him-4/
LOCATION:Heartwood Church\, 6477 10th St. N.\, Oakdale\, MN\, 55128\, United States
CATEGORIES:Formation,Relationship Building,Worship
ATTACH;FMTTYPE=image/jpeg:https://heartwood.church/wp-content/uploads/2023/11/Advent-2023-What-Do-You-Call-Him.jpg
END:VEVENT
BEGIN:VEVENT
DTSTART;TZID=America/Chicago:20231217T100000
DTEND;TZID=America/Chicago:20231217T120000
DTSTAMP:20260425T084147
CREATED:20231128T163954Z
LAST-MODIFIED:20231128T163954Z
UID:3186-1702807200-1702814400@heartwood.church
SUMMARY:Sunday Worship - What Do You Call Him?
DESCRIPTION:People call Santa by different names around the world. Jesus has many names\, each reflecting God’s relationship to us.\nWhat do you call Him?\n\n\n\nOur worship is Ancient-Future and Multi-Generational\, so you will experience elements from the past and modern innovations. We’ll hear the joyous noise of children along with mature reverence.\nWe encourage you to participate in whatever way you feel moved.
URL:https://heartwood.church/events/sunday-worship-what-do-you-call-him-3/
LOCATION:Heartwood Church\, 6477 10th St. N.\, Oakdale\, MN\, 55128\, United States
CATEGORIES:Formation,Relationship Building,Worship
ATTACH;FMTTYPE=image/jpeg:https://heartwood.church/wp-content/uploads/2023/11/Advent-2023-What-Do-You-Call-Him.jpg
END:VEVENT
BEGIN:VEVENT
DTSTART;TZID=America/Chicago:20231210T100000
DTEND;TZID=America/Chicago:20231210T120000
DTSTAMP:20260425T084147
CREATED:20231128T163849Z
LAST-MODIFIED:20231128T163849Z
UID:3185-1702202400-1702209600@heartwood.church
SUMMARY:Sunday Worship - What Do You Call Him?
DESCRIPTION:People call Santa by different names around the world. Jesus has many names\, each reflecting God’s relationship to us.\nWhat do you call Him?\n\n\n\nOur worship is Ancient-Future and Multi-Generational\, so you will experience elements from the past and modern innovations. We’ll hear the joyous noise of children along with mature reverence.\nWe encourage you to participate in whatever way you feel moved.
URL:https://heartwood.church/events/sunday-worship-what-do-you-call-him-2/
LOCATION:Heartwood Church\, 6477 10th St. N.\, Oakdale\, MN\, 55128\, United States
CATEGORIES:Formation,Relationship Building,Worship
ATTACH;FMTTYPE=image/jpeg:https://heartwood.church/wp-content/uploads/2023/11/Advent-2023-What-Do-You-Call-Him.jpg
END:VEVENT
END:VCALENDAR