BEGIN:VCALENDAR
VERSION:2.0
PRODID:-//Heartwood Church - ECPv6.15.10//NONSGML v1.0//EN
CALSCALE:GREGORIAN
METHOD:PUBLISH
X-WR-CALNAME:Heartwood Church
X-ORIGINAL-URL:https://heartwood.church
X-WR-CALDESC:Events for Heartwood Church
REFRESH-INTERVAL;VALUE=DURATION:PT1H
X-Robots-Tag:noindex
X-PUBLISHED-TTL:PT1H
BEGIN:VTIMEZONE
TZID:America/Chicago
BEGIN:DAYLIGHT
TZOFFSETFROM:-0600
TZOFFSETTO:-0500
TZNAME:CDT
DTSTART:20230312T080000
END:DAYLIGHT
BEGIN:STANDARD
TZOFFSETFROM:-0500
TZOFFSETTO:-0600
TZNAME:CST
DTSTART:20231105T070000
END:STANDARD
BEGIN:DAYLIGHT
TZOFFSETFROM:-0600
TZOFFSETTO:-0500
TZNAME:CDT
DTSTART:20240310T080000
END:DAYLIGHT
BEGIN:STANDARD
TZOFFSETFROM:-0500
TZOFFSETTO:-0600
TZNAME:CST
DTSTART:20241103T070000
END:STANDARD
BEGIN:DAYLIGHT
TZOFFSETFROM:-0600
TZOFFSETTO:-0500
TZNAME:CDT
DTSTART:20250309T080000
END:DAYLIGHT
BEGIN:STANDARD
TZOFFSETFROM:-0500
TZOFFSETTO:-0600
TZNAME:CST
DTSTART:20251102T070000
END:STANDARD
BEGIN:DAYLIGHT
TZOFFSETFROM:-0600
TZOFFSETTO:-0500
TZNAME:CDT
DTSTART:20260308T080000
END:DAYLIGHT
BEGIN:STANDARD
TZOFFSETFROM:-0500
TZOFFSETTO:-0600
TZNAME:CST
DTSTART:20261101T070000
END:STANDARD
END:VTIMEZONE
BEGIN:VEVENT
DTSTART;TZID=America/Chicago:20250418T100000
DTEND;TZID=America/Chicago:20250418T160000
DTSTAMP:20260424T031501
CREATED:20250301T171045Z
LAST-MODIFIED:20250301T171045Z
UID:3580-1744970400-1744992000@heartwood.church
SUMMARY:Spring 2025 Red Cross Blood Drive
DESCRIPTION:Give Hope This Spring. Give Blood.\nJoin us in saving lives this Good Friday by donating blood. Donors who give between 4/14 to 4/30 receive a Red Cross T-shirt (quantity limited) and a chance to win a $5\,000 prize. Go to https://www.redcrossblood.org/local-homepage/events/gift-card-or-t-shirt-for-giving-blood.html for more details. Sign up to donate at the link below or go to redcrossblood.org and enter sponsor code “heartwood”
URL:https://heartwood.church/events/spring-2025-red-cross-blood-drive/
LOCATION:Heartwood Church\, 6477 10th St. N.\, Oakdale\, MN\, 55128\, United States
CATEGORIES:Blood Drive,Community
ATTACH;FMTTYPE=image/jpeg:https://heartwood.church/wp-content/uploads/2025/03/Spring-banner.jpg
END:VEVENT
BEGIN:VEVENT
DTSTART;TZID=America/Chicago:20250413T100000
DTEND;TZID=America/Chicago:20250413T120000
DTSTAMP:20260424T031501
CREATED:20250227T031613Z
LAST-MODIFIED:20250410T144046Z
UID:3569-1744538400-1744545600@heartwood.church
SUMMARY:Sunday Worship - "The Stones Cry Out"
DESCRIPTION:All of creation proclaims Jesus the Living Lord and King. \nOur worship is Ancient-Future and Multi-Generational\, so you will experience elements from the past and modern innovations. We’ll hear the joyous noise of children along with mature reverence.\nWe encourage you to participate in whatever way you feel moved.
URL:https://heartwood.church/events/sunday-worship-the-stones-cry-out-3/
LOCATION:Heartwood Church\, 6477 10th St. N.\, Oakdale\, MN\, 55128\, United States
CATEGORIES:Formation,Relationship Building,Special Event,Worship
ATTACH;FMTTYPE=image/jpeg:https://heartwood.church/wp-content/uploads/2025/02/The-stones-cry-out.jpg
END:VEVENT
BEGIN:VEVENT
DTSTART;VALUE=DATE:20250413
DTEND;VALUE=DATE:20250414
DTSTAMP:20260424T031501
CREATED:20250227T031118Z
LAST-MODIFIED:20250227T031118Z
UID:3566-1744502400-1744588799@heartwood.church
SUMMARY:PALM SUNDAY
DESCRIPTION:
URL:https://heartwood.church/events/palm-sunday-3/
LOCATION:MN
CATEGORIES:Special Event
ATTACH;FMTTYPE=image/jpeg:https://heartwood.church/wp-content/uploads/2019/04/30881-palmbranches-palms-palmsunday.1200w.tn_.jpg
END:VEVENT
BEGIN:VEVENT
DTSTART;TZID=America/Chicago:20250406T100000
DTEND;TZID=America/Chicago:20250406T120000
DTSTAMP:20260424T031501
CREATED:20250227T025656Z
LAST-MODIFIED:20250227T025656Z
UID:3557-1743933600-1743940800@heartwood.church
SUMMARY:Sunday Worship - "Confession"
DESCRIPTION:During this season of Lent\, we practice a spiritual discipline together and experience the power of the truth spoken. \n  \nOur worship is Ancient-Future and Multi-Generational\, so you will experience elements from the past and modern innovations. We’ll hear the joyous noise of children along with mature reverence.\nWe encourage you to participate in whatever way you feel moved.
URL:https://heartwood.church/events/sunday-worship-confession-4/
LOCATION:Heartwood Church\, 6477 10th St. N.\, Oakdale\, MN\, 55128\, United States
CATEGORIES:Formation,Relationship Building,Worship
ATTACH;FMTTYPE=image/jpeg:https://heartwood.church/wp-content/uploads/2025/02/Confession-1.jpg
END:VEVENT
BEGIN:VEVENT
DTSTART;TZID=America/Chicago:20250330T100000
DTEND;TZID=America/Chicago:20250330T120000
DTSTAMP:20260424T031501
CREATED:20250227T023733Z
LAST-MODIFIED:20250227T023913Z
UID:3543-1743328800-1743336000@heartwood.church
SUMMARY:Sunday Worship - "Confession"
DESCRIPTION:During this season of Lent\, we practice a spiritual discipline together and experience the power of the truth spoken. \nOur worship is Ancient-Future and Multi-Generational\, so you will experience elements from the past and modern innovations. We’ll hear the joyous noise of children along with mature reverence.\nWe encourage you to participate in whatever way you feel moved. \n 
URL:https://heartwood.church/events/3543/
LOCATION:Heartwood Church\, 6477 10th St. N.\, Oakdale\, MN\, 55128\, United States
CATEGORIES:Formation,Relationship Building,Worship
ATTACH;FMTTYPE=image/jpeg:https://heartwood.church/wp-content/uploads/2025/02/Confession-1.jpg
END:VEVENT
BEGIN:VEVENT
DTSTART;TZID=America/Chicago:20250323T100000
DTEND;TZID=America/Chicago:20250323T120000
DTSTAMP:20260424T031501
CREATED:20250227T024639Z
LAST-MODIFIED:20250227T024639Z
UID:3553-1742724000-1742731200@heartwood.church
SUMMARY:Sunday Worship - "Confession"
DESCRIPTION:During this season of Lent\, we practice a spiritual discipline together and experience the power of the truth spoken. \n  \nOur worship is Ancient-Future and Multi-Generational\, so you will experience elements from the past and modern innovations. We’ll hear the joyous noise of children along with mature reverence.\nWe encourage you to participate in whatever way you feel moved.
URL:https://heartwood.church/events/sunday-worship-confession-3/
LOCATION:Heartwood Church\, 6477 10th St. N.\, Oakdale\, MN\, 55128\, United States
CATEGORIES:Formation,Relationship Building,Worship
ATTACH;FMTTYPE=image/jpeg:https://heartwood.church/wp-content/uploads/2025/02/Confession-1.jpg
END:VEVENT
BEGIN:VEVENT
DTSTART;TZID=America/Chicago:20250321T113000
DTEND;TZID=America/Chicago:20250321T123000
DTSTAMP:20260424T031501
CREATED:20250220T174822Z
LAST-MODIFIED:20250220T175027Z
UID:3498-1742556600-1742560200@heartwood.church
SUMMARY:Lunch and Learn - Scam Awareness and Prevention
DESCRIPTION:William Fetsch\, Community Affairs Specialist of the Oakdale Police Department\, will help you gain insights into the common scams targeting retirees and learn practical tips for identifying and avoiding fraudulent schemes. This will also cover best practices for protecting your personal information both online and offline. A light lunch will be served. Registration is encouraged to help ensure adequate food and seating. \nPlease enable JavaScript in your browser to complete this form.Choose an EventPlanting for Pollinators		\n			Name please events\n			\n		\n		Name *FirstLastIf you would like to be contacted about future Lunch and Learn events please enter your email address.Submit
URL:https://heartwood.church/events/lunch-and-learn-scam-awareness-and-prevention/
LOCATION:Heartwood Church\, 6477 10th St. N.\, Oakdale\, MN\, 55128\, United States
CATEGORIES:Community,Community Education
ATTACH;FMTTYPE=image/png:https://heartwood.church/wp-content/uploads/2025/02/Screenshot-2025-02-20-111445.png
END:VEVENT
BEGIN:VEVENT
DTSTART;TZID=America/Chicago:20250316T100000
DTEND;TZID=America/Chicago:20250316T120000
DTSTAMP:20260424T031501
CREATED:20250227T023321Z
LAST-MODIFIED:20250227T023321Z
UID:3548-1742119200-1742126400@heartwood.church
SUMMARY:Sunday Worship - "Confession"
DESCRIPTION:During this season of Lent\, we practice a spiritual discipline together and experience the power of the truth spoken. \n  \nOur worship is Ancient-Future and Multi-Generational\, so you will experience elements from the past and modern innovations. We’ll hear the joyous noise of children along with mature reverence.\nWe encourage you to participate in whatever way you feel moved.
URL:https://heartwood.church/events/sunday-worship-confession-2/
LOCATION:Heartwood Church\, 6477 10th St. N.\, Oakdale\, MN\, 55128\, United States
CATEGORIES:Formation,Relationship Building,Worship
ATTACH;FMTTYPE=image/jpeg:https://heartwood.church/wp-content/uploads/2025/02/Confession-1.jpg
END:VEVENT
BEGIN:VEVENT
DTSTART;TZID=America/Chicago:20250309T100000
DTEND;TZID=America/Chicago:20250309T120000
DTSTAMP:20260424T031501
CREATED:20250220T210124Z
LAST-MODIFIED:20250227T032854Z
UID:3507-1741514400-1741521600@heartwood.church
SUMMARY:Sunday Worship - "Confession"
DESCRIPTION:Our 2025 Lenten Season series is Confession. We are learning this spiritual discipline together as we become a community of common practice. During this season of Lent\, we practice a spiritual discipline together and experience the power of the truth spoken. \nOur worship is Ancient-Future and Multi-Generational\, so you will experience elements from the past and modern innovations. We’ll hear the joyous noise of children along with mature reverence.\nWe encourage you to participate in whatever way you feel moved. \n 
URL:https://heartwood.church/events/sunday-worship-lent-2025-and-girl-scout-sunday/
LOCATION:Heartwood Church\, 6477 10th St. N.\, Oakdale\, MN\, 55128\, United States
CATEGORIES:Formation,Relationship Building,Special Event,Worship
ATTACH;FMTTYPE=image/jpeg:https://heartwood.church/wp-content/uploads/2025/02/Confession-1.jpg
END:VEVENT
BEGIN:VEVENT
DTSTART;VALUE=DATE:20250309
DTEND;VALUE=DATE:20250310
DTSTAMP:20260424T031501
CREATED:20250227T033028Z
LAST-MODIFIED:20250227T033028Z
UID:3577-1741478400-1741564799@heartwood.church
SUMMARY:Girl Scout Sunday
DESCRIPTION:Girl Scout Sunday celebrates the powerful ties between Girl Scouting and faith. Girl Scouts are encouraged to connect their faith to the Girl Scout Law and earn the religious recognitions of their faith. Let’s honor the Girl Scouts (past and present) and adult volunteers who give their time and talents in service of others! \nWorship service begins at 10:00 a.m. and group formation for all ages at 11:00 a.m.
URL:https://heartwood.church/events/girl-scout-sunday/
LOCATION:Heartwood Church\, 6477 10th St. N.\, Oakdale\, MN\, 55128\, United States
CATEGORIES:Special Event
ATTACH;FMTTYPE=image/jpeg:https://heartwood.church/wp-content/uploads/2025/02/girlscoutsunday.jpg
END:VEVENT
BEGIN:VEVENT
DTSTART;VALUE=DATE:20250308
DTEND;VALUE=DATE:20250309
DTSTAMP:20260424T031501
CREATED:20250227T032357Z
LAST-MODIFIED:20250227T032357Z
UID:3574-1741392000-1741478399@heartwood.church
SUMMARY:SPRING FORWARD!
DESCRIPTION:Remember to turn your clocks forward an hour tonight\, then join us for Worship services on Sunday\, March 9 at 10 AM!
URL:https://heartwood.church/events/spring-forward-2/
LOCATION:MN
ATTACH;FMTTYPE=image/jpeg:https://heartwood.church/wp-content/uploads/2023/02/Spring-Forward.jpg
END:VEVENT
BEGIN:VEVENT
DTSTART;TZID=America/Chicago:20250305T190000
DTEND;TZID=America/Chicago:20250305T200000
DTSTAMP:20260424T031501
CREATED:20250227T025304Z
LAST-MODIFIED:20250227T025304Z
UID:3555-1741201200-1741204800@heartwood.church
SUMMARY:Ash Wednesday - "Confession"
DESCRIPTION:During this season of Lent\, we practice a spiritual discipline together and experience the power of the truth spoken. \n  \nOur worship is Ancient-Future and Multi-Generational\, so you will experience elements from the past and modern innovations. We’ll hear the joyous noise of children along with mature reverence.\nWe encourage you to participate in whatever way you feel moved.
URL:https://heartwood.church/events/ash-wednesday-confession/
LOCATION:Heartwood Church\, 6477 10th St. N.\, Oakdale\, MN\, 55128\, United States
CATEGORIES:Formation,Relationship Building,Special Event
ATTACH;FMTTYPE=image/jpeg:https://heartwood.church/wp-content/uploads/2025/02/Confession-1.jpg
END:VEVENT
BEGIN:VEVENT
DTSTART;TZID=America/Chicago:20250302T100000
DTEND;TZID=America/Chicago:20250302T120000
DTSTAMP:20260424T031501
CREATED:20250227T022140Z
LAST-MODIFIED:20250227T022140Z
UID:3539-1740909600-1740916800@heartwood.church
SUMMARY:Sunday Worship - "Confession"
DESCRIPTION:During this season of Lent\, we practice a spiritual discipline together and experience the power of the truth spoken. \n  \nOur worship is Ancient-Future and Multi-Generational\, so you will experience elements from the past and modern innovations. We’ll hear the joyous noise of children along with mature reverence.\nWe encourage you to participate in whatever way you feel moved.
URL:https://heartwood.church/events/sunday-worship-confession/
LOCATION:Heartwood Church\, 6477 10th St. N.\, Oakdale\, MN\, 55128\, United States
CATEGORIES:Formation,Relationship Building,Worship
ATTACH;FMTTYPE=image/jpeg:https://heartwood.church/wp-content/uploads/2025/02/Confession-1.jpg
END:VEVENT
BEGIN:VEVENT
DTSTART;TZID=America/Chicago:20250216T150000
DTEND;TZID=America/Chicago:20250216T183000
DTSTAMP:20260424T031501
CREATED:20240908T123923Z
LAST-MODIFIED:20240908T123923Z
UID:3388-1739718000-1739730600@heartwood.church
SUMMARY:Standing Retreat - Stability and Julian of Norwich
DESCRIPTION:We come together to explore the Benedictine value of stability as we discuss God as creator\, redeemer\, and renewer through the life of Julian of Norwich and her visionary work Revelations of Divine Love. Participants are encouraged (but not required) to read Revelations of Divine Love (short and long texts) before the meeting. This is an oblate formation event\, so you must register through Pastor Paul.
URL:https://heartwood.church/events/standing-retreat-stability-and-julian-of-norwich/
LOCATION:St. Paul’s Monastery\, 2675 Benet Rd\, St. Paul\, 55109\, United States
CATEGORIES:Formation
ATTACH;FMTTYPE=image/png:https://heartwood.church/wp-content/uploads/2024/09/JulianOfNorwich.png.png
ORGANIZER;CN="Paul Tillman":MAILTO:pault@heartwood.church
END:VEVENT
BEGIN:VEVENT
DTSTART;VALUE=DATE:20250101
DTEND;VALUE=DATE:20250102
DTSTAMP:20260424T031501
CREATED:20240910T144840Z
LAST-MODIFIED:20240910T144840Z
UID:3432-1735689600-1735775999@heartwood.church
SUMMARY:NEW YEAR'S DAY
DESCRIPTION:
URL:https://heartwood.church/events/new-years-day-2/
LOCATION:MN
ATTACH;FMTTYPE=image/jpeg:https://heartwood.church/wp-content/uploads/2024/09/New-Year.jpg
END:VEVENT
BEGIN:VEVENT
DTSTART;VALUE=DATE:20241225
DTEND;VALUE=DATE:20241226
DTSTAMP:20260424T031501
CREATED:20240910T143733Z
LAST-MODIFIED:20240910T143733Z
UID:3428-1735084800-1735171199@heartwood.church
SUMMARY:CHRISTMAS DAY
DESCRIPTION:
URL:https://heartwood.church/events/christmas-day-3/
LOCATION:MN
ATTACH;FMTTYPE=image/jpeg:https://heartwood.church/wp-content/uploads/2019/11/bigstock-christmas-bible-verse-110463680.jpg
END:VEVENT
BEGIN:VEVENT
DTSTART;VALUE=DATE:20241224
DTEND;VALUE=DATE:20241225
DTSTAMP:20260424T031501
CREATED:20240910T143623Z
LAST-MODIFIED:20240910T143808Z
UID:3425-1734998400-1735084799@heartwood.church
SUMMARY:CHRISTMAS EVE
DESCRIPTION:
URL:https://heartwood.church/events/christmas-eve-2/
LOCATION:MN
ATTACH;FMTTYPE=image/jpeg:https://heartwood.church/wp-content/uploads/2021/11/Away-in-a-Manger.jpg
END:VEVENT
BEGIN:VEVENT
DTSTART;TZID=America/Chicago:20241222T100000
DTEND;TZID=America/Chicago:20241222T120000
DTSTAMP:20260424T031501
CREATED:20240910T143505Z
LAST-MODIFIED:20240910T143505Z
UID:3423-1734861600-1734868800@heartwood.church
SUMMARY:Sunday Worship - Angels: God's Christmas Helpers
DESCRIPTION:Our worship is Ancient-Future and Multi-Generational\, so you will experience elements from the past and modern innovations.\nWe’ll hear the joyous noise of children along with mature reverence.\nWe encourage you to participate in whatever way you feel moved.
URL:https://heartwood.church/events/sunday-worship-angels-gods-christmas-helpers-4/
LOCATION:Heartwood Church\, 6477 10th St. N.\, Oakdale\, MN\, 55128\, United States
CATEGORIES:Formation,Relationship Building,Worship
ATTACH;FMTTYPE=image/jpeg:https://heartwood.church/wp-content/uploads/2024/09/Gods-Christmas-Helpers.jpg
END:VEVENT
BEGIN:VEVENT
DTSTART;TZID=America/Chicago:20241215T080000
DTEND;TZID=America/Chicago:20241215T170000
DTSTAMP:20260424T031501
CREATED:20240910T143353Z
LAST-MODIFIED:20240910T143353Z
UID:3421-1734249600-1734282000@heartwood.church
SUMMARY:Sunday Worship - Angels: God's Christmas Helpers
DESCRIPTION:Our worship is Ancient-Future and Multi-Generational\, so you will experience elements from the past and modern innovations.\nWe’ll hear the joyous noise of children along with mature reverence.\nWe encourage you to participate in whatever way you feel moved.
URL:https://heartwood.church/events/sunday-worship-angels-gods-christmas-helpers-3/
LOCATION:Heartwood Church\, 6477 10th St. N.\, Oakdale\, MN\, 55128\, United States
CATEGORIES:Formation,Relationship Building,Worship
ATTACH;FMTTYPE=image/jpeg:https://heartwood.church/wp-content/uploads/2024/09/Gods-Christmas-Helpers.jpg
END:VEVENT
BEGIN:VEVENT
DTSTART;TZID=America/Chicago:20241208T100000
DTEND;TZID=America/Chicago:20241208T120000
DTSTAMP:20260424T031501
CREATED:20240910T143233Z
LAST-MODIFIED:20240910T143233Z
UID:3419-1733652000-1733659200@heartwood.church
SUMMARY:Sunday Worship - Angels: God's Christmas Helpers
DESCRIPTION:Our worship is Ancient-Future and Multi-Generational\, so you will experience elements from the past and modern innovations.\nWe’ll hear the joyous noise of children along with mature reverence.\nWe encourage you to participate in whatever way you feel moved.
URL:https://heartwood.church/events/sunday-worship-angels-gods-christmas-helpers-2/
LOCATION:Heartwood Church\, 6477 10th St. N.\, Oakdale\, MN\, 55128\, United States
CATEGORIES:Formation,Relationship Building,Worship
ATTACH;FMTTYPE=image/jpeg:https://heartwood.church/wp-content/uploads/2024/09/Gods-Christmas-Helpers.jpg
END:VEVENT
BEGIN:VEVENT
DTSTART;TZID=America/Chicago:20241201T100000
DTEND;TZID=America/Chicago:20241201T120000
DTSTAMP:20260424T031501
CREATED:20240910T142340Z
LAST-MODIFIED:20240910T142340Z
UID:3416-1733047200-1733054400@heartwood.church
SUMMARY:Sunday Worship - Angels: God's Christmas Helpers
DESCRIPTION:Our worship is Ancient-Future and Multi-Generational\, so you will experience elements from the past and modern innovations.\nWe’ll hear the joyous noise of children along with mature reverence.\nWe encourage you to participate in whatever way you feel moved.
URL:https://heartwood.church/events/sunday-worship-angels-gods-christmas-helpers/
LOCATION:Heartwood Church\, 6477 10th St. N.\, Oakdale\, MN\, 55128\, United States
CATEGORIES:Formation,Relationship Building,Worship
ATTACH;FMTTYPE=image/jpeg:https://heartwood.church/wp-content/uploads/2024/09/Gods-Christmas-Helpers.jpg
END:VEVENT
BEGIN:VEVENT
DTSTART;VALUE=DATE:20241128
DTEND;VALUE=DATE:20241129
DTSTAMP:20260424T031501
CREATED:20240910T143946Z
LAST-MODIFIED:20240910T143946Z
UID:3430-1732752000-1732838399@heartwood.church
SUMMARY:THANKSGIVING DAY
DESCRIPTION:
URL:https://heartwood.church/events/thanksgiving-day-4/
LOCATION:MN
ATTACH;FMTTYPE=image/jpeg:https://heartwood.church/wp-content/uploads/2021/10/Happy-Thanksgiving-Day-Images-2.jpg
END:VEVENT
BEGIN:VEVENT
DTSTART;TZID=America/Chicago:20241124T103000
DTEND;TZID=America/Chicago:20241124T140000
DTSTAMP:20260424T031501
CREATED:20240906T143656Z
LAST-MODIFIED:20240906T143656Z
UID:3382-1732444200-1732456800@heartwood.church
SUMMARY:2024 Thanksgiving Worship Service and International Potluck
DESCRIPTION:Heartwood Church\, Shekinah God’s Glory Church\, and Everlasting City Church will worship together\, give thanks\, unified in Christ and sharing our diversity through food!
URL:https://heartwood.church/events/2024-thanksgiving-worship-service-and-international-potluck/
LOCATION:Heartwood Church\, 6477 10th St. N.\, Oakdale\, MN\, 55128\, United States
CATEGORIES:Relationship Building,Worship
ATTACH;FMTTYPE=image/jpeg:https://heartwood.church/wp-content/uploads/2024/09/Combined-Service.jpg
END:VEVENT
BEGIN:VEVENT
DTSTART;TZID=America/Chicago:20241117T100000
DTEND;TZID=America/Chicago:20241117T120000
DTSTAMP:20260424T031501
CREATED:20240906T135055Z
LAST-MODIFIED:20240906T135055Z
UID:3376-1731837600-1731844800@heartwood.church
SUMMARY:Chosen People Ministries - Advent\, Hanukkah\, Christmas
DESCRIPTION:“But the angel said to them\, ‘Do not be afraid; for behold\, I bring you good news of great joy which will be for all the people; for today in the city of David there has been born for you a Savior\, who is Christ the Lord’” (Luke 2:10–11). \nYou probably do not think of the Christmas season as being very Jewish. In fact\, most people believe Christmas and Judaism are completely unrelated. However\, if you explore God’s Word\, you will find that the birth of the Messiah is very Jewish! In this presentation\, we will explore biblical prophecy as it relates to Jesus’ first coming—the promised Messiah of the Jewish people and the Savior of the world. \nTrevor Rubenstein from Chosen People Ministries will be our speaker.
URL:https://heartwood.church/events/chosen-people-ministries-advent-hanukkah-christmas/
LOCATION:Heartwood Church\, 6477 10th St. N.\, Oakdale\, MN\, 55128\, United States
CATEGORIES:Worship
ATTACH;FMTTYPE=image/jpeg:https://heartwood.church/wp-content/uploads/2024/09/Hanukkah-1500x1000-1.jpg
END:VEVENT
BEGIN:VEVENT
DTSTART;TZID=America/Chicago:20241110T100000
DTEND;TZID=America/Chicago:20241110T120000
DTSTAMP:20260424T031501
CREATED:20240910T142037Z
LAST-MODIFIED:20240910T142037Z
UID:3414-1731232800-1731240000@heartwood.church
SUMMARY:Sunday Worship - Walking in the Spirit
DESCRIPTION:Our worship is Ancient-Future and Multi-Generational\, so you will experience elements from the past and modern innovations.\nWe’ll hear the joyous noise of children along with mature reverence.\nWe encourage you to participate in whatever way you feel moved.
URL:https://heartwood.church/events/sunday-worship-walking-in-the-spirit-10/
LOCATION:Heartwood Church\, 6477 10th St. N.\, Oakdale\, MN\, 55128\, United States
CATEGORIES:Formation,Relationship Building,Worship
ATTACH;FMTTYPE=image/png:https://heartwood.church/wp-content/uploads/2024/09/1725505113403blob.png
END:VEVENT
BEGIN:VEVENT
DTSTART;TZID=America/Chicago:20241103T100000
DTEND;TZID=America/Chicago:20241103T120000
DTSTAMP:20260424T031501
CREATED:20240910T141843Z
LAST-MODIFIED:20240910T141843Z
UID:3412-1730628000-1730635200@heartwood.church
SUMMARY:Sunday Worship - Walking in the Spirit
DESCRIPTION:Our worship is Ancient-Future and Multi-Generational\, so you will experience elements from the past and modern innovations.\nWe’ll hear the joyous noise of children along with mature reverence.\nWe encourage you to participate in whatever way you feel moved.
URL:https://heartwood.church/events/sunday-worship-walking-in-the-spirit-9/
LOCATION:Heartwood Church\, 6477 10th St. N.\, Oakdale\, MN\, 55128\, United States
CATEGORIES:Formation,Relationship Building,Worship
ATTACH;FMTTYPE=image/png:https://heartwood.church/wp-content/uploads/2024/09/1725505113403blob.png
END:VEVENT
BEGIN:VEVENT
DTSTART;TZID=America/Chicago:20241027T100000
DTEND;TZID=America/Chicago:20241027T120000
DTSTAMP:20260424T031501
CREATED:20240910T141518Z
LAST-MODIFIED:20240910T141518Z
UID:3410-1730023200-1730030400@heartwood.church
SUMMARY:Sunday Worship - Walking in the Spirit
DESCRIPTION:Our worship is Ancient-Future and Multi-Generational\, so you will experience elements from the past and modern innovations.\nWe’ll hear the joyous noise of children along with mature reverence.\nWe encourage you to participate in whatever way you feel moved.
URL:https://heartwood.church/events/sunday-worship-walking-in-the-spirit-8/
LOCATION:Heartwood Church\, 6477 10th St. N.\, Oakdale\, MN\, 55128\, United States
CATEGORIES:Formation,Relationship Building,Worship
ATTACH;FMTTYPE=image/png:https://heartwood.church/wp-content/uploads/2024/09/1725505113403blob.png
END:VEVENT
BEGIN:VEVENT
DTSTART;TZID=America/Chicago:20241020T100000
DTEND;TZID=America/Chicago:20241020T120000
DTSTAMP:20260424T031501
CREATED:20240910T141350Z
LAST-MODIFIED:20240910T141738Z
UID:3408-1729418400-1729425600@heartwood.church
SUMMARY:Sunday Worship - Walking in the Spirit
DESCRIPTION:Our worship is Ancient-Future and Multi-Generational\, so you will experience elements from the past and modern innovations.\nWe’ll hear the joyous noise of children along with mature reverence.\nWe encourage you to participate in whatever way you feel moved.
URL:https://heartwood.church/events/sunday-worship-walking-in-the-spirit-7/
LOCATION:Heartwood Church\, 6477 10th St. N.\, Oakdale\, MN\, 55128\, United States
CATEGORIES:Formation,Relationship Building,Worship
ATTACH;FMTTYPE=image/png:https://heartwood.church/wp-content/uploads/2024/09/1725505113403blob.png
END:VEVENT
BEGIN:VEVENT
DTSTART;TZID=America/Chicago:20241013T100000
DTEND;TZID=America/Chicago:20241013T120000
DTSTAMP:20260424T031501
CREATED:20240910T141054Z
LAST-MODIFIED:20240910T141054Z
UID:3405-1728813600-1728820800@heartwood.church
SUMMARY:Sunday Worship - Walking in the Spirit
DESCRIPTION:Our worship is Ancient-Future and Multi-Generational\, so you will experience elements from the past and modern innovations.\nWe’ll hear the joyous noise of children along with mature reverence.\nWe encourage you to participate in whatever way you feel moved.
URL:https://heartwood.church/events/sunday-worship-walking-in-the-spirit-6/
LOCATION:Heartwood Church\, 6477 10th St. N.\, Oakdale\, MN\, 55128\, United States
CATEGORIES:Formation,Relationship Building,Worship
ATTACH;FMTTYPE=image/png:https://heartwood.church/wp-content/uploads/2024/09/1725505113403blob.png
END:VEVENT
BEGIN:VEVENT
DTSTART;TZID=America/Chicago:20241008T100000
DTEND;TZID=America/Chicago:20241008T120000
DTSTAMP:20260424T031501
CREATED:20240906T134226Z
LAST-MODIFIED:20240906T134420Z
UID:3373-1728381600-1728388800@heartwood.church
SUMMARY:Darla Foss Memorial Service
DESCRIPTION:FOSS Juanita Darla (née Biebighauser)\, Known as Darla\, passed away on August 23\, 2024\, in Spooner\, Wisconsin\, at the age of 86. Born on May 20\, 1938\, in Woodbury\, Minnesota\, she was a cherished member of her community and a beloved figure within her family. \nDarla is survived by a loving family\, including her brother David Biebighauser; her sons Jonathan\, David and James Deal; her daughter Jennifer Janski; and numerous grandchildren and great-grand children. She was preceded in death by her parents Corwin and Mabel Biebighauser; her husband Robert Foss Sr.; her sister Bonita Williams; her brother Charles Biebighauser; her children Carla Marie Deal\, Mark Deal and William Deal; and her great-granddaughter Keira Truehart. \nA visitation and funeral service will be held in her honor at The Grove United Methodist Church (Woodbury Methodist) 7465 Steepleview Rd.\, Woodbury\, MN 55125 on October 8th. Visitation will be from 10:00 AM to 11:00 AM. The funeral service will start at 11:00 AM\, with burial to follow at the Woodbury Methodist Cemetery. Those wishing to honor Darla’s memory may make contributions to Heartwood Church (Oakdale Wesleyan) at 6477 10th St. N.\, Oakdale\, MN 55128.
URL:https://heartwood.church/events/darla-foss-memorial-service/
LOCATION:The Grove United Methodist Church\, 7465 Steepleview Rd\, Woodbury\, MN\, 55125
CATEGORIES:Memorial Service
END:VEVENT
END:VCALENDAR