BEGIN:VCALENDAR
VERSION:2.0
PRODID:-//Heartwood Church - ECPv6.15.10//NONSGML v1.0//EN
CALSCALE:GREGORIAN
METHOD:PUBLISH
X-WR-CALNAME:Heartwood Church
X-ORIGINAL-URL:https://heartwood.church
X-WR-CALDESC:Events for Heartwood Church
REFRESH-INTERVAL;VALUE=DURATION:PT1H
X-Robots-Tag:noindex
X-PUBLISHED-TTL:PT1H
BEGIN:VTIMEZONE
TZID:America/Chicago
BEGIN:DAYLIGHT
TZOFFSETFROM:-0600
TZOFFSETTO:-0500
TZNAME:CDT
DTSTART:20240310T080000
END:DAYLIGHT
BEGIN:STANDARD
TZOFFSETFROM:-0500
TZOFFSETTO:-0600
TZNAME:CST
DTSTART:20241103T070000
END:STANDARD
BEGIN:DAYLIGHT
TZOFFSETFROM:-0600
TZOFFSETTO:-0500
TZNAME:CDT
DTSTART:20250309T080000
END:DAYLIGHT
BEGIN:STANDARD
TZOFFSETFROM:-0500
TZOFFSETTO:-0600
TZNAME:CST
DTSTART:20251102T070000
END:STANDARD
BEGIN:DAYLIGHT
TZOFFSETFROM:-0600
TZOFFSETTO:-0500
TZNAME:CDT
DTSTART:20260308T080000
END:DAYLIGHT
BEGIN:STANDARD
TZOFFSETFROM:-0500
TZOFFSETTO:-0600
TZNAME:CST
DTSTART:20261101T070000
END:STANDARD
END:VTIMEZONE
BEGIN:VEVENT
DTSTART;TZID=America/Chicago:20251005T100000
DTEND;TZID=America/Chicago:20251005T120000
DTSTAMP:20260424T112316
CREATED:20250807T194522Z
LAST-MODIFIED:20250807T194522Z
UID:3735-1759658400-1759665600@heartwood.church
SUMMARY:Sunday Worship - "Journey Through the Creed"
DESCRIPTION:Join us for Journey Through the Creed\, an 8-week adventure diving into the Apostles’ Creed — the foundational beliefs shared by Christians across history and around the world.\nTogether\, we’ll discover what we believe\, why it matters\, and how living God’s story changes the way we live every day. All are welcome to be part of this journey — let’s grow in faith and community! \n\nOur worship is Ancient-Future and Multi-Generational\, so you will experience elements from the past and modern innovations. We’ll hear the joyous noise of children along with mature reverence.\nWe encourage you to participate in whatever way you feel moved.
URL:https://heartwood.church/events/sunday-worship-journey-through-the-creed-6/
LOCATION:Heartwood Church\, 6477 10th St. N.\, Oakdale\, MN\, 55128\, United States
CATEGORIES:Formation,Relationship Building,Worship
ATTACH;FMTTYPE=image/jpeg:https://heartwood.church/wp-content/uploads/2025/08/Journey-Through-the-Creed-1.jpg
END:VEVENT
BEGIN:VEVENT
DTSTART;TZID=America/Chicago:20251012T100000
DTEND;TZID=America/Chicago:20251012T120000
DTSTAMP:20260424T112316
CREATED:20250807T194634Z
LAST-MODIFIED:20250807T194634Z
UID:3737-1760263200-1760270400@heartwood.church
SUMMARY:Sunday Worship - "Journey Through the Creed"
DESCRIPTION:Join us for Journey Through the Creed\, an 8-week adventure diving into the Apostles’ Creed — the foundational beliefs shared by Christians across history and around the world.\nTogether\, we’ll discover what we believe\, why it matters\, and how living God’s story changes the way we live every day. All are welcome to be part of this journey — let’s grow in faith and community! \n\nOur worship is Ancient-Future and Multi-Generational\, so you will experience elements from the past and modern innovations. We’ll hear the joyous noise of children along with mature reverence.\nWe encourage you to participate in whatever way you feel moved.
URL:https://heartwood.church/events/sunday-worship-journey-through-the-creed-7/
LOCATION:Heartwood Church\, 6477 10th St. N.\, Oakdale\, MN\, 55128\, United States
CATEGORIES:Formation,Relationship Building,Worship
ATTACH;FMTTYPE=image/jpeg:https://heartwood.church/wp-content/uploads/2025/08/Journey-Through-the-Creed-1.jpg
END:VEVENT
BEGIN:VEVENT
DTSTART;TZID=America/Chicago:20251019T100000
DTEND;TZID=America/Chicago:20251019T120000
DTSTAMP:20260424T112316
CREATED:20250807T194744Z
LAST-MODIFIED:20250807T194744Z
UID:3739-1760868000-1760875200@heartwood.church
SUMMARY:Sunday Worship - "Journey Through the Creed"
DESCRIPTION:Join us for Journey Through the Creed\, an 8-week adventure diving into the Apostles’ Creed — the foundational beliefs shared by Christians across history and around the world.\nTogether\, we’ll discover what we believe\, why it matters\, and how living God’s story changes the way we live every day. All are welcome to be part of this journey — let’s grow in faith and community! \n\nOur worship is Ancient-Future and Multi-Generational\, so you will experience elements from the past and modern innovations. We’ll hear the joyous noise of children along with mature reverence.\nWe encourage you to participate in whatever way you feel moved.
URL:https://heartwood.church/events/sunday-worship-journey-through-the-creed-8/
LOCATION:Heartwood Church\, 6477 10th St. N.\, Oakdale\, MN\, 55128\, United States
CATEGORIES:Formation,Relationship Building,Worship
ATTACH;FMTTYPE=image/jpeg:https://heartwood.church/wp-content/uploads/2025/08/Journey-Through-the-Creed-1.jpg
END:VEVENT
BEGIN:VEVENT
DTSTART;TZID=America/Chicago:20251026T100000
DTEND;TZID=America/Chicago:20251026T120000
DTSTAMP:20260424T112316
CREATED:20250807T193408Z
LAST-MODIFIED:20250807T193408Z
UID:3727-1761472800-1761480000@heartwood.church
SUMMARY:Sunday Worship - "Journey Through the Creed"
DESCRIPTION:Join us for Journey Through the Creed\, an 8-week adventure diving into the Apostles’ Creed — the foundational beliefs shared by Christians across history and around the world.\nTogether\, we’ll discover what we believe\, why it matters\, and how living God’s story changes the way we live every day. All are welcome to be part of this journey — let’s grow in faith and community! \n\nOur worship is Ancient-Future and Multi-Generational\, so you will experience elements from the past and modern innovations. We’ll hear the joyous noise of children along with mature reverence.\nWe encourage you to participate in whatever way you feel moved.
URL:https://heartwood.church/events/sunday-worship-journey-through-the-creed-2/
LOCATION:Heartwood Church\, 6477 10th St. N.\, Oakdale\, MN\, 55128\, United States
CATEGORIES:Formation,Relationship Building,Worship
ATTACH;FMTTYPE=image/jpeg:https://heartwood.church/wp-content/uploads/2025/08/Journey-Through-the-Creed-1.jpg
END:VEVENT
BEGIN:VEVENT
DTSTART;TZID=America/Chicago:20251030T110000
DTEND;TZID=America/Chicago:20251030T170000
DTSTAMP:20260424T112316
CREATED:20250826T124834Z
LAST-MODIFIED:20250908T215703Z
UID:3933-1761822000-1761843600@heartwood.church
SUMMARY:Fall 2025 Red Cross Blood Drive
DESCRIPTION:Get in the spirit of saving lives! Join the community Red Cross blood drive at Heartwood Church. \n\n\n\nThis fall season\, your donation can help harvest hope for patients in need. Get into the spirit: Schedule your blood\, platelet or AB Elite plasma donation today. \n\n\n\nCome to give blood\, platelets or AB Elite plasma Oct. 20-Nov. 16\, 2025 and you’ll get a $10 e-gift card to the merchant of your choice.* Plus\, as an extra thank-you\, you’ll automatically be entered for a chance to win one of three $5\,000 gift cards!^^ It’s our way of saying\, “Thanks for giving!”
URL:https://heartwood.church/events/fall-2025-red-cross-blood-drive/
LOCATION:Heartwood Church\, 6477 10th St. N.\, Oakdale\, MN\, 55128\, United States
ATTACH;FMTTYPE=image/png:https://heartwood.church/wp-content/uploads/2025/08/Screenshot-2025-08-24-092852.png
END:VEVENT
END:VCALENDAR