BEGIN:VCALENDAR
VERSION:2.0
PRODID:-//Heartwood Church - ECPv6.15.10//NONSGML v1.0//EN
CALSCALE:GREGORIAN
METHOD:PUBLISH
X-ORIGINAL-URL:https://heartwood.church
X-WR-CALDESC:Events for Heartwood Church
REFRESH-INTERVAL;VALUE=DURATION:PT1H
X-Robots-Tag:noindex
X-PUBLISHED-TTL:PT1H
BEGIN:VTIMEZONE
TZID:America/Chicago
BEGIN:DAYLIGHT
TZOFFSETFROM:-0600
TZOFFSETTO:-0500
TZNAME:CDT
DTSTART:20250309T080000
END:DAYLIGHT
BEGIN:STANDARD
TZOFFSETFROM:-0500
TZOFFSETTO:-0600
TZNAME:CST
DTSTART:20251102T070000
END:STANDARD
BEGIN:DAYLIGHT
TZOFFSETFROM:-0600
TZOFFSETTO:-0500
TZNAME:CDT
DTSTART:20260308T080000
END:DAYLIGHT
BEGIN:STANDARD
TZOFFSETFROM:-0500
TZOFFSETTO:-0600
TZNAME:CST
DTSTART:20261101T070000
END:STANDARD
BEGIN:DAYLIGHT
TZOFFSETFROM:-0600
TZOFFSETTO:-0500
TZNAME:CDT
DTSTART:20270314T080000
END:DAYLIGHT
BEGIN:STANDARD
TZOFFSETFROM:-0500
TZOFFSETTO:-0600
TZNAME:CST
DTSTART:20271107T070000
END:STANDARD
END:VTIMEZONE
BEGIN:VEVENT
DTSTART;TZID=America/Chicago:20260301T100000
DTEND;TZID=America/Chicago:20260301T120000
DTSTAMP:20260423T100205
CREATED:20260312T020547Z
LAST-MODIFIED:20260312T020843Z
UID:5827-1772359200-1772366400@heartwood.church
SUMMARY:Sunday Worship - "Redirect"
DESCRIPTION:Our worship is Ancient-Future and Multi-Generational\, so you will experience elements from the past and modern innovations. We’ll hear the joyous noise of children along with mature reverence.We encourage you to participate in whatever way you feel moved.
URL:https://heartwood.church/events/5827/
LOCATION:Heartwood Church\, 6477 10th St. N.\, Oakdale\, MN\, 55128\, United States
CATEGORIES:Formation,Relationship Building,Worship
ATTACH;FMTTYPE=image/jpeg:https://heartwood.church/wp-content/uploads/2026/03/Redirect.jpg
END:VEVENT
BEGIN:VEVENT
DTSTART;TZID=America/Chicago:20260308T100000
DTEND;TZID=America/Chicago:20260308T120000
DTSTAMP:20260423T100205
CREATED:20260312T020423Z
LAST-MODIFIED:20260312T020426Z
UID:5826-1772964000-1772971200@heartwood.church
SUMMARY:Sunday Worship - "Redirect"
DESCRIPTION:Our worship is Ancient-Future and Multi-Generational\, so you will experience elements from the past and modern innovations. We’ll hear the joyous noise of children along with mature reverence.We encourage you to participate in whatever way you feel moved.
URL:https://heartwood.church/events/sunday-worship-redirect-4/
LOCATION:Heartwood Church\, 6477 10th St. N.\, Oakdale\, MN\, 55128\, United States
CATEGORIES:Formation,Relationship Building,Worship
ATTACH;FMTTYPE=image/jpeg:https://heartwood.church/wp-content/uploads/2026/03/Redirect.jpg
END:VEVENT
BEGIN:VEVENT
DTSTART;TZID=America/Chicago:20260315T100000
DTEND;TZID=America/Chicago:20260315T120000
DTSTAMP:20260423T100205
CREATED:20260312T015409Z
LAST-MODIFIED:20260312T015557Z
UID:5819-1773568800-1773576000@heartwood.church
SUMMARY:Sunday Worship - "Redirect"
DESCRIPTION:Our worship is Ancient-Future and Multi-Generational\, so you will experience elements from the past and modern innovations. We’ll hear the joyous noise of children along with mature reverence.We encourage you to participate in whatever way you feel moved.
URL:https://heartwood.church/events/sunday-worship-redirect/
LOCATION:Heartwood Church\, 6477 10th St. N.\, Oakdale\, MN\, 55128\, United States
CATEGORIES:Formation,Relationship Building,Worship
ATTACH;FMTTYPE=image/jpeg:https://heartwood.church/wp-content/uploads/2026/03/Redirect.jpg
END:VEVENT
BEGIN:VEVENT
DTSTART;TZID=America/Chicago:20260316T180000
DTEND;TZID=America/Chicago:20260316T193000
DTSTAMP:20260423T100205
CREATED:20260311T200447Z
LAST-MODIFIED:20260313T000842Z
UID:5813-1773684000-1773689400@heartwood.church
SUMMARY:Settled Community Dinner March 2026
DESCRIPTION:We spend the third Monday each month together\, at the table\, to share a meal\, to laugh\, to swap stories\, to encourage one another\, and to hear about opportunities to be involved with Settled. We’ll start at 6 p.m. and wrap up around 7:30 p.m. We hope you will join us! \n\n\n\nIt’s almost St. Patrick’s Day so bring an Irish dish to celebrate! (This theme is optional.) You can sign up to help with setup/cleanup or to bring a dish to share here.  \n\n\n\nLearn more about Settled here.
URL:https://heartwood.church/events/settled-community-dinner-2/
LOCATION:Heartwood Church\, 6477 10th St. N.\, Oakdale\, MN\, 55128\, United States
CATEGORIES:Relationship Building,Settled Community Event
ORGANIZER;CN="Pastor Ashlyn Luttrell":MAILTO:AshlynL@heartwood.church
END:VEVENT
BEGIN:VEVENT
DTSTART;TZID=America/Chicago:20260318T173000
DTEND;TZID=America/Chicago:20260318T190000
DTSTAMP:20260423T100205
CREATED:20260313T004328Z
LAST-MODIFIED:20260313T005326Z
UID:5872-1773855000-1773860400@heartwood.church
SUMMARY:Common Table
DESCRIPTION:Meet at the Luttrell’s (parsonage) for a casual meal and good conversation. We discuss a question about Lent each week.  \n\n\n\nLet Pastor Ashlyn know if you plan to attend
URL:https://heartwood.church/events/common-table/
LOCATION:Heartwood Parsonage
CATEGORIES:Formation,Relationship Building
ORGANIZER;CN="Pastor Ashlyn Luttrell":MAILTO:ashlynl@hearwood.church
END:VEVENT
BEGIN:VEVENT
DTSTART;TZID=America/Chicago:20260321T123000
DTEND;TZID=America/Chicago:20260321T153000
DTSTAMP:20260423T100205
CREATED:20260313T004453Z
LAST-MODIFIED:20260313T004453Z
UID:5868-1774096200-1774107000@heartwood.church
SUMMARY:Pew Sisters - Visiting Bernice
DESCRIPTION:Meet at the church at 12:30 PM to carpool or meet at Bernice’s at 1 PM \n\n\n\nPlease let Glenda know if you plan to attend.
URL:https://heartwood.church/events/pew-sisters-visiting-bernice/
LOCATION:MN
CATEGORIES:Relationship Building
END:VEVENT
BEGIN:VEVENT
DTSTART;TZID=America/Chicago:20260322T100000
DTEND;TZID=America/Chicago:20260322T120000
DTSTAMP:20260423T100205
CREATED:20260312T020006Z
LAST-MODIFIED:20260312T020007Z
UID:5822-1774173600-1774180800@heartwood.church
SUMMARY:Sunday Worship - "Redirect"
DESCRIPTION:Our worship is Ancient-Future and Multi-Generational\, so you will experience elements from the past and modern innovations. We’ll hear the joyous noise of children along with mature reverence.We encourage you to participate in whatever way you feel moved.
URL:https://heartwood.church/events/sunday-worship-redirect-2/
LOCATION:Heartwood Church\, 6477 10th St. N.\, Oakdale\, MN\, 55128\, United States
CATEGORIES:Formation,Relationship Building,Worship
ATTACH;FMTTYPE=image/jpeg:https://heartwood.church/wp-content/uploads/2026/03/Redirect.jpg
END:VEVENT
BEGIN:VEVENT
DTSTART;TZID=America/Chicago:20260325T173000
DTEND;TZID=America/Chicago:20260325T190000
DTSTAMP:20260423T100205
CREATED:20260313T004636Z
LAST-MODIFIED:20260313T005238Z
UID:5880-1774459800-1774465200@heartwood.church
SUMMARY:Common Table
DESCRIPTION:Meet at the Luttrell’s (parsonage) for a casual meal and good conversation. We discuss a question about Lent each week.  \n\n\n\nLet Pastor Ashlyn know if you plan to attend
URL:https://heartwood.church/events/common-table-2/
LOCATION:Heartwood Parsonage
CATEGORIES:Formation,Relationship Building
ORGANIZER;CN="Pastor Ashlyn Luttrell":MAILTO:ashlynl@hearwood.church
END:VEVENT
BEGIN:VEVENT
DTSTART;TZID=America/Chicago:20260329T000000
DTEND;TZID=America/Chicago:20260329T235959
DTSTAMP:20260423T100205
CREATED:20260312T022934Z
LAST-MODIFIED:20260312T022939Z
UID:5842-1774742400-1774828799@heartwood.church
SUMMARY:PALM SUNDAY
DESCRIPTION:
URL:https://heartwood.church/events/palm-sunday-4/
LOCATION:MN
CATEGORIES:Special Event
ATTACH;FMTTYPE=image/jpeg:https://heartwood.church/wp-content/uploads/2019/04/30881-palmbranches-palms-palmsunday.1200w.tn_.jpg
END:VEVENT
BEGIN:VEVENT
DTSTART;TZID=America/Chicago:20260329T100000
DTEND;TZID=America/Chicago:20260329T120000
DTSTAMP:20260423T100205
CREATED:20260312T020214Z
LAST-MODIFIED:20260312T020216Z
UID:5823-1774778400-1774785600@heartwood.church
SUMMARY:Sunday Worship - "Redirect"
DESCRIPTION:Our worship is Ancient-Future and Multi-Generational\, so you will experience elements from the past and modern innovations. We’ll hear the joyous noise of children along with mature reverence.We encourage you to participate in whatever way you feel moved.
URL:https://heartwood.church/events/sunday-worship-redirect-3/
LOCATION:Heartwood Church\, 6477 10th St. N.\, Oakdale\, MN\, 55128\, United States
CATEGORIES:Formation,Relationship Building,Worship
ATTACH;FMTTYPE=image/jpeg:https://heartwood.church/wp-content/uploads/2026/03/Redirect.jpg
END:VEVENT
END:VCALENDAR